BEGIN:VCALENDAR
VERSION:2.0
PRODID:-//Sports Card Investor - ECPv6.15.20//NONSGML v1.0//EN
CALSCALE:GREGORIAN
METHOD:PUBLISH
X-WR-CALNAME:Sports Card Investor
X-ORIGINAL-URL:https://www.sportscardinvestor.com
X-WR-CALDESC:Events for Sports Card Investor
REFRESH-INTERVAL;VALUE=DURATION:PT1H
X-Robots-Tag:noindex
X-PUBLISHED-TTL:PT1H
BEGIN:VTIMEZONE
TZID:America/New_York
BEGIN:DAYLIGHT
TZOFFSETFROM:-0500
TZOFFSETTO:-0400
TZNAME:EDT
DTSTART:20250309T070000
END:DAYLIGHT
BEGIN:STANDARD
TZOFFSETFROM:-0400
TZOFFSETTO:-0500
TZNAME:EST
DTSTART:20251102T060000
END:STANDARD
BEGIN:DAYLIGHT
TZOFFSETFROM:-0500
TZOFFSETTO:-0400
TZNAME:EDT
DTSTART:20260308T070000
END:DAYLIGHT
BEGIN:STANDARD
TZOFFSETFROM:-0400
TZOFFSETTO:-0500
TZNAME:EST
DTSTART:20261101T060000
END:STANDARD
BEGIN:DAYLIGHT
TZOFFSETFROM:-0500
TZOFFSETTO:-0400
TZNAME:EDT
DTSTART:20270314T070000
END:DAYLIGHT
BEGIN:STANDARD
TZOFFSETFROM:-0400
TZOFFSETTO:-0500
TZNAME:EST
DTSTART:20271107T060000
END:STANDARD
END:VTIMEZONE
BEGIN:VTIMEZONE
TZID:America/Kentucky/Louisville
BEGIN:DAYLIGHT
TZOFFSETFROM:-0500
TZOFFSETTO:-0400
TZNAME:EDT
DTSTART:20250309T070000
END:DAYLIGHT
BEGIN:STANDARD
TZOFFSETFROM:-0400
TZOFFSETTO:-0500
TZNAME:EST
DTSTART:20251102T060000
END:STANDARD
BEGIN:DAYLIGHT
TZOFFSETFROM:-0500
TZOFFSETTO:-0400
TZNAME:EDT
DTSTART:20260308T070000
END:DAYLIGHT
BEGIN:STANDARD
TZOFFSETFROM:-0400
TZOFFSETTO:-0500
TZNAME:EST
DTSTART:20261101T060000
END:STANDARD
BEGIN:DAYLIGHT
TZOFFSETFROM:-0500
TZOFFSETTO:-0400
TZNAME:EDT
DTSTART:20270314T070000
END:DAYLIGHT
BEGIN:STANDARD
TZOFFSETFROM:-0400
TZOFFSETTO:-0500
TZNAME:EST
DTSTART:20271107T060000
END:STANDARD
END:VTIMEZONE
BEGIN:VEVENT
DTSTART;TZID=America/New_York:20260424T120000
DTEND;TZID=America/New_York:20260424T180000
DTSTAMP:20260423T110948
CREATED:20260107T204056Z
LAST-MODIFIED:20260107T204056Z
UID:65392-1777032000-1777053600@www.sportscardinvestor.com
SUMMARY:Texoma Trading Card Expo
DESCRIPTION:Thursday Load in 9-5 / Vip NFL Draft Party 6 -Till\nFriday- 12-6 General Admission / 9-6 VIP Admission\nSaturday 10-6 General Admission / 9-6 VIP Admission\nSunday 10-6 General Admission / 9-6 VIP Admission
URL:https://www.sportscardinvestor.com/event/texoma-trading-card-expo/2026-04-24/
LOCATION:Choctaw Casino & Resort Event Center\, 3735 Choctaw Rd\, Durant\, OK\, 74701\, United States
CATEGORIES:Card Shows
ORGANIZER;CN="Tony Goza":MAILTO:info@texomaexpo.com
END:VEVENT
BEGIN:VEVENT
DTSTART;TZID=America/New_York:20260425T090000
DTEND;TZID=America/New_York:20260425T150000
DTSTAMP:20260423T110948
CREATED:20260129T192712Z
LAST-MODIFIED:20260129T192712Z
UID:65529-1777107600-1777129200@www.sportscardinvestor.com
SUMMARY:Neptune Sports Card & Collectibles Show
DESCRIPTION:Tables: 30 ($40)
URL:https://www.sportscardinvestor.com/event/neptune-sports-card-collectibles-show-4/
LOCATION:American Legion Post 346\, 21 Gully Road\, Neptune\, NJ
CATEGORIES:Card Shows
GEO:40.2041595;-74.0813665
X-APPLE-STRUCTURED-LOCATION;VALUE=URI;X-ADDRESS=American Legion Post 346 21 Gully Road Neptune NJ;X-APPLE-RADIUS=500;X-TITLE=21 Gully Road:geo:-74.0813665,40.2041595
END:VEVENT
BEGIN:VEVENT
DTSTART;TZID=America/New_York:20260425T090000
DTEND;TZID=America/New_York:20260425T160000
DTSTAMP:20260423T110948
CREATED:20260126T215322Z
LAST-MODIFIED:20260126T215322Z
UID:65505-1777107600-1777132800@www.sportscardinvestor.com
SUMMARY:SoCo Card Show
DESCRIPTION:
URL:https://www.sportscardinvestor.com/event/soco-card-show/2026-04-25/
LOCATION:Pueblo Community College Ballroom\, 900 W Orman Ave\, Pueblo\, CO\, 81004\, United States
CATEGORIES:Card Shows
ORGANIZER;CN="Jeremy Wade Aragon":MAILTO:sococardshows@gmail.com
GEO:38.2634297;-104.6378312
X-APPLE-STRUCTURED-LOCATION;VALUE=URI;X-ADDRESS=Pueblo Community College Ballroom 900 W Orman Ave Pueblo CO 81004 United States;X-APPLE-RADIUS=500;X-TITLE=900 W Orman Ave:geo:-104.6378312,38.2634297
END:VEVENT
BEGIN:VEVENT
DTSTART;TZID=America/New_York:20260425T090000
DTEND;TZID=America/New_York:20260425T160000
DTSTAMP:20260423T110948
CREATED:20260421T135153Z
LAST-MODIFIED:20260421T135153Z
UID:65891-1777107600-1777132800@www.sportscardinvestor.com
SUMMARY:Rare Bear E. Collectibles
DESCRIPTION:
URL:https://www.sportscardinvestor.com/event/rare-bear-e-collectibles/2026-04-25/
LOCATION:New Port Richey Quality Inn\, 5316 US 19 North\, New Port Richey\, FL\, 34652\, United States
CATEGORIES:Card Shows
ORGANIZER;CN="Lori":MAILTO:Rarebeare@gmail.com
GEO:28.2369523;-82.7266859
X-APPLE-STRUCTURED-LOCATION;VALUE=URI;X-ADDRESS=New Port Richey Quality Inn 5316 US 19 North New Port Richey FL 34652 United States;X-APPLE-RADIUS=500;X-TITLE=5316 US 19 North:geo:-82.7266859,28.2369523
END:VEVENT
BEGIN:VEVENT
DTSTART;TZID=America/New_York:20260425T100000
DTEND;TZID=America/New_York:20260425T180000
DTSTAMP:20260423T110948
CREATED:20260107T204056Z
LAST-MODIFIED:20260107T204056Z
UID:65395-1777111200-1777140000@www.sportscardinvestor.com
SUMMARY:Texoma Trading Card Expo
DESCRIPTION:Thursday Load in 9-5 / Vip NFL Draft Party 6 -Till\nFriday- 12-6 General Admission / 9-6 VIP Admission\nSaturday 10-6 General Admission / 9-6 VIP Admission\nSunday 10-6 General Admission / 9-6 VIP Admission
URL:https://www.sportscardinvestor.com/event/texoma-trading-card-expo/2026-04-25/
LOCATION:Choctaw Casino & Resort Event Center\, 3735 Choctaw Rd\, Durant\, OK\, 74701\, United States
CATEGORIES:Card Shows
ORGANIZER;CN="Tony Goza":MAILTO:info@texomaexpo.com
END:VEVENT
BEGIN:VEVENT
DTSTART;TZID=America/New_York:20260425T110000
DTEND;TZID=America/New_York:20260425T180000
DTSTAMP:20260423T110948
CREATED:20251219T193952Z
LAST-MODIFIED:20251219T193952Z
UID:65327-1777114800-1777140000@www.sportscardinvestor.com
SUMMARY:Lackawanna Sports Card & TCG Show
DESCRIPTION:
URL:https://www.sportscardinvestor.com/event/lackawanna-sports-card-tcg-show/2026-04-25/
LOCATION:Viewmont Mall\, 100 Viewmont Mall\, Scranton\, PA\, 18508\, United States
CATEGORIES:Card Shows
ORGANIZER;CN="John Moran":MAILTO:Moonshotmoose@gmail.com
GEO:41.4588404;-75.656047
X-APPLE-STRUCTURED-LOCATION;VALUE=URI;X-ADDRESS=Viewmont Mall 100 Viewmont Mall Scranton PA 18508 United States;X-APPLE-RADIUS=500;X-TITLE=100 Viewmont Mall:geo:-75.656047,41.4588404
END:VEVENT
BEGIN:VEVENT
DTSTART;TZID=America/New_York:20260426T090000
DTEND;TZID=America/New_York:20260426T140000
DTSTAMP:20260423T110948
CREATED:20260113T221704Z
LAST-MODIFIED:20260113T221704Z
UID:65455-1777194000-1777212000@www.sportscardinvestor.com
SUMMARY:Allsport Collectibles Sports Card and Collectibles Show
DESCRIPTION:We will be holding a Sports card and collectibles show the last Sunday of each month. Come by and see a wide selection of sports cards\, collectibles\, Pokemon cards\, comic books\, Magic the Gathering cards and collecting supplies from many local dealers. \nThe show will be held at the Ramada Inn located at 213 Taunton Avenue Seekonk\, MA 02771. \nAdmission is $3.00/person. Children under 10 are free Admission. \nDoors will be open to the dealers at 7:30am the day of the show for setting up. \nAny questions please call 401-396-5252 or feel free to stop by the store and ask. \nHope to see everyone!\nWeb Address:\nhttps://www.facebook.com/AllsportCollectibles
URL:https://www.sportscardinvestor.com/event/allsport-collectibles-sports-card-and-collectibles-show/2026-04-26/
LOCATION:Ramada Inn – Seekonk\, MA\, Taunton Avenue 213\, Seekonk\, MA\, 02771\, United States
CATEGORIES:Card Shows
ORGANIZER;CN="Ken Souza":MAILTO:allsportri@aol.com
GEO:41.824198;-71.3367098
X-APPLE-STRUCTURED-LOCATION;VALUE=URI;X-ADDRESS=Ramada Inn – Seekonk MA Taunton Avenue 213 Seekonk MA 02771 United States;X-APPLE-RADIUS=500;X-TITLE=Taunton Avenue 213:geo:-71.3367098,41.824198
END:VEVENT
BEGIN:VEVENT
DTSTART;TZID=America/New_York:20260426T090000
DTEND;TZID=America/New_York:20260426T150000
DTSTAMP:20260423T110948
CREATED:20260413T213810Z
LAST-MODIFIED:20260413T213810Z
UID:65870-1777194000-1777215600@www.sportscardinvestor.com
SUMMARY:Fearless Card Show & More
DESCRIPTION:
URL:https://www.sportscardinvestor.com/event/fearless-card-show-more-4/
LOCATION:Fearless Sports Cards & Collectibles\, 3 Turkey Hills Road Suite J\, East Granby\, CT\, 06026\, United States
CATEGORIES:Card Shows
ORGANIZER;CN="Brandon Rocco":MAILTO:fearlesscnc@gmail.com
END:VEVENT
BEGIN:VEVENT
DTSTART;TZID=America/New_York:20260426T090000
DTEND;TZID=America/New_York:20260426T160000
DTSTAMP:20260423T110948
CREATED:20260223T194856Z
LAST-MODIFIED:20260223T194856Z
UID:65719-1777194000-1777219200@www.sportscardinvestor.com
SUMMARY:NoVA Sports Card Show
DESCRIPTION:  \nGeneral: $5\, VIP: $15
URL:https://www.sportscardinvestor.com/event/nova-sports-card-show-6/
LOCATION:Falls Church Marriott Fairview Park\, 3111 Fairview Park Dr\, Falls Church\, VA\, 22042\, United States
CATEGORIES:Card Shows
ORGANIZER;CN="Bailey Lieberman":MAILTO:thebaltimorecardshow@gmail.com
END:VEVENT
BEGIN:VEVENT
DTSTART;TZID=America/New_York:20260426T100000
DTEND;TZID=America/New_York:20260426T150000
DTSTAMP:20260423T110948
CREATED:20260421T135153Z
LAST-MODIFIED:20260421T135153Z
UID:65893-1777197600-1777215600@www.sportscardinvestor.com
SUMMARY:Rare Bear E. Collectibles
DESCRIPTION:
URL:https://www.sportscardinvestor.com/event/rare-bear-e-collectibles/2026-04-26/
LOCATION:New Port Richey Quality Inn\, 5316 US 19 North\, New Port Richey\, FL\, 34652\, United States
CATEGORIES:Card Shows
ORGANIZER;CN="Lori":MAILTO:Rarebeare@gmail.com
GEO:28.2369523;-82.7266859
X-APPLE-STRUCTURED-LOCATION;VALUE=URI;X-ADDRESS=New Port Richey Quality Inn 5316 US 19 North New Port Richey FL 34652 United States;X-APPLE-RADIUS=500;X-TITLE=5316 US 19 North:geo:-82.7266859,28.2369523
END:VEVENT
BEGIN:VEVENT
DTSTART;TZID=America/New_York:20260426T100000
DTEND;TZID=America/New_York:20260426T180000
DTSTAMP:20260423T110948
CREATED:20260107T204056Z
LAST-MODIFIED:20260107T204056Z
UID:65396-1777197600-1777226400@www.sportscardinvestor.com
SUMMARY:Texoma Trading Card Expo
DESCRIPTION:Thursday Load in 9-5 / Vip NFL Draft Party 6 -Till\nFriday- 12-6 General Admission / 9-6 VIP Admission\nSaturday 10-6 General Admission / 9-6 VIP Admission\nSunday 10-6 General Admission / 9-6 VIP Admission
URL:https://www.sportscardinvestor.com/event/texoma-trading-card-expo/2026-04-26/
LOCATION:Choctaw Casino & Resort Event Center\, 3735 Choctaw Rd\, Durant\, OK\, 74701\, United States
CATEGORIES:Card Shows
ORGANIZER;CN="Tony Goza":MAILTO:info@texomaexpo.com
END:VEVENT
BEGIN:VEVENT
DTSTART;TZID=America/New_York:20260426T110000
DTEND;TZID=America/New_York:20260426T180000
DTSTAMP:20260423T110948
CREATED:20251219T193952Z
LAST-MODIFIED:20251219T193952Z
UID:65328-1777201200-1777226400@www.sportscardinvestor.com
SUMMARY:Lackawanna Sports Card & TCG Show
DESCRIPTION:
URL:https://www.sportscardinvestor.com/event/lackawanna-sports-card-tcg-show/2026-04-26/
LOCATION:Viewmont Mall\, 100 Viewmont Mall\, Scranton\, PA\, 18508\, United States
CATEGORIES:Card Shows
ORGANIZER;CN="John Moran":MAILTO:Moonshotmoose@gmail.com
GEO:41.4588404;-75.656047
X-APPLE-STRUCTURED-LOCATION;VALUE=URI;X-ADDRESS=Viewmont Mall 100 Viewmont Mall Scranton PA 18508 United States;X-APPLE-RADIUS=500;X-TITLE=100 Viewmont Mall:geo:-75.656047,41.4588404
END:VEVENT
BEGIN:VEVENT
DTSTART;TZID=America/New_York:20260428T160000
DTEND;TZID=America/New_York:20260428T203000
DTSTAMP:20260423T110948
CREATED:20260325T162858Z
LAST-MODIFIED:20260325T162858Z
UID:65801-1777392000-1777408200@www.sportscardinvestor.com
SUMMARY:Major League Collective
DESCRIPTION:
URL:https://www.sportscardinvestor.com/event/major-league-collective/2026-04-28/
LOCATION:Collingswood Grand Ballroom\, 315 White Horse Pike\, Collingswood\, NJ\, 08107\, United States
CATEGORIES:Card Shows
ORGANIZER;CN="Bryan Woodward":MAILTO:admin@majorleaguecollective.com
END:VEVENT
BEGIN:VEVENT
DTSTART;TZID=America/New_York:20260502T090000
DTEND;TZID=America/New_York:20260502T150000
DTSTAMP:20260423T110948
CREATED:20251111T185113Z
LAST-MODIFIED:20251111T185113Z
UID:65165-1777712400-1777734000@www.sportscardinvestor.com
SUMMARY:Simpsonville Cards & Collectibles Show Presented by JW's Sports Shop
DESCRIPTION:
URL:https://www.sportscardinvestor.com/event/simpsonville-cards-collectibles-show-presented-by-jws-sports-shop/2026-05-02/
LOCATION:Simpsonville Senior & Activity Center\, 310 W Curtis St\, Simpsonville\, SC\, 29681\, United States
CATEGORIES:Card Shows
ORGANIZER;CN="Jacob Wilson":MAILTO:jdwilso9448@yahoo.com
END:VEVENT
BEGIN:VEVENT
DTSTART;TZID=America/New_York:20260502T090000
DTEND;TZID=America/New_York:20260502T150000
DTSTAMP:20260423T110948
CREATED:20260205T215318Z
LAST-MODIFIED:20260205T215318Z
UID:65557-1777712400-1777734000@www.sportscardinvestor.com
SUMMARY:Magnolia Sports Cards Show
DESCRIPTION:
URL:https://www.sportscardinvestor.com/event/magnolia-sports-cards-show-3/2026-05-02/
LOCATION:Tupelo Furniture Market Building 4\, 1879 Coley Road\, Tupelo\, MS\, 38826\, United States
CATEGORIES:Card Shows
ORGANIZER;CN="Scott Glasgow":MAILTO:glasgow28@gmail.com
GEO:34.2840115;-88.7776532
X-APPLE-STRUCTURED-LOCATION;VALUE=URI;X-ADDRESS=Tupelo Furniture Market Building 4 1879 Coley Road Tupelo MS 38826 United States;X-APPLE-RADIUS=500;X-TITLE=1879 Coley Road:geo:-88.7776532,34.2840115
END:VEVENT
BEGIN:VEVENT
DTSTART;TZID=America/New_York:20260502T090000
DTEND;TZID=America/New_York:20260502T160000
DTSTAMP:20260423T110948
CREATED:20251013T164556Z
LAST-MODIFIED:20251013T164556Z
UID:65054-1777712400-1777737600@www.sportscardinvestor.com
SUMMARY:Southern MO Card Show
DESCRIPTION:Buy sell and trade at the Southern MO Card Show! \nBring your cards and hang out all day!
URL:https://www.sportscardinvestor.com/event/southern-mo-card-show/2026-05-02/
LOCATION:West Plains Civic Center\, 110 Saint Louis Street\, West Plains\, MO\, 65775\, United States
CATEGORIES:Card Shows
ORGANIZER;CN="Ben McLarry":MAILTO:Ibreakcards@gmail.com
END:VEVENT
BEGIN:VEVENT
DTSTART;TZID=America/New_York:20260502T100000
DTEND;TZID=America/New_York:20260502T150000
DTSTAMP:20260423T110948
CREATED:20250421T013211Z
LAST-MODIFIED:20250421T013510Z
UID:64790-1777716000-1777734000@www.sportscardinvestor.com
SUMMARY:Bowling Green Sports Card Show
DESCRIPTION:
URL:https://www.sportscardinvestor.com/event/bowling-green-sports-card-show-3/2026-05-02/
LOCATION:Wood County Fairgrounds\, 13800 W Poe Rd\, Bowling Green\, OH\, 43402\, United States
CATEGORIES:Card Shows
ORGANIZER;CN="William Cranston":MAILTO:redzonesportscards2021@gmail.com
GEO:41.3866663;-83.6662022
X-APPLE-STRUCTURED-LOCATION;VALUE=URI;X-ADDRESS=Wood County Fairgrounds 13800 W Poe Rd Bowling Green OH 43402 United States;X-APPLE-RADIUS=500;X-TITLE=13800 W Poe Rd:geo:-83.6662022,41.3866663
END:VEVENT
BEGIN:VEVENT
DTSTART;TZID=America/New_York:20260502T100000
DTEND;TZID=America/New_York:20260502T160000
DTSTAMP:20260423T110948
CREATED:20260210T165231Z
LAST-MODIFIED:20260210T165231Z
UID:65583-1777716000-1777737600@www.sportscardinvestor.com
SUMMARY:Legends Never Die Sports Card Show
DESCRIPTION:
URL:https://www.sportscardinvestor.com/event/legends-never-die-sports-card-show/
LOCATION:First Baptist Church Stanley\, 409 Old Mount Holly Rd\, Stanley\, NC\, 28164\, United States
CATEGORIES:Card Shows
ORGANIZER;CN="Jake Brewer":MAILTO:legendsneverdiecards@gmail.com
END:VEVENT
BEGIN:VEVENT
DTSTART;TZID=America/New_York:20260502T100000
DTEND;TZID=America/New_York:20260502T160000
DTSTAMP:20260423T110948
CREATED:20260320T173951Z
LAST-MODIFIED:20260320T173951Z
UID:65786-1777716000-1777737600@www.sportscardinvestor.com
SUMMARY:Legends Never Die Sports Card Show
DESCRIPTION:
URL:https://www.sportscardinvestor.com/event/legends-never-die-sports-card-show-2/
LOCATION:First Baptist Church – Stanley\, 409 Old Mt. Holly Road\, Stanley\, NC\, 28164\, United States
CATEGORIES:Card Shows
ORGANIZER;CN="Jake Brewer":MAILTO:legendsneverdiecards@gmail.com
END:VEVENT
BEGIN:VEVENT
DTSTART;TZID=America/New_York:20260502T110000
DTEND;TZID=America/New_York:20260502T210000
DTSTAMP:20260423T110948
CREATED:20260223T194423Z
LAST-MODIFIED:20260223T194423Z
UID:65708-1777719600-1777755600@www.sportscardinvestor.com
SUMMARY:FRONT ROW CARD SHOW
DESCRIPTION:TICKETS ARE AVAILABLE NOW – CLICK HERE FOR TICKETS GENERAL ADMISSION – $15.00 at the door VIP (EARLY ENTRY) – $25.00 1-day / $30.00 2-day at the door KIDS 10 & UNDER – FREE W/ADULT
URL:https://www.sportscardinvestor.com/event/front-row-card-show-4/2026-05-02/
LOCATION:RIO HOTEL & CASINO\, 3700 W. Flamingo Road\, LAS VEGAS\, NV\, 89103\, United States
CATEGORIES:Card Shows
ORGANIZER;CN="JOHN MCALPIN":MAILTO:JOHN.MCALPIN@GMAIL.COM
END:VEVENT
BEGIN:VEVENT
DTSTART;TZID=America/Kentucky/Louisville:20260503T100000
DTEND;TZID=America/Kentucky/Louisville:20260503T120000
DTSTAMP:20260423T110948
CREATED:20240508T152619Z
LAST-MODIFIED:20240508T152619Z
UID:63178-1777802400-1777809600@www.sportscardinvestor.com
SUMMARY:Sports Card Show at the Bowl – Shakopee\, MN
DESCRIPTION:
URL:https://www.sportscardinvestor.com/event/sports-card-show-at-the-bowl-shakopee-mn/2026-05-03/
LOCATION:Shakopee Bowl\, 3020 133rd St W\, Shakopee\, MN\, 55379\, United States
CATEGORIES:Card Shows
GEO:44.7596982;-93.5796364
X-APPLE-STRUCTURED-LOCATION;VALUE=URI;X-ADDRESS=Shakopee Bowl 3020 133rd St W Shakopee MN 55379 United States;X-APPLE-RADIUS=500;X-TITLE=3020 133rd St W:geo:-93.5796364,44.7596982
END:VEVENT
BEGIN:VEVENT
DTSTART;TZID=America/New_York:20260503T100000
DTEND;TZID=America/New_York:20260503T160000
DTSTAMP:20260423T110948
CREATED:20260219T152259Z
LAST-MODIFIED:20260219T152259Z
UID:65698-1777802400-1777824000@www.sportscardinvestor.com
SUMMARY:Lafayette Card Show
DESCRIPTION:
URL:https://www.sportscardinvestor.com/event/lafayette-card-show-2/2026-05-03/
LOCATION:Tippecanoe County Fairgrounds – East Wing\, 1406 Teal Road\, Lafayette\, IN\, 47905\, United States
CATEGORIES:Card Shows
ORGANIZER;CN="Justin Stetler":MAILTO:nwincards@gmail.com
END:VEVENT
BEGIN:VEVENT
DTSTART;TZID=America/New_York:20260503T110000
DTEND;TZID=America/New_York:20260503T170000
DTSTAMP:20260423T110948
CREATED:20260223T194423Z
LAST-MODIFIED:20260223T194423Z
UID:65711-1777806000-1777827600@www.sportscardinvestor.com
SUMMARY:FRONT ROW CARD SHOW
DESCRIPTION:TICKETS ARE AVAILABLE NOW – CLICK HERE FOR TICKETS GENERAL ADMISSION – $15.00 at the door VIP (EARLY ENTRY) – $25.00 1-day / $30.00 2-day at the door KIDS 10 & UNDER – FREE W/ADULT
URL:https://www.sportscardinvestor.com/event/front-row-card-show-4/2026-05-03/
LOCATION:RIO HOTEL & CASINO\, 3700 W. Flamingo Road\, LAS VEGAS\, NV\, 89103\, United States
CATEGORIES:Card Shows
ORGANIZER;CN="JOHN MCALPIN":MAILTO:JOHN.MCALPIN@GMAIL.COM
END:VEVENT
BEGIN:VEVENT
DTSTART;TZID=America/New_York:20260503T130000
DTEND;TZID=America/New_York:20260503T170000
DTSTAMP:20260423T110948
CREATED:20260130T162500Z
LAST-MODIFIED:20260130T162500Z
UID:65535-1777813200-1777827600@www.sportscardinvestor.com
SUMMARY:Sunday Sports Card and Pokemon Show - Sun City West AZ
DESCRIPTION:
URL:https://www.sportscardinvestor.com/event/sunday-sports-card-and-pokemon-show-sun-city-west-az/2026-05-03/
LOCATION:Sun City West Foundation\, 14465 W RH Johnson Blvd\, Sun City West\, AZ\, 85375\, United States
CATEGORIES:Card Shows
ORGANIZER;CN="Joey Broz":MAILTO:psastud1976@yahoo.com
GEO:33.66981;-112.371376
X-APPLE-STRUCTURED-LOCATION;VALUE=URI;X-ADDRESS=Sun City West Foundation 14465 W RH Johnson Blvd Sun City West AZ 85375 United States;X-APPLE-RADIUS=500;X-TITLE=14465 W RH Johnson Blvd:geo:-112.371376,33.66981
END:VEVENT
BEGIN:VEVENT
DTSTART;TZID=America/New_York:20260509T090000
DTEND;TZID=America/New_York:20260509T140000
DTSTAMP:20260423T110948
CREATED:20260109T214221Z
LAST-MODIFIED:20260109T214221Z
UID:65414-1778317200-1778335200@www.sportscardinvestor.com
SUMMARY:Hightstown’s Sports Card & Collectibles Show
DESCRIPTION:Dealers Call or Text Rich Gavila at (609) 578-0446 or Email RGavila824@AOL.com for $40 8 Ft. Tables (or $70 for 2 tables)
URL:https://www.sportscardinvestor.com/event/hightstowns-sports-card-collectibles-show-8/2026-05-09/
LOCATION:Saint Anthony of Padua gym\, 156 Maxwell Ave.\, Hightstown\, NJ\, 08520\, United States
CATEGORIES:Card Shows
ORGANIZER;CN="Rich Gavila":MAILTO:RGavila824@AOL.com
GEO:40.2699246;-74.5185291
X-APPLE-STRUCTURED-LOCATION;VALUE=URI;X-ADDRESS=Saint Anthony of Padua gym 156 Maxwell Ave. Hightstown NJ 08520 United States;X-APPLE-RADIUS=500;X-TITLE=156 Maxwell Ave.:geo:-74.5185291,40.2699246
END:VEVENT
BEGIN:VEVENT
DTSTART;TZID=America/New_York:20260509T090000
DTEND;TZID=America/New_York:20260509T140000
DTSTAMP:20260423T110948
CREATED:20260217T211415Z
LAST-MODIFIED:20260217T211415Z
UID:65681-1778317200-1778335200@www.sportscardinvestor.com
SUMMARY:Gloucester County Card Show
DESCRIPTION:
URL:https://www.sportscardinvestor.com/event/gloucester-county-card-show/
LOCATION:Clayton High School\, 55 Pop Kramer Blvd\, Clayton\, NJ\, 08312\, United States
CATEGORIES:Card Shows
ORGANIZER;CN="David Boyd":MAILTO:gloucestercountycardshow@gmail.com
END:VEVENT
BEGIN:VEVENT
DTSTART;TZID=America/New_York:20260509T090000
DTEND;TZID=America/New_York:20260509T150000
DTSTAMP:20260423T110948
CREATED:20260224T202250Z
LAST-MODIFIED:20260224T202250Z
UID:65728-1778317200-1778338800@www.sportscardinvestor.com
SUMMARY:Frederick Sports Card and TCG Show
DESCRIPTION:
URL:https://www.sportscardinvestor.com/event/frederick-sports-card-and-tcg-show-2/2026-05-09/
LOCATION:Mamba Collectibles\, 201 N Queen St\, Martinsburg\, WV\, 25401\, United States
CATEGORIES:Card Shows
ORGANIZER;CN="Adam Romero":MAILTO:captainromerossportscards@gmail.com
END:VEVENT
BEGIN:VEVENT
DTSTART;TZID=America/New_York:20260509T090000
DTEND;TZID=America/New_York:20260509T150000
DTSTAMP:20260423T110948
CREATED:20260310T132046Z
LAST-MODIFIED:20260310T132046Z
UID:65756-1778317200-1778338800@www.sportscardinvestor.com
SUMMARY:Fox Valley SportsCard and Collectible Convention
DESCRIPTION:
URL:https://www.sportscardinvestor.com/event/fox-valley-sportscard-and-collectible-convention/
LOCATION:TOCA Soccer Center\, Quincy Avenue 1740\, Naperville\, IL\, 60540\, United States
CATEGORIES:Card Shows
ORGANIZER;CN="Dave Marvin":MAILTO:ridgecards@yahoo.com
GEO:41.7733689;-88.1936962
X-APPLE-STRUCTURED-LOCATION;VALUE=URI;X-ADDRESS=TOCA Soccer Center Quincy Avenue 1740 Naperville IL 60540 United States;X-APPLE-RADIUS=500;X-TITLE=Quincy Avenue 1740:geo:-88.1936962,41.7733689
END:VEVENT
BEGIN:VEVENT
DTSTART;TZID=America/New_York:20260509T090000
DTEND;TZID=America/New_York:20260509T150000
DTSTAMP:20260423T110948
CREATED:20260323T161421Z
LAST-MODIFIED:20260323T161421Z
UID:65789-1778317200-1778338800@www.sportscardinvestor.com
SUMMARY:The 413 Card Show
DESCRIPTION:
URL:https://www.sportscardinvestor.com/event/the-413-card-show-2/
LOCATION:Castle of Knights\, 1599 Memorial Drive\, Chicopee\, MA\, 01020\, United States
CATEGORIES:Card Shows
ORGANIZER;CN="Shane Salmonson":MAILTO:ssalmonson16@gmail.com
GEO:42.1999109;-72.5712235
X-APPLE-STRUCTURED-LOCATION;VALUE=URI;X-ADDRESS=Castle of Knights 1599 Memorial Drive Chicopee MA 01020 United States;X-APPLE-RADIUS=500;X-TITLE=1599 Memorial Drive:geo:-72.5712235,42.1999109
END:VEVENT
BEGIN:VEVENT
DTSTART;TZID=America/New_York:20260509T090000
DTEND;TZID=America/New_York:20260509T170000
DTSTAMP:20260423T110948
CREATED:20260410T161957Z
LAST-MODIFIED:20260410T161957Z
UID:65862-1778317200-1778346000@www.sportscardinvestor.com
SUMMARY:Chico Sports Cards and Pokemon TCG Expo
DESCRIPTION:
URL:https://www.sportscardinvestor.com/event/chico-sports-cards-and-pokemon-tcg-expo/
LOCATION:DoubleTree by Hilton Chico\, 685 Manzanita Ct\, Chico\, CA\, 95926\, United States
CATEGORIES:Card Shows
ORGANIZER;CN="Brittany Del Fava":MAILTO:bnr000@gmail.com
END:VEVENT
END:VCALENDAR