BEGIN:VCALENDAR
VERSION:2.0
PRODID:-//Sports Card Investor - ECPv6.15.20//NONSGML v1.0//EN
CALSCALE:GREGORIAN
METHOD:PUBLISH
X-WR-CALNAME:Sports Card Investor
X-ORIGINAL-URL:https://www.sportscardinvestor.com
X-WR-CALDESC:Events for Sports Card Investor
REFRESH-INTERVAL;VALUE=DURATION:PT1H
X-Robots-Tag:noindex
X-PUBLISHED-TTL:PT1H
BEGIN:VTIMEZONE
TZID:America/New_York
BEGIN:DAYLIGHT
TZOFFSETFROM:-0500
TZOFFSETTO:-0400
TZNAME:EDT
DTSTART:20210314T070000
END:DAYLIGHT
BEGIN:STANDARD
TZOFFSETFROM:-0400
TZOFFSETTO:-0500
TZNAME:EST
DTSTART:20211107T060000
END:STANDARD
BEGIN:DAYLIGHT
TZOFFSETFROM:-0500
TZOFFSETTO:-0400
TZNAME:EDT
DTSTART:20220313T070000
END:DAYLIGHT
BEGIN:STANDARD
TZOFFSETFROM:-0400
TZOFFSETTO:-0500
TZNAME:EST
DTSTART:20221106T060000
END:STANDARD
BEGIN:DAYLIGHT
TZOFFSETFROM:-0500
TZOFFSETTO:-0400
TZNAME:EDT
DTSTART:20230312T070000
END:DAYLIGHT
BEGIN:STANDARD
TZOFFSETFROM:-0400
TZOFFSETTO:-0500
TZNAME:EST
DTSTART:20231105T060000
END:STANDARD
END:VTIMEZONE
BEGIN:VEVENT
DTSTART;VALUE=DATE:20221210
DTEND;VALUE=DATE:20221211
DTSTAMP:20260419T195324
CREATED:20221009T195228Z
LAST-MODIFIED:20221009T195228Z
UID:47726-1670630400-1670716799@www.sportscardinvestor.com
SUMMARY:Perfect Swing Sports Card & Memorabilia Show
DESCRIPTION:
URL:https://www.sportscardinvestor.com/event/perfect-swing-sports-card-memorabilia-show/
LOCATION:The Perfect Swing\, 8251 South Lemont Road\, Darien\, IL\, 60561\, United States
CATEGORIES:Card Shows
GEO:41.7378988;-88.0112356
X-APPLE-STRUCTURED-LOCATION;VALUE=URI;X-ADDRESS=The Perfect Swing 8251 South Lemont Road Darien IL 60561 United States;X-APPLE-RADIUS=500;X-TITLE=8251 South Lemont Road:geo:-88.0112356,41.7378988
END:VEVENT
END:VCALENDAR