BEGIN:VCALENDAR
VERSION:2.0
PRODID:-//Sports Card Investor - ECPv6.15.20//NONSGML v1.0//EN
CALSCALE:GREGORIAN
METHOD:PUBLISH
X-WR-CALNAME:Sports Card Investor
X-ORIGINAL-URL:https://www.sportscardinvestor.com
X-WR-CALDESC:Events for Sports Card Investor
REFRESH-INTERVAL;VALUE=DURATION:PT1H
X-Robots-Tag:noindex
X-PUBLISHED-TTL:PT1H
BEGIN:VTIMEZONE
TZID:America/New_York
BEGIN:DAYLIGHT
TZOFFSETFROM:-0500
TZOFFSETTO:-0400
TZNAME:EDT
DTSTART:20220313T070000
END:DAYLIGHT
BEGIN:STANDARD
TZOFFSETFROM:-0400
TZOFFSETTO:-0500
TZNAME:EST
DTSTART:20221106T060000
END:STANDARD
BEGIN:DAYLIGHT
TZOFFSETFROM:-0500
TZOFFSETTO:-0400
TZNAME:EDT
DTSTART:20230312T070000
END:DAYLIGHT
BEGIN:STANDARD
TZOFFSETFROM:-0400
TZOFFSETTO:-0500
TZNAME:EST
DTSTART:20231105T060000
END:STANDARD
BEGIN:DAYLIGHT
TZOFFSETFROM:-0500
TZOFFSETTO:-0400
TZNAME:EDT
DTSTART:20240310T070000
END:DAYLIGHT
BEGIN:STANDARD
TZOFFSETFROM:-0400
TZOFFSETTO:-0500
TZNAME:EST
DTSTART:20241103T060000
END:STANDARD
END:VTIMEZONE
BEGIN:VEVENT
DTSTART;TZID=America/New_York:20230318T080000
DTEND;TZID=America/New_York:20230318T150000
DTSTAMP:20260421T093057
CREATED:20230317T113006Z
LAST-MODIFIED:20230317T113006Z
UID:51999-1679126400-1679151600@www.sportscardinvestor.com
SUMMARY:North Port Card Show
DESCRIPTION:9 am – 3 pm
URL:https://www.sportscardinvestor.com/event/north-port-card-show/
LOCATION:The Morgan Center\, 6207 W Price Blvd.\, North Port\, FL\, 34291\, United States
CATEGORIES:Card Shows
GEO:27.0684821;-82.2246277
X-APPLE-STRUCTURED-LOCATION;VALUE=URI;X-ADDRESS=The Morgan Center 6207 W Price Blvd. North Port FL 34291 United States;X-APPLE-RADIUS=500;X-TITLE=6207 W Price Blvd.:geo:-82.2246277,27.0684821
END:VEVENT
END:VCALENDAR