BEGIN:VCALENDAR
VERSION:2.0
PRODID:-//Sports Card Investor - ECPv6.15.20//NONSGML v1.0//EN
CALSCALE:GREGORIAN
METHOD:PUBLISH
X-WR-CALNAME:Sports Card Investor
X-ORIGINAL-URL:https://www.sportscardinvestor.com
X-WR-CALDESC:Events for Sports Card Investor
REFRESH-INTERVAL;VALUE=DURATION:PT1H
X-Robots-Tag:noindex
X-PUBLISHED-TTL:PT1H
BEGIN:VTIMEZONE
TZID:America/New_York
BEGIN:DAYLIGHT
TZOFFSETFROM:-0500
TZOFFSETTO:-0400
TZNAME:EDT
DTSTART:20230312T070000
END:DAYLIGHT
BEGIN:STANDARD
TZOFFSETFROM:-0400
TZOFFSETTO:-0500
TZNAME:EST
DTSTART:20231105T060000
END:STANDARD
BEGIN:DAYLIGHT
TZOFFSETFROM:-0500
TZOFFSETTO:-0400
TZNAME:EDT
DTSTART:20240310T070000
END:DAYLIGHT
BEGIN:STANDARD
TZOFFSETFROM:-0400
TZOFFSETTO:-0500
TZNAME:EST
DTSTART:20241103T060000
END:STANDARD
BEGIN:DAYLIGHT
TZOFFSETFROM:-0500
TZOFFSETTO:-0400
TZNAME:EDT
DTSTART:20250309T070000
END:DAYLIGHT
BEGIN:STANDARD
TZOFFSETFROM:-0400
TZOFFSETTO:-0500
TZNAME:EST
DTSTART:20251102T060000
END:STANDARD
END:VTIMEZONE
BEGIN:VEVENT
DTSTART;TZID=America/New_York:20240427T100000
DTEND;TZID=America/New_York:20240427T160000
DTSTAMP:20260420T053816
CREATED:20240401T234508Z
LAST-MODIFIED:20240401T234508Z
UID:62635-1714212000-1714233600@www.sportscardinvestor.com
SUMMARY:Twin Oaks Portland
DESCRIPTION:
URL:https://www.sportscardinvestor.com/event/twin-oaks-portland-2/
LOCATION:The Lloyd Center\, 1405 Lloyd Center\, Portland\, OR\, 97232
CATEGORIES:Card Shows
GEO:45.5338612;-122.6540364
X-APPLE-STRUCTURED-LOCATION;VALUE=URI;X-ADDRESS=The Lloyd Center 1405 Lloyd Center Portland OR 97232;X-APPLE-RADIUS=500;X-TITLE=1405 Lloyd Center:geo:-122.6540364,45.5338612
END:VEVENT
BEGIN:VEVENT
DTSTART;TZID=America/New_York:20240413T100000
DTEND;TZID=America/New_York:20240413T160000
DTSTAMP:20260420T053816
CREATED:20240401T234134Z
LAST-MODIFIED:20240401T234134Z
UID:62628-1713002400-1713024000@www.sportscardinvestor.com
SUMMARY:Twin Oaks Portland
DESCRIPTION:
URL:https://www.sportscardinvestor.com/event/twin-oaks-portland/
LOCATION:The Lloyd Center\, 1405 Lloyd Center\, Portland\, OR\, 97232
CATEGORIES:Card Shows
GEO:45.5338612;-122.6540364
X-APPLE-STRUCTURED-LOCATION;VALUE=URI;X-ADDRESS=The Lloyd Center 1405 Lloyd Center Portland OR 97232;X-APPLE-RADIUS=500;X-TITLE=1405 Lloyd Center:geo:-122.6540364,45.5338612
END:VEVENT
END:VCALENDAR