BEGIN:VCALENDAR
VERSION:2.0
PRODID:-//Sports Card Investor - ECPv6.15.20//NONSGML v1.0//EN
CALSCALE:GREGORIAN
METHOD:PUBLISH
X-WR-CALNAME:Sports Card Investor
X-ORIGINAL-URL:https://www.sportscardinvestor.com
X-WR-CALDESC:Events for Sports Card Investor
REFRESH-INTERVAL;VALUE=DURATION:PT1H
X-Robots-Tag:noindex
X-PUBLISHED-TTL:PT1H
BEGIN:VTIMEZONE
TZID:America/New_York
BEGIN:DAYLIGHT
TZOFFSETFROM:-0500
TZOFFSETTO:-0400
TZNAME:EDT
DTSTART:20230312T070000
END:DAYLIGHT
BEGIN:STANDARD
TZOFFSETFROM:-0400
TZOFFSETTO:-0500
TZNAME:EST
DTSTART:20231105T060000
END:STANDARD
BEGIN:DAYLIGHT
TZOFFSETFROM:-0500
TZOFFSETTO:-0400
TZNAME:EDT
DTSTART:20240310T070000
END:DAYLIGHT
BEGIN:STANDARD
TZOFFSETFROM:-0400
TZOFFSETTO:-0500
TZNAME:EST
DTSTART:20241103T060000
END:STANDARD
BEGIN:DAYLIGHT
TZOFFSETFROM:-0500
TZOFFSETTO:-0400
TZNAME:EDT
DTSTART:20250309T070000
END:DAYLIGHT
BEGIN:STANDARD
TZOFFSETFROM:-0400
TZOFFSETTO:-0500
TZNAME:EST
DTSTART:20251102T060000
END:STANDARD
END:VTIMEZONE
BEGIN:VEVENT
DTSTART;TZID=America/New_York:20240519T100000
DTEND;TZID=America/New_York:20240519T170000
DTSTAMP:20260424T045947
CREATED:20240419T184835Z
LAST-MODIFIED:20240419T184835Z
UID:62776-1716112800-1716138000@www.sportscardinvestor.com
SUMMARY:SACRAMENTO AUTOGRAPH & SPORTS CARD EXPO
DESCRIPTION:
URL:https://www.sportscardinvestor.com/event/sacramento-autograph-sports-card-expo/2024-05-19/
LOCATION:The Grounds Roseville\, 700 Event Center Dr\, Roseville\, CA\, 95678
CATEGORIES:Card Shows
GEO:38.757011;-121.2953584
X-APPLE-STRUCTURED-LOCATION;VALUE=URI;X-ADDRESS=The Grounds Roseville 700 Event Center Dr Roseville CA 95678;X-APPLE-RADIUS=500;X-TITLE=700 Event Center Dr:geo:-121.2953584,38.757011
END:VEVENT
BEGIN:VEVENT
DTSTART;TZID=America/New_York:20240518T100000
DTEND;TZID=America/New_York:20240518T170000
DTSTAMP:20260424T045947
CREATED:20240419T184835Z
LAST-MODIFIED:20240419T184835Z
UID:62775-1716026400-1716051600@www.sportscardinvestor.com
SUMMARY:SACRAMENTO AUTOGRAPH & SPORTS CARD EXPO
DESCRIPTION:
URL:https://www.sportscardinvestor.com/event/sacramento-autograph-sports-card-expo/2024-05-18/
LOCATION:The Grounds Roseville\, 700 Event Center Dr\, Roseville\, CA\, 95678
CATEGORIES:Card Shows
GEO:38.757011;-121.2953584
X-APPLE-STRUCTURED-LOCATION;VALUE=URI;X-ADDRESS=The Grounds Roseville 700 Event Center Dr Roseville CA 95678;X-APPLE-RADIUS=500;X-TITLE=700 Event Center Dr:geo:-121.2953584,38.757011
END:VEVENT
BEGIN:VEVENT
DTSTART;TZID=America/New_York:20240517T100000
DTEND;TZID=America/New_York:20240517T170000
DTSTAMP:20260424T045947
CREATED:20240419T184835Z
LAST-MODIFIED:20240419T184835Z
UID:62774-1715940000-1715965200@www.sportscardinvestor.com
SUMMARY:SACRAMENTO AUTOGRAPH & SPORTS CARD EXPO
DESCRIPTION:
URL:https://www.sportscardinvestor.com/event/sacramento-autograph-sports-card-expo/
LOCATION:The Grounds Roseville\, 700 Event Center Dr\, Roseville\, CA\, 95678
CATEGORIES:Card Shows
GEO:38.757011;-121.2953584
X-APPLE-STRUCTURED-LOCATION;VALUE=URI;X-ADDRESS=The Grounds Roseville 700 Event Center Dr Roseville CA 95678;X-APPLE-RADIUS=500;X-TITLE=700 Event Center Dr:geo:-121.2953584,38.757011
END:VEVENT
END:VCALENDAR