BEGIN:VCALENDAR
VERSION:2.0
PRODID:-//Sports Card Investor - ECPv6.15.20//NONSGML v1.0//EN
CALSCALE:GREGORIAN
METHOD:PUBLISH
X-WR-CALNAME:Sports Card Investor
X-ORIGINAL-URL:https://www.sportscardinvestor.com
X-WR-CALDESC:Events for Sports Card Investor
REFRESH-INTERVAL;VALUE=DURATION:PT1H
X-Robots-Tag:noindex
X-PUBLISHED-TTL:PT1H
BEGIN:VTIMEZONE
TZID:America/New_York
BEGIN:DAYLIGHT
TZOFFSETFROM:-0500
TZOFFSETTO:-0400
TZNAME:EDT
DTSTART:20210314T070000
END:DAYLIGHT
BEGIN:STANDARD
TZOFFSETFROM:-0400
TZOFFSETTO:-0500
TZNAME:EST
DTSTART:20211107T060000
END:STANDARD
BEGIN:DAYLIGHT
TZOFFSETFROM:-0500
TZOFFSETTO:-0400
TZNAME:EDT
DTSTART:20220313T070000
END:DAYLIGHT
BEGIN:STANDARD
TZOFFSETFROM:-0400
TZOFFSETTO:-0500
TZNAME:EST
DTSTART:20221106T060000
END:STANDARD
BEGIN:DAYLIGHT
TZOFFSETFROM:-0500
TZOFFSETTO:-0400
TZNAME:EDT
DTSTART:20230312T070000
END:DAYLIGHT
BEGIN:STANDARD
TZOFFSETFROM:-0400
TZOFFSETTO:-0500
TZNAME:EST
DTSTART:20231105T060000
END:STANDARD
BEGIN:DAYLIGHT
TZOFFSETFROM:-0500
TZOFFSETTO:-0400
TZNAME:EDT
DTSTART:20240310T070000
END:DAYLIGHT
BEGIN:STANDARD
TZOFFSETFROM:-0400
TZOFFSETTO:-0500
TZNAME:EST
DTSTART:20241103T060000
END:STANDARD
END:VTIMEZONE
BEGIN:VEVENT
DTSTART;VALUE=DATE:20230520
DTEND;VALUE=DATE:20230521
DTSTAMP:20260425T065216
CREATED:20230331T135614Z
LAST-MODIFIED:20230331T135614Z
UID:52272-1684540800-1684627199@www.sportscardinvestor.com
SUMMARY:Lazy Goat Card Show
DESCRIPTION:Show hours: \nSaturday\, May 20: 8-5
URL:https://www.sportscardinvestor.com/event/lazy-goat-card-show/
LOCATION:Statesboro Holiday Inn\, 455 Commerce Dr\, Statesboro\, GA\, 30458\, United States
CATEGORIES:Card Shows
GEO:32.4282799;-81.7561843
X-APPLE-STRUCTURED-LOCATION;VALUE=URI;X-ADDRESS=Statesboro Holiday Inn 455 Commerce Dr Statesboro GA 30458 United States;X-APPLE-RADIUS=500;X-TITLE=455 Commerce Dr:geo:-81.7561843,32.4282799
END:VEVENT
BEGIN:VEVENT
DTSTART;VALUE=DATE:20230211
DTEND;VALUE=DATE:20230212
DTSTAMP:20260425T065216
CREATED:20221202T153406Z
LAST-MODIFIED:20221202T153406Z
UID:49604-1676073600-1676159999@www.sportscardinvestor.com
SUMMARY:Lazy Cupid Card Show
DESCRIPTION:Show hours: \nSaturday\, May 20: 8-5
URL:https://www.sportscardinvestor.com/event/lazy-cupid-card-show/
LOCATION:Statesboro Holiday Inn\, 455 Commerce Dr\, Statesboro\, GA\, 30458\, United States
CATEGORIES:Card Shows
GEO:32.4282799;-81.7561843
X-APPLE-STRUCTURED-LOCATION;VALUE=URI;X-ADDRESS=Statesboro Holiday Inn 455 Commerce Dr Statesboro GA 30458 United States;X-APPLE-RADIUS=500;X-TITLE=455 Commerce Dr:geo:-81.7561843,32.4282799
END:VEVENT
BEGIN:VEVENT
DTSTART;VALUE=DATE:20221119
DTEND;VALUE=DATE:20221120
DTSTAMP:20260425T065216
CREATED:20221021T161200Z
LAST-MODIFIED:20221021T161200Z
UID:48522-1668816000-1668902399@www.sportscardinvestor.com
SUMMARY:Lazy Turkey Card Show
DESCRIPTION:Show hours: \nSaturday\, Nov. 19: 8-8
URL:https://www.sportscardinvestor.com/event/lazy-turkey-card-show/
LOCATION:Statesboro Holiday Inn\, 455 Commerce Dr\, Statesboro\, GA\, 30458\, United States
CATEGORIES:Card Shows
GEO:32.4282799;-81.7561843
X-APPLE-STRUCTURED-LOCATION;VALUE=URI;X-ADDRESS=Statesboro Holiday Inn 455 Commerce Dr Statesboro GA 30458 United States;X-APPLE-RADIUS=500;X-TITLE=455 Commerce Dr:geo:-81.7561843,32.4282799
END:VEVENT
END:VCALENDAR