BEGIN:VCALENDAR
VERSION:2.0
PRODID:-//Sports Card Investor - ECPv6.15.20//NONSGML v1.0//EN
CALSCALE:GREGORIAN
METHOD:PUBLISH
X-ORIGINAL-URL:https://www.sportscardinvestor.com
X-WR-CALDESC:Events for Sports Card Investor
REFRESH-INTERVAL;VALUE=DURATION:PT1H
X-Robots-Tag:noindex
X-PUBLISHED-TTL:PT1H
BEGIN:VTIMEZONE
TZID:America/New_York
BEGIN:DAYLIGHT
TZOFFSETFROM:-0500
TZOFFSETTO:-0400
TZNAME:EDT
DTSTART:20210314T070000
END:DAYLIGHT
BEGIN:STANDARD
TZOFFSETFROM:-0400
TZOFFSETTO:-0500
TZNAME:EST
DTSTART:20211107T060000
END:STANDARD
BEGIN:DAYLIGHT
TZOFFSETFROM:-0500
TZOFFSETTO:-0400
TZNAME:EDT
DTSTART:20220313T070000
END:DAYLIGHT
BEGIN:STANDARD
TZOFFSETFROM:-0400
TZOFFSETTO:-0500
TZNAME:EST
DTSTART:20221106T060000
END:STANDARD
BEGIN:DAYLIGHT
TZOFFSETFROM:-0500
TZOFFSETTO:-0400
TZNAME:EDT
DTSTART:20230312T070000
END:DAYLIGHT
BEGIN:STANDARD
TZOFFSETFROM:-0400
TZOFFSETTO:-0500
TZNAME:EST
DTSTART:20231105T060000
END:STANDARD
END:VTIMEZONE
BEGIN:VEVENT
DTSTART;VALUE=DATE:20220806
DTEND;VALUE=DATE:20220808
DTSTAMP:20260425T073118
CREATED:20220720T125626Z
LAST-MODIFIED:20220720T125626Z
UID:44246-1659744000-1659916799@www.sportscardinvestor.com
SUMMARY:Collect Fest
DESCRIPTION:
URL:https://www.sportscardinvestor.com/event/collect-fest/
LOCATION:Sportsplex\, 5702 Alpha Drive\, Dallas\, TX\, 75240\, United States
CATEGORIES:Card Shows
GEO:32.9325399;-96.8091166
X-APPLE-STRUCTURED-LOCATION;VALUE=URI;X-ADDRESS=Sportsplex 5702 Alpha Drive Dallas TX 75240 United States;X-APPLE-RADIUS=500;X-TITLE=5702 Alpha Drive:geo:-96.8091166,32.9325399
END:VEVENT
END:VCALENDAR