BEGIN:VCALENDAR
VERSION:2.0
PRODID:-//Sports Card Investor - ECPv6.15.20//NONSGML v1.0//EN
CALSCALE:GREGORIAN
METHOD:PUBLISH
X-ORIGINAL-URL:https://www.sportscardinvestor.com
X-WR-CALDESC:Events for Sports Card Investor
REFRESH-INTERVAL;VALUE=DURATION:PT1H
X-Robots-Tag:noindex
X-PUBLISHED-TTL:PT1H
BEGIN:VTIMEZONE
TZID:America/New_York
BEGIN:DAYLIGHT
TZOFFSETFROM:-0500
TZOFFSETTO:-0400
TZNAME:EDT
DTSTART:20250309T070000
END:DAYLIGHT
BEGIN:STANDARD
TZOFFSETFROM:-0400
TZOFFSETTO:-0500
TZNAME:EST
DTSTART:20251102T060000
END:STANDARD
BEGIN:DAYLIGHT
TZOFFSETFROM:-0500
TZOFFSETTO:-0400
TZNAME:EDT
DTSTART:20260308T070000
END:DAYLIGHT
BEGIN:STANDARD
TZOFFSETFROM:-0400
TZOFFSETTO:-0500
TZNAME:EST
DTSTART:20261101T060000
END:STANDARD
BEGIN:DAYLIGHT
TZOFFSETFROM:-0500
TZOFFSETTO:-0400
TZNAME:EDT
DTSTART:20270314T070000
END:DAYLIGHT
BEGIN:STANDARD
TZOFFSETFROM:-0400
TZOFFSETTO:-0500
TZNAME:EST
DTSTART:20271107T060000
END:STANDARD
END:VTIMEZONE
BEGIN:VEVENT
DTSTART;TZID=America/New_York:20261010T090000
DTEND;TZID=America/New_York:20261010T140000
DTSTAMP:20260421T171048
CREATED:20260415T192643Z
LAST-MODIFIED:20260415T192643Z
UID:65881-1791622800-1791640800@www.sportscardinvestor.com
SUMMARY:Southern Sports Card & Collectibles Show
DESCRIPTION:
URL:https://www.sportscardinvestor.com/event/southern-sports-card-collectibles-show-2/
LOCATION:Southern Regional Middle School\, Cedar Bridge Road\, Stafford Township\, NJ\, 08050\, United States
CATEGORIES:Card Shows
ORGANIZER;CN="Michael Jinks":MAILTO:mjinks@srsd.net
GEO:39.7081005;-74.2567192
X-APPLE-STRUCTURED-LOCATION;VALUE=URI;X-ADDRESS=Southern Regional Middle School Cedar Bridge Road Stafford Township NJ 08050 United States;X-APPLE-RADIUS=500;X-TITLE=Cedar Bridge Road:geo:-74.2567192,39.7081005
END:VEVENT
END:VCALENDAR