BEGIN:VCALENDAR
VERSION:2.0
PRODID:-//Sports Card Investor - ECPv6.15.20//NONSGML v1.0//EN
CALSCALE:GREGORIAN
METHOD:PUBLISH
X-WR-CALNAME:Sports Card Investor
X-ORIGINAL-URL:https://www.sportscardinvestor.com
X-WR-CALDESC:Events for Sports Card Investor
REFRESH-INTERVAL;VALUE=DURATION:PT1H
X-Robots-Tag:noindex
X-PUBLISHED-TTL:PT1H
BEGIN:VTIMEZONE
TZID:America/New_York
BEGIN:DAYLIGHT
TZOFFSETFROM:-0500
TZOFFSETTO:-0400
TZNAME:EDT
DTSTART:20240310T070000
END:DAYLIGHT
BEGIN:STANDARD
TZOFFSETFROM:-0400
TZOFFSETTO:-0500
TZNAME:EST
DTSTART:20241103T060000
END:STANDARD
BEGIN:DAYLIGHT
TZOFFSETFROM:-0500
TZOFFSETTO:-0400
TZNAME:EDT
DTSTART:20250309T070000
END:DAYLIGHT
BEGIN:STANDARD
TZOFFSETFROM:-0400
TZOFFSETTO:-0500
TZNAME:EST
DTSTART:20251102T060000
END:STANDARD
BEGIN:DAYLIGHT
TZOFFSETFROM:-0500
TZOFFSETTO:-0400
TZNAME:EDT
DTSTART:20260308T070000
END:DAYLIGHT
BEGIN:STANDARD
TZOFFSETFROM:-0400
TZOFFSETTO:-0500
TZNAME:EST
DTSTART:20261101T060000
END:STANDARD
BEGIN:DAYLIGHT
TZOFFSETFROM:-0500
TZOFFSETTO:-0400
TZNAME:EDT
DTSTART:20270314T070000
END:DAYLIGHT
BEGIN:STANDARD
TZOFFSETFROM:-0400
TZOFFSETTO:-0500
TZNAME:EST
DTSTART:20271107T060000
END:STANDARD
END:VTIMEZONE
BEGIN:VEVENT
DTSTART;TZID=America/New_York:20260124T090000
DTEND;TZID=America/New_York:20260124T140000
DTSTAMP:20260420T125043
CREATED:20251119T201711Z
LAST-MODIFIED:20251119T201711Z
UID:65219-1769245200-1769263200@www.sportscardinvestor.com
SUMMARY:Southern Regional Sports Card & Collectibles Show
DESCRIPTION:50 plus sports and collectible vendor tables\nRaffles\, door prizes\, concessions and more…\nFree Parking\nAdmission price comes with door prize ticket and/or pack of cards
URL:https://www.sportscardinvestor.com/event/southern-regional-sports-card-collectibles-show/
LOCATION:Southern Regional Middle School\, Cedar Bridge Road\, Stafford Township\, NJ\, 08050\, United States
CATEGORIES:Card Shows
ORGANIZER;CN="Mike Jinks":MAILTO:mjinks@srsd.net
GEO:39.7081005;-74.2567192
X-APPLE-STRUCTURED-LOCATION;VALUE=URI;X-ADDRESS=Southern Regional Middle School Cedar Bridge Road Stafford Township NJ 08050 United States;X-APPLE-RADIUS=500;X-TITLE=Cedar Bridge Road:geo:-74.2567192,39.7081005
END:VEVENT
BEGIN:VEVENT
DTSTART;TZID=America/New_York:20250201T090000
DTEND;TZID=America/New_York:20250201T140000
DTSTAMP:20260420T125043
CREATED:20241123T172627Z
LAST-MODIFIED:20241123T172627Z
UID:64135-1738400400-1738418400@www.sportscardinvestor.com
SUMMARY:Southern Sports Card & Collectibles Show
DESCRIPTION:SH: Sat 9am-2pm.\nT:  ($40\, $70 for 2\, $90 for 3)\nA: $2 (kids under 10 free).\nContact: Mike Jinks mjinks@srsd.net or 609-558-1990.
URL:https://www.sportscardinvestor.com/event/southern-sports-card-collectibles-show/
LOCATION:Southern Regional Middle School\, Cedar Bridge Road\, Stafford Township\, NJ\, 08050\, United States
ORGANIZER;CN="Mike Jinks":MAILTO:mjinks@srsd.net
GEO:39.7081005;-74.2567192
X-APPLE-STRUCTURED-LOCATION;VALUE=URI;X-ADDRESS=Southern Regional Middle School Cedar Bridge Road Stafford Township NJ 08050 United States;X-APPLE-RADIUS=500;X-TITLE=Cedar Bridge Road:geo:-74.2567192,39.7081005
END:VEVENT
END:VCALENDAR