BEGIN:VCALENDAR
VERSION:2.0
PRODID:-//Sports Card Investor - ECPv6.15.20//NONSGML v1.0//EN
CALSCALE:GREGORIAN
METHOD:PUBLISH
X-WR-CALNAME:Sports Card Investor
X-ORIGINAL-URL:https://www.sportscardinvestor.com
X-WR-CALDESC:Events for Sports Card Investor
REFRESH-INTERVAL;VALUE=DURATION:PT1H
X-Robots-Tag:noindex
X-PUBLISHED-TTL:PT1H
BEGIN:VTIMEZONE
TZID:America/New_York
BEGIN:DAYLIGHT
TZOFFSETFROM:-0500
TZOFFSETTO:-0400
TZNAME:EDT
DTSTART:20230312T070000
END:DAYLIGHT
BEGIN:STANDARD
TZOFFSETFROM:-0400
TZOFFSETTO:-0500
TZNAME:EST
DTSTART:20231105T060000
END:STANDARD
BEGIN:DAYLIGHT
TZOFFSETFROM:-0500
TZOFFSETTO:-0400
TZNAME:EDT
DTSTART:20240310T070000
END:DAYLIGHT
BEGIN:STANDARD
TZOFFSETFROM:-0400
TZOFFSETTO:-0500
TZNAME:EST
DTSTART:20241103T060000
END:STANDARD
BEGIN:DAYLIGHT
TZOFFSETFROM:-0500
TZOFFSETTO:-0400
TZNAME:EDT
DTSTART:20250309T070000
END:DAYLIGHT
BEGIN:STANDARD
TZOFFSETFROM:-0400
TZOFFSETTO:-0500
TZNAME:EST
DTSTART:20251102T060000
END:STANDARD
END:VTIMEZONE
BEGIN:VEVENT
DTSTART;TZID=America/New_York:20241229T110000
DTEND;TZID=America/New_York:20241229T170000
DTSTAMP:20260419T083937
CREATED:20241107T143659Z
LAST-MODIFIED:20241107T143659Z
UID:63937-1735470000-1735491600@www.sportscardinvestor.com
SUMMARY:Front Row Card Show - Phoenix
DESCRIPTION:DETAILS\nDate:\nDecember 28 & 29th \nTime:\n11:00 am – 5:00 pm\nEST \nEvent Category:\nCard Shows \nWebsite:\nhttps://FrontRowCardShow.com\nVENUE\nRenaissance Phoenix / Glendale Hotel & Spa\n9495 W Entertainment Blvd.\nGlendale\, AZ 85305
URL:https://www.sportscardinvestor.com/event/front-row-card-show-phoenix-2/2024-12-29/
LOCATION:Renaissance Phoenix / Glendale Hotel\, 9495 W. Entertainment Blvd\, Glendale\, Arizona\, 85305\, Tanzania\, United Republic of
CATEGORIES:Card Shows
GEO:33.5386523;-112.1859866
X-APPLE-STRUCTURED-LOCATION;VALUE=URI;X-ADDRESS=Renaissance Phoenix / Glendale Hotel 9495 W. Entertainment Blvd Glendale Arizona 85305 Tanzania United Republic of;X-APPLE-RADIUS=500;X-TITLE=9495 W. Entertainment Blvd:geo:-112.1859866,33.5386523
END:VEVENT
BEGIN:VEVENT
DTSTART;TZID=America/New_York:20241228T110000
DTEND;TZID=America/New_York:20241228T170000
DTSTAMP:20260419T083937
CREATED:20241107T143659Z
LAST-MODIFIED:20241107T143659Z
UID:63936-1735383600-1735405200@www.sportscardinvestor.com
SUMMARY:Front Row Card Show - Phoenix
DESCRIPTION:DETAILS\nDate:\nDecember 28 & 29th \nTime:\n11:00 am – 5:00 pm\nEST \nEvent Category:\nCard Shows \nWebsite:\nhttps://FrontRowCardShow.com\nVENUE\nRenaissance Phoenix / Glendale Hotel & Spa\n9495 W Entertainment Blvd.\nGlendale\, AZ 85305
URL:https://www.sportscardinvestor.com/event/front-row-card-show-phoenix-2/2024-12-28/
LOCATION:Renaissance Phoenix / Glendale Hotel\, 9495 W. Entertainment Blvd\, Glendale\, Arizona\, 85305\, Tanzania\, United Republic of
CATEGORIES:Card Shows
GEO:33.5386523;-112.1859866
X-APPLE-STRUCTURED-LOCATION;VALUE=URI;X-ADDRESS=Renaissance Phoenix / Glendale Hotel 9495 W. Entertainment Blvd Glendale Arizona 85305 Tanzania United Republic of;X-APPLE-RADIUS=500;X-TITLE=9495 W. Entertainment Blvd:geo:-112.1859866,33.5386523
END:VEVENT
BEGIN:VEVENT
DTSTART;TZID=America/New_York:20240616T110000
DTEND;TZID=America/New_York:20240616T170000
DTSTAMP:20260419T083937
CREATED:20240302T205842Z
LAST-MODIFIED:20240302T205842Z
UID:62091-1718535600-1718557200@www.sportscardinvestor.com
SUMMARY:Front Row Card Show - Phoenix
DESCRIPTION:
URL:https://www.sportscardinvestor.com/event/front-row-card-show-phoenix/2024-06-16/
LOCATION:Renaissance Phoenix / Glendale Hotel\, 9495 W. Entertainment Blvd\, Glendale\, Arizona\, 85305\, Tanzania\, United Republic of
CATEGORIES:Card Shows
GEO:33.5386523;-112.1859866
X-APPLE-STRUCTURED-LOCATION;VALUE=URI;X-ADDRESS=Renaissance Phoenix / Glendale Hotel 9495 W. Entertainment Blvd Glendale Arizona 85305 Tanzania United Republic of;X-APPLE-RADIUS=500;X-TITLE=9495 W. Entertainment Blvd:geo:-112.1859866,33.5386523
END:VEVENT
BEGIN:VEVENT
DTSTART;TZID=America/New_York:20240615T110000
DTEND;TZID=America/New_York:20240615T170000
DTSTAMP:20260419T083937
CREATED:20240302T205842Z
LAST-MODIFIED:20240302T205842Z
UID:62090-1718449200-1718470800@www.sportscardinvestor.com
SUMMARY:Front Row Card Show - Phoenix
DESCRIPTION:
URL:https://www.sportscardinvestor.com/event/front-row-card-show-phoenix/2024-06-15/
LOCATION:Renaissance Phoenix / Glendale Hotel\, 9495 W. Entertainment Blvd\, Glendale\, Arizona\, 85305\, Tanzania\, United Republic of
CATEGORIES:Card Shows
GEO:33.5386523;-112.1859866
X-APPLE-STRUCTURED-LOCATION;VALUE=URI;X-ADDRESS=Renaissance Phoenix / Glendale Hotel 9495 W. Entertainment Blvd Glendale Arizona 85305 Tanzania United Republic of;X-APPLE-RADIUS=500;X-TITLE=9495 W. Entertainment Blvd:geo:-112.1859866,33.5386523
END:VEVENT
BEGIN:VEVENT
DTSTART;TZID=America/New_York:20240309T110000
DTEND;TZID=America/New_York:20240309T170000
DTSTAMP:20260419T083937
CREATED:20240302T205842Z
LAST-MODIFIED:20240302T205842Z
UID:62088-1709982000-1710003600@www.sportscardinvestor.com
SUMMARY:Front Row Card Show - Phoenix
DESCRIPTION:
URL:https://www.sportscardinvestor.com/event/front-row-card-show-phoenix/
LOCATION:Renaissance Phoenix / Glendale Hotel\, 9495 W. Entertainment Blvd\, Glendale\, Arizona\, 85305\, Tanzania\, United Republic of
CATEGORIES:Card Shows
GEO:33.5386523;-112.1859866
X-APPLE-STRUCTURED-LOCATION;VALUE=URI;X-ADDRESS=Renaissance Phoenix / Glendale Hotel 9495 W. Entertainment Blvd Glendale Arizona 85305 Tanzania United Republic of;X-APPLE-RADIUS=500;X-TITLE=9495 W. Entertainment Blvd:geo:-112.1859866,33.5386523
END:VEVENT
END:VCALENDAR