BEGIN:VCALENDAR
VERSION:2.0
PRODID:-//Sports Card Investor - ECPv6.15.20//NONSGML v1.0//EN
CALSCALE:GREGORIAN
METHOD:PUBLISH
X-ORIGINAL-URL:https://www.sportscardinvestor.com
X-WR-CALDESC:Events for Sports Card Investor
REFRESH-INTERVAL;VALUE=DURATION:PT1H
X-Robots-Tag:noindex
X-PUBLISHED-TTL:PT1H
BEGIN:VTIMEZONE
TZID:America/New_York
BEGIN:DAYLIGHT
TZOFFSETFROM:-0500
TZOFFSETTO:-0400
TZNAME:EDT
DTSTART:20220313T070000
END:DAYLIGHT
BEGIN:STANDARD
TZOFFSETFROM:-0400
TZOFFSETTO:-0500
TZNAME:EST
DTSTART:20221106T060000
END:STANDARD
BEGIN:DAYLIGHT
TZOFFSETFROM:-0500
TZOFFSETTO:-0400
TZNAME:EDT
DTSTART:20230312T070000
END:DAYLIGHT
BEGIN:STANDARD
TZOFFSETFROM:-0400
TZOFFSETTO:-0500
TZNAME:EST
DTSTART:20231105T060000
END:STANDARD
BEGIN:DAYLIGHT
TZOFFSETFROM:-0500
TZOFFSETTO:-0400
TZNAME:EDT
DTSTART:20240310T070000
END:DAYLIGHT
BEGIN:STANDARD
TZOFFSETFROM:-0400
TZOFFSETTO:-0500
TZNAME:EST
DTSTART:20241103T060000
END:STANDARD
BEGIN:DAYLIGHT
TZOFFSETFROM:-0500
TZOFFSETTO:-0400
TZNAME:EDT
DTSTART:20250309T070000
END:DAYLIGHT
BEGIN:STANDARD
TZOFFSETFROM:-0400
TZOFFSETTO:-0500
TZNAME:EST
DTSTART:20251102T060000
END:STANDARD
END:VTIMEZONE
BEGIN:VEVENT
DTSTART;TZID=America/New_York:20240224T090000
DTEND;TZID=America/New_York:20240224T180000
DTSTAMP:20260421T180640
CREATED:20240116T065838Z
LAST-MODIFIED:20240116T065838Z
UID:61180-1708765200-1708797600@www.sportscardinvestor.com
SUMMARY:New Orleans Card & Collectible Convention
DESCRIPTION:
URL:https://www.sportscardinvestor.com/event/new-orleans-card-collectible-convention-2/
LOCATION:Pontchartrain Center\, 4545 Williams Blvd\, Kenner\, LA\, 70065\, United States
CATEGORIES:Card Shows
GEO:30.0394185;-90.2407332
X-APPLE-STRUCTURED-LOCATION;VALUE=URI;X-ADDRESS=Pontchartrain Center 4545 Williams Blvd Kenner LA 70065 United States;X-APPLE-RADIUS=500;X-TITLE=4545 Williams Blvd:geo:-90.2407332,30.0394185
END:VEVENT
BEGIN:VEVENT
DTSTART;VALUE=DATE:20230812
DTEND;VALUE=DATE:20230813
DTSTAMP:20260421T180640
CREATED:20230602T134028Z
LAST-MODIFIED:20230731T140505Z
UID:55432-1691798400-1691884799@www.sportscardinvestor.com
SUMMARY:New Orleans Card Convention
DESCRIPTION:Show hours: \nAugust 12: 9-6
URL:https://www.sportscardinvestor.com/event/new-orleans-card-convention/
LOCATION:Pontchartrain Center\, 4545 Williams Blvd\, Kenner\, LA\, 70065\, United States
CATEGORIES:Card Shows
GEO:30.0394185;-90.2407332
X-APPLE-STRUCTURED-LOCATION;VALUE=URI;X-ADDRESS=Pontchartrain Center 4545 Williams Blvd Kenner LA 70065 United States;X-APPLE-RADIUS=500;X-TITLE=4545 Williams Blvd:geo:-90.2407332,30.0394185
END:VEVENT
END:VCALENDAR