BEGIN:VCALENDAR
VERSION:2.0
PRODID:-//Sports Card Investor - ECPv6.15.20//NONSGML v1.0//EN
CALSCALE:GREGORIAN
METHOD:PUBLISH
X-ORIGINAL-URL:https://www.sportscardinvestor.com
X-WR-CALDESC:Events for Sports Card Investor
REFRESH-INTERVAL;VALUE=DURATION:PT1H
X-Robots-Tag:noindex
X-PUBLISHED-TTL:PT1H
BEGIN:VTIMEZONE
TZID:America/New_York
BEGIN:DAYLIGHT
TZOFFSETFROM:-0500
TZOFFSETTO:-0400
TZNAME:EDT
DTSTART:20210314T070000
END:DAYLIGHT
BEGIN:STANDARD
TZOFFSETFROM:-0400
TZOFFSETTO:-0500
TZNAME:EST
DTSTART:20211107T060000
END:STANDARD
BEGIN:DAYLIGHT
TZOFFSETFROM:-0500
TZOFFSETTO:-0400
TZNAME:EDT
DTSTART:20220313T070000
END:DAYLIGHT
BEGIN:STANDARD
TZOFFSETFROM:-0400
TZOFFSETTO:-0500
TZNAME:EST
DTSTART:20221106T060000
END:STANDARD
BEGIN:DAYLIGHT
TZOFFSETFROM:-0500
TZOFFSETTO:-0400
TZNAME:EDT
DTSTART:20230312T070000
END:DAYLIGHT
BEGIN:STANDARD
TZOFFSETFROM:-0400
TZOFFSETTO:-0500
TZNAME:EST
DTSTART:20231105T060000
END:STANDARD
BEGIN:DAYLIGHT
TZOFFSETFROM:-0500
TZOFFSETTO:-0400
TZNAME:EDT
DTSTART:20240310T070000
END:DAYLIGHT
BEGIN:STANDARD
TZOFFSETFROM:-0400
TZOFFSETTO:-0500
TZNAME:EST
DTSTART:20241103T060000
END:STANDARD
BEGIN:DAYLIGHT
TZOFFSETFROM:-0500
TZOFFSETTO:-0400
TZNAME:EDT
DTSTART:20250309T070000
END:DAYLIGHT
BEGIN:STANDARD
TZOFFSETFROM:-0400
TZOFFSETTO:-0500
TZNAME:EST
DTSTART:20251102T060000
END:STANDARD
BEGIN:DAYLIGHT
TZOFFSETFROM:-0500
TZOFFSETTO:-0400
TZNAME:EDT
DTSTART:20260308T070000
END:DAYLIGHT
BEGIN:STANDARD
TZOFFSETFROM:-0400
TZOFFSETTO:-0500
TZNAME:EST
DTSTART:20261101T060000
END:STANDARD
END:VTIMEZONE
BEGIN:VTIMEZONE
TZID:America/Phoenix
BEGIN:STANDARD
TZOFFSETFROM:-0700
TZOFFSETTO:-0700
TZNAME:MST
DTSTART:20210101T000000
END:STANDARD
END:VTIMEZONE
BEGIN:VEVENT
DTSTART;TZID=America/New_York:20251109T110000
DTEND;TZID=America/New_York:20251109T170000
DTSTAMP:20260423T051307
CREATED:20251014T153329Z
LAST-MODIFIED:20251014T153329Z
UID:65064-1762686000-1762707600@www.sportscardinvestor.com
SUMMARY:ARIZONA STATE CARD SHOW
DESCRIPTION:
URL:https://www.sportscardinvestor.com/event/arizona-state-card-show-3/2025-11-09/
LOCATION:Phoenix Convention Center\, 100 N. 3rd Street\, Phoenix\, AZ\, 85004\, United States
CATEGORIES:Card Shows
ORGANIZER;CN="Collectibles on College":MAILTO:CollectiblesOnCollege@gmail.com
GEO:33.449788;-112.070451
X-APPLE-STRUCTURED-LOCATION;VALUE=URI;X-ADDRESS=Phoenix Convention Center 100 N. 3rd Street Phoenix AZ 85004 United States;X-APPLE-RADIUS=500;X-TITLE=100 N. 3rd Street:geo:-112.070451,33.449788
END:VEVENT
BEGIN:VEVENT
DTSTART;TZID=America/New_York:20251108T110000
DTEND;TZID=America/New_York:20251108T190000
DTSTAMP:20260423T051307
CREATED:20251014T153329Z
LAST-MODIFIED:20251014T153329Z
UID:65063-1762599600-1762628400@www.sportscardinvestor.com
SUMMARY:ARIZONA STATE CARD SHOW
DESCRIPTION:
URL:https://www.sportscardinvestor.com/event/arizona-state-card-show-3/2025-11-08/
LOCATION:Phoenix Convention Center\, 100 N. 3rd Street\, Phoenix\, AZ\, 85004\, United States
CATEGORIES:Card Shows
ORGANIZER;CN="Collectibles on College":MAILTO:CollectiblesOnCollege@gmail.com
GEO:33.449788;-112.070451
X-APPLE-STRUCTURED-LOCATION;VALUE=URI;X-ADDRESS=Phoenix Convention Center 100 N. 3rd Street Phoenix AZ 85004 United States;X-APPLE-RADIUS=500;X-TITLE=100 N. 3rd Street:geo:-112.070451,33.449788
END:VEVENT
BEGIN:VEVENT
DTSTART;TZID=America/New_York:20251107T140000
DTEND;TZID=America/New_York:20251107T200000
DTSTAMP:20260423T051307
CREATED:20251014T153329Z
LAST-MODIFIED:20251014T153329Z
UID:65061-1762524000-1762545600@www.sportscardinvestor.com
SUMMARY:ARIZONA STATE CARD SHOW
DESCRIPTION:
URL:https://www.sportscardinvestor.com/event/arizona-state-card-show-3/2025-11-07/
LOCATION:Phoenix Convention Center\, 100 N. 3rd Street\, Phoenix\, AZ\, 85004\, United States
CATEGORIES:Card Shows
ORGANIZER;CN="Collectibles on College":MAILTO:CollectiblesOnCollege@gmail.com
GEO:33.449788;-112.070451
X-APPLE-STRUCTURED-LOCATION;VALUE=URI;X-ADDRESS=Phoenix Convention Center 100 N. 3rd Street Phoenix AZ 85004 United States;X-APPLE-RADIUS=500;X-TITLE=100 N. 3rd Street:geo:-112.070451,33.449788
END:VEVENT
BEGIN:VEVENT
DTSTART;TZID=America/New_York:20241110T100000
DTEND;TZID=America/New_York:20241110T170000
DTSTAMP:20260423T051307
CREATED:20240116T065439Z
LAST-MODIFIED:20240116T065439Z
UID:61178-1731232800-1731258000@www.sportscardinvestor.com
SUMMARY:Arizona State Card Show
DESCRIPTION:
URL:https://www.sportscardinvestor.com/event/arizona-state-card-show/2024-11-10/
LOCATION:Phoenix Convention Center\, 100 N. 3rd Street\, Phoenix\, AZ\, 85004\, United States
CATEGORIES:Card Shows
GEO:33.449788;-112.070451
X-APPLE-STRUCTURED-LOCATION;VALUE=URI;X-ADDRESS=Phoenix Convention Center 100 N. 3rd Street Phoenix AZ 85004 United States;X-APPLE-RADIUS=500;X-TITLE=100 N. 3rd Street:geo:-112.070451,33.449788
END:VEVENT
BEGIN:VEVENT
DTSTART;TZID=America/New_York:20241109T100000
DTEND;TZID=America/New_York:20241109T180000
DTSTAMP:20260423T051307
CREATED:20240116T065439Z
LAST-MODIFIED:20240116T065439Z
UID:61177-1731146400-1731175200@www.sportscardinvestor.com
SUMMARY:Arizona State Card Show
DESCRIPTION:
URL:https://www.sportscardinvestor.com/event/arizona-state-card-show/2024-11-09/
LOCATION:Phoenix Convention Center\, 100 N. 3rd Street\, Phoenix\, AZ\, 85004\, United States
CATEGORIES:Card Shows
GEO:33.449788;-112.070451
X-APPLE-STRUCTURED-LOCATION;VALUE=URI;X-ADDRESS=Phoenix Convention Center 100 N. 3rd Street Phoenix AZ 85004 United States;X-APPLE-RADIUS=500;X-TITLE=100 N. 3rd Street:geo:-112.070451,33.449788
END:VEVENT
BEGIN:VEVENT
DTSTART;TZID=America/New_York:20241108T130000
DTEND;TZID=America/New_York:20241108T200000
DTSTAMP:20260423T051307
CREATED:20240116T065439Z
LAST-MODIFIED:20240116T065439Z
UID:61176-1731070800-1731096000@www.sportscardinvestor.com
SUMMARY:Arizona State Card Show
DESCRIPTION:
URL:https://www.sportscardinvestor.com/event/arizona-state-card-show/2024-11-08/
LOCATION:Phoenix Convention Center\, 100 N. 3rd Street\, Phoenix\, AZ\, 85004\, United States
CATEGORIES:Card Shows
GEO:33.449788;-112.070451
X-APPLE-STRUCTURED-LOCATION;VALUE=URI;X-ADDRESS=Phoenix Convention Center 100 N. 3rd Street Phoenix AZ 85004 United States;X-APPLE-RADIUS=500;X-TITLE=100 N. 3rd Street:geo:-112.070451,33.449788
END:VEVENT
BEGIN:VEVENT
DTSTART;TZID=America/New_York:20240315T130000
DTEND;TZID=America/New_York:20240315T200000
DTSTAMP:20260423T051307
CREATED:20240116T065439Z
LAST-MODIFIED:20240116T065439Z
UID:61173-1710507600-1710532800@www.sportscardinvestor.com
SUMMARY:Arizona State Card Show
DESCRIPTION:
URL:https://www.sportscardinvestor.com/event/arizona-state-card-show/
LOCATION:Phoenix Convention Center\, 100 N. 3rd Street\, Phoenix\, AZ\, 85004\, United States
CATEGORIES:Card Shows
GEO:33.449788;-112.070451
X-APPLE-STRUCTURED-LOCATION;VALUE=URI;X-ADDRESS=Phoenix Convention Center 100 N. 3rd Street Phoenix AZ 85004 United States;X-APPLE-RADIUS=500;X-TITLE=100 N. 3rd Street:geo:-112.070451,33.449788
END:VEVENT
BEGIN:VEVENT
DTSTART;VALUE=DATE:20230324
DTEND;VALUE=DATE:20230327
DTSTAMP:20260423T051307
CREATED:20221104T184455Z
LAST-MODIFIED:20221104T184455Z
UID:48946-1679616000-1679875199@www.sportscardinvestor.com
SUMMARY:Collectibles on College — Arizona State Card Show
DESCRIPTION:Show hours: \nFriday\, March 24: 11-7 \nSaturday\, March 25: 10-6 \nSunday\, March 26: 10-5 \nFriday\, Nov. 10: 3-8 \nSaturday\, Nov. 11: 10-6 \nSunday\, Nov. 12: 10-5
URL:https://www.sportscardinvestor.com/event/collectibles-on-college-arizona-state-card-show-3/2023-03-24/
LOCATION:Phoenix Convention Center\, 100 N. 3rd Street\, Phoenix\, AZ\, 85004\, United States
CATEGORIES:Card Shows
GEO:33.449788;-112.070451
X-APPLE-STRUCTURED-LOCATION;VALUE=URI;X-ADDRESS=Phoenix Convention Center 100 N. 3rd Street Phoenix AZ 85004 United States;X-APPLE-RADIUS=500;X-TITLE=100 N. 3rd Street:geo:-112.070451,33.449788
END:VEVENT
BEGIN:VEVENT
DTSTART;VALUE=DATE:20220902
DTEND;VALUE=DATE:20220905
DTSTAMP:20260423T051307
CREATED:20220630T150527Z
LAST-MODIFIED:20220630T150527Z
UID:43142-1662076800-1662335999@www.sportscardinvestor.com
SUMMARY:Collectibles on College – Arizona State Card Show
DESCRIPTION:
URL:https://www.sportscardinvestor.com/event/collectibles-on-college-arizona-state-card-show-2/
LOCATION:Phoenix Convention Center\, 100 N. 3rd Street\, Phoenix\, AZ\, 85004\, United States
CATEGORIES:Card Shows
GEO:33.449788;-112.070451
X-APPLE-STRUCTURED-LOCATION;VALUE=URI;X-ADDRESS=Phoenix Convention Center 100 N. 3rd Street Phoenix AZ 85004 United States;X-APPLE-RADIUS=500;X-TITLE=100 N. 3rd Street:geo:-112.070451,33.449788
END:VEVENT
BEGIN:VEVENT
DTSTART;VALUE=DATE:20220902
DTEND;VALUE=DATE:20220905
DTSTAMP:20260423T051307
CREATED:20220609T193701Z
LAST-MODIFIED:20220609T193701Z
UID:42326-1662076800-1662335999@www.sportscardinvestor.com
SUMMARY:Collectibles on College - Arizona State Card Show
DESCRIPTION:
URL:https://www.sportscardinvestor.com/event/collectibles-on-college-arizona-state-card-show/
LOCATION:Phoenix Convention Center\, 100 N. 3rd Street\, Phoenix\, AZ\, 85004\, United States
CATEGORIES:Card Shows
GEO:33.449788;-112.070451
X-APPLE-STRUCTURED-LOCATION;VALUE=URI;X-ADDRESS=Phoenix Convention Center 100 N. 3rd Street Phoenix AZ 85004 United States;X-APPLE-RADIUS=500;X-TITLE=100 N. 3rd Street:geo:-112.070451,33.449788
END:VEVENT
END:VCALENDAR