BEGIN:VCALENDAR
VERSION:2.0
PRODID:-//Sports Card Investor - ECPv6.15.20//NONSGML v1.0//EN
CALSCALE:GREGORIAN
METHOD:PUBLISH
X-WR-CALNAME:Sports Card Investor
X-ORIGINAL-URL:https://www.sportscardinvestor.com
X-WR-CALDESC:Events for Sports Card Investor
REFRESH-INTERVAL;VALUE=DURATION:PT1H
X-Robots-Tag:noindex
X-PUBLISHED-TTL:PT1H
BEGIN:VTIMEZONE
TZID:America/New_York
BEGIN:DAYLIGHT
TZOFFSETFROM:-0500
TZOFFSETTO:-0400
TZNAME:EDT
DTSTART:20240310T070000
END:DAYLIGHT
BEGIN:STANDARD
TZOFFSETFROM:-0400
TZOFFSETTO:-0500
TZNAME:EST
DTSTART:20241103T060000
END:STANDARD
BEGIN:DAYLIGHT
TZOFFSETFROM:-0500
TZOFFSETTO:-0400
TZNAME:EDT
DTSTART:20250309T070000
END:DAYLIGHT
BEGIN:STANDARD
TZOFFSETFROM:-0400
TZOFFSETTO:-0500
TZNAME:EST
DTSTART:20251102T060000
END:STANDARD
BEGIN:DAYLIGHT
TZOFFSETFROM:-0500
TZOFFSETTO:-0400
TZNAME:EDT
DTSTART:20260308T070000
END:DAYLIGHT
BEGIN:STANDARD
TZOFFSETFROM:-0400
TZOFFSETTO:-0500
TZNAME:EST
DTSTART:20261101T060000
END:STANDARD
END:VTIMEZONE
BEGIN:VEVENT
DTSTART;TZID=America/New_York:20250215T090000
DTEND;TZID=America/New_York:20250215T150000
DTSTAMP:20260420T233447
CREATED:20250113T221803Z
LAST-MODIFIED:20250117T190926Z
UID:64298-1739610000-1739631600@www.sportscardinvestor.com
SUMMARY:Anchor Up Sports Card & Memorabilia Show
DESCRIPTION:https://www.facebook.com/share/15TRqBv6Um/?mibextid=wwXIfr \n$1 entrance fee with proceeds going to the Wounded Warrior Fund
URL:https://www.sportscardinvestor.com/event/anchor-up-sports-card-memorabilia-show/
LOCATION:Pensacola VFW\, Lillian Highway 5000\, Pensacola\, FL\, 32506\, United States
CATEGORIES:Card Shows
ORGANIZER;CN="Jon Mortimer":MAILTO:jmortimer2335@gmail.com
GEO:30.4214105;-87.2999173
X-APPLE-STRUCTURED-LOCATION;VALUE=URI;X-ADDRESS=Pensacola VFW Lillian Highway 5000 Pensacola FL 32506 United States;X-APPLE-RADIUS=500;X-TITLE=Lillian Highway 5000:geo:-87.2999173,30.4214105
END:VEVENT
END:VCALENDAR