BEGIN:VCALENDAR
VERSION:2.0
PRODID:-//Sports Card Investor - ECPv6.15.20//NONSGML v1.0//EN
CALSCALE:GREGORIAN
METHOD:PUBLISH
X-ORIGINAL-URL:https://www.sportscardinvestor.com
X-WR-CALDESC:Events for Sports Card Investor
REFRESH-INTERVAL;VALUE=DURATION:PT1H
X-Robots-Tag:noindex
X-PUBLISHED-TTL:PT1H
BEGIN:VTIMEZONE
TZID:America/New_York
BEGIN:DAYLIGHT
TZOFFSETFROM:-0500
TZOFFSETTO:-0400
TZNAME:EDT
DTSTART:20220313T070000
END:DAYLIGHT
BEGIN:STANDARD
TZOFFSETFROM:-0400
TZOFFSETTO:-0500
TZNAME:EST
DTSTART:20221106T060000
END:STANDARD
BEGIN:DAYLIGHT
TZOFFSETFROM:-0500
TZOFFSETTO:-0400
TZNAME:EDT
DTSTART:20230312T070000
END:DAYLIGHT
BEGIN:STANDARD
TZOFFSETFROM:-0400
TZOFFSETTO:-0500
TZNAME:EST
DTSTART:20231105T060000
END:STANDARD
BEGIN:DAYLIGHT
TZOFFSETFROM:-0500
TZOFFSETTO:-0400
TZNAME:EDT
DTSTART:20240310T070000
END:DAYLIGHT
BEGIN:STANDARD
TZOFFSETFROM:-0400
TZOFFSETTO:-0500
TZNAME:EST
DTSTART:20241103T060000
END:STANDARD
END:VTIMEZONE
BEGIN:VEVENT
DTSTART;TZID=America/New_York:20231021T090000
DTEND;TZID=America/New_York:20231021T160000
DTSTAMP:20260423T072912
CREATED:20231014T014138Z
LAST-MODIFIED:20231014T014138Z
UID:59082-1697878800-1697904000@www.sportscardinvestor.com
SUMMARY:The Oregon Sports Collectors Association Show
DESCRIPTION:
URL:https://www.sportscardinvestor.com/event/the-oregon-sports-collectors-association-show/
LOCATION:Parkrose Middle School\, 11800 NE Shaver St\, Portland\, OR\, 97220\, United States
CATEGORIES:Card Shows
GEO:45.5509324;-122.5406015
X-APPLE-STRUCTURED-LOCATION;VALUE=URI;X-ADDRESS=Parkrose Middle School 11800 NE Shaver St Portland OR 97220 United States;X-APPLE-RADIUS=500;X-TITLE=11800 NE Shaver St:geo:-122.5406015,45.5509324
END:VEVENT
BEGIN:VEVENT
DTSTART;VALUE=DATE:20230415
DTEND;VALUE=DATE:20230416
DTSTAMP:20260423T072912
CREATED:20230209T161809Z
LAST-MODIFIED:20230209T161847Z
UID:51279-1681516800-1681603199@www.sportscardinvestor.com
SUMMARY:OSCA Sports Card Show
DESCRIPTION:Show hours: \nSaturday\, April 15: 9-5
URL:https://www.sportscardinvestor.com/event/osca-sports-card-show/
LOCATION:Parkrose Middle School\, 11800 NE Shaver St\, Portland\, OR\, 97220\, United States
CATEGORIES:Card Shows
GEO:45.5509324;-122.5406015
X-APPLE-STRUCTURED-LOCATION;VALUE=URI;X-ADDRESS=Parkrose Middle School 11800 NE Shaver St Portland OR 97220 United States;X-APPLE-RADIUS=500;X-TITLE=11800 NE Shaver St:geo:-122.5406015,45.5509324
END:VEVENT
END:VCALENDAR