BEGIN:VCALENDAR
VERSION:2.0
PRODID:-//Sports Card Investor - ECPv6.15.20//NONSGML v1.0//EN
CALSCALE:GREGORIAN
METHOD:PUBLISH
X-WR-CALNAME:Sports Card Investor
X-ORIGINAL-URL:https://www.sportscardinvestor.com
X-WR-CALDESC:Events for Sports Card Investor
REFRESH-INTERVAL;VALUE=DURATION:PT1H
X-Robots-Tag:noindex
X-PUBLISHED-TTL:PT1H
BEGIN:VTIMEZONE
TZID:America/New_York
BEGIN:DAYLIGHT
TZOFFSETFROM:-0500
TZOFFSETTO:-0400
TZNAME:EDT
DTSTART:20240310T070000
END:DAYLIGHT
BEGIN:STANDARD
TZOFFSETFROM:-0400
TZOFFSETTO:-0500
TZNAME:EST
DTSTART:20241103T060000
END:STANDARD
BEGIN:DAYLIGHT
TZOFFSETFROM:-0500
TZOFFSETTO:-0400
TZNAME:EDT
DTSTART:20250309T070000
END:DAYLIGHT
BEGIN:STANDARD
TZOFFSETFROM:-0400
TZOFFSETTO:-0500
TZNAME:EST
DTSTART:20251102T060000
END:STANDARD
BEGIN:DAYLIGHT
TZOFFSETFROM:-0500
TZOFFSETTO:-0400
TZNAME:EDT
DTSTART:20260308T070000
END:DAYLIGHT
BEGIN:STANDARD
TZOFFSETFROM:-0400
TZOFFSETTO:-0500
TZNAME:EST
DTSTART:20261101T060000
END:STANDARD
BEGIN:DAYLIGHT
TZOFFSETFROM:-0500
TZOFFSETTO:-0400
TZNAME:EDT
DTSTART:20270314T070000
END:DAYLIGHT
BEGIN:STANDARD
TZOFFSETFROM:-0400
TZOFFSETTO:-0500
TZNAME:EST
DTSTART:20271107T060000
END:STANDARD
END:VTIMEZONE
BEGIN:VEVENT
DTSTART;TZID=America/New_York:20260301T100000
DTEND;TZID=America/New_York:20260301T160000
DTSTAMP:20260419T105814
CREATED:20251215T163053Z
LAST-MODIFIED:20251215T163053Z
UID:65292-1772359200-1772380800@www.sportscardinvestor.com
SUMMARY:The Charlotte Card Show
DESCRIPTION:
URL:https://www.sportscardinvestor.com/event/the-charlotte-card-show-2/2026-03-01/
LOCATION:Park Expo Center\, Briar Creek Road 800\, Charlotte\, NC\, 28205\, United States
CATEGORIES:Card Shows
ORGANIZER;CN="Tommy DeLaunay":MAILTO:insidepitchpromotions@gmail.com
GEO:35.2070397;-80.7978069
X-APPLE-STRUCTURED-LOCATION;VALUE=URI;X-ADDRESS=Park Expo Center Briar Creek Road 800 Charlotte NC 28205 United States;X-APPLE-RADIUS=500;X-TITLE=Briar Creek Road 800:geo:-80.7978069,35.2070397
END:VEVENT
BEGIN:VEVENT
DTSTART;TZID=America/New_York:20260228T090000
DTEND;TZID=America/New_York:20260228T160000
DTSTAMP:20260419T105814
CREATED:20251215T163053Z
LAST-MODIFIED:20251215T163053Z
UID:65291-1772269200-1772294400@www.sportscardinvestor.com
SUMMARY:The Charlotte Card Show
DESCRIPTION:
URL:https://www.sportscardinvestor.com/event/the-charlotte-card-show-2/2026-02-28/
LOCATION:Park Expo Center\, Briar Creek Road 800\, Charlotte\, NC\, 28205\, United States
CATEGORIES:Card Shows
ORGANIZER;CN="Tommy DeLaunay":MAILTO:insidepitchpromotions@gmail.com
GEO:35.2070397;-80.7978069
X-APPLE-STRUCTURED-LOCATION;VALUE=URI;X-ADDRESS=Park Expo Center Briar Creek Road 800 Charlotte NC 28205 United States;X-APPLE-RADIUS=500;X-TITLE=Briar Creek Road 800:geo:-80.7978069,35.2070397
END:VEVENT
BEGIN:VEVENT
DTSTART;TZID=America/New_York:20250301T090000
DTEND;TZID=America/New_York:20250302T160000
DTSTAMP:20260419T105814
CREATED:20250113T185812Z
LAST-MODIFIED:20250113T185812Z
UID:64266-1740819600-1740931200@www.sportscardinvestor.com
SUMMARY:The Charlotte Card Show
DESCRIPTION:400 Tables – Admission: $7 (one day) $10 (weekend pass)
URL:https://www.sportscardinvestor.com/event/the-charlotte-card-show/
LOCATION:Park Expo Center\, Briar Creek Road 800\, Charlotte\, NC\, 28205\, United States
ORGANIZER;CN="Tommy DeLaunay":MAILTO:insidepitchpromotions@gmail.com
GEO:35.2070397;-80.7978069
X-APPLE-STRUCTURED-LOCATION;VALUE=URI;X-ADDRESS=Park Expo Center Briar Creek Road 800 Charlotte NC 28205 United States;X-APPLE-RADIUS=500;X-TITLE=Briar Creek Road 800:geo:-80.7978069,35.2070397
END:VEVENT
END:VCALENDAR