BEGIN:VCALENDAR
VERSION:2.0
PRODID:-//Sports Card Investor - ECPv6.15.20//NONSGML v1.0//EN
CALSCALE:GREGORIAN
METHOD:PUBLISH
X-ORIGINAL-URL:https://www.sportscardinvestor.com
X-WR-CALDESC:Events for Sports Card Investor
REFRESH-INTERVAL;VALUE=DURATION:PT1H
X-Robots-Tag:noindex
X-PUBLISHED-TTL:PT1H
BEGIN:VTIMEZONE
TZID:America/New_York
BEGIN:DAYLIGHT
TZOFFSETFROM:-0500
TZOFFSETTO:-0400
TZNAME:EDT
DTSTART:20220313T070000
END:DAYLIGHT
BEGIN:STANDARD
TZOFFSETFROM:-0400
TZOFFSETTO:-0500
TZNAME:EST
DTSTART:20221106T060000
END:STANDARD
BEGIN:DAYLIGHT
TZOFFSETFROM:-0500
TZOFFSETTO:-0400
TZNAME:EDT
DTSTART:20230312T070000
END:DAYLIGHT
BEGIN:STANDARD
TZOFFSETFROM:-0400
TZOFFSETTO:-0500
TZNAME:EST
DTSTART:20231105T060000
END:STANDARD
BEGIN:DAYLIGHT
TZOFFSETFROM:-0500
TZOFFSETTO:-0400
TZNAME:EDT
DTSTART:20240310T070000
END:DAYLIGHT
BEGIN:STANDARD
TZOFFSETFROM:-0400
TZOFFSETTO:-0500
TZNAME:EST
DTSTART:20241103T060000
END:STANDARD
BEGIN:DAYLIGHT
TZOFFSETFROM:-0500
TZOFFSETTO:-0400
TZNAME:EDT
DTSTART:20250309T070000
END:DAYLIGHT
BEGIN:STANDARD
TZOFFSETFROM:-0400
TZOFFSETTO:-0500
TZNAME:EST
DTSTART:20251102T060000
END:STANDARD
END:VTIMEZONE
BEGIN:VEVENT
DTSTART;TZID=America/New_York:20241005T090000
DTEND;TZID=America/New_York:20241005T150000
DTSTAMP:20260424T121820
CREATED:20240107T062101Z
LAST-MODIFIED:20240107T062101Z
UID:60773-1728118800-1728140400@www.sportscardinvestor.com
SUMMARY:Morris County Card Show
DESCRIPTION:
URL:https://www.sportscardinvestor.com/event/morris-county-card-show-7/2024-10-05/
LOCATION:PAL Parsippany\, 33 Baldwin Rd\, Parsippany\, NJ\, 07054\, United States
CATEGORIES:Card Shows
GEO:40.8617499;-74.3978813
X-APPLE-STRUCTURED-LOCATION;VALUE=URI;X-ADDRESS=PAL Parsippany 33 Baldwin Rd Parsippany NJ 07054 United States;X-APPLE-RADIUS=500;X-TITLE=33 Baldwin Rd:geo:-74.3978813,40.8617499
END:VEVENT
BEGIN:VEVENT
DTSTART;TZID=America/New_York:20240831T090000
DTEND;TZID=America/New_York:20240831T150000
DTSTAMP:20260424T121820
CREATED:20240107T062101Z
LAST-MODIFIED:20240107T062101Z
UID:60772-1725094800-1725116400@www.sportscardinvestor.com
SUMMARY:Morris County Card Show
DESCRIPTION:
URL:https://www.sportscardinvestor.com/event/morris-county-card-show-7/2024-08-31/
LOCATION:PAL Parsippany\, 33 Baldwin Rd\, Parsippany\, NJ\, 07054\, United States
CATEGORIES:Card Shows
GEO:40.8617499;-74.3978813
X-APPLE-STRUCTURED-LOCATION;VALUE=URI;X-ADDRESS=PAL Parsippany 33 Baldwin Rd Parsippany NJ 07054 United States;X-APPLE-RADIUS=500;X-TITLE=33 Baldwin Rd:geo:-74.3978813,40.8617499
END:VEVENT
BEGIN:VEVENT
DTSTART;TZID=America/New_York:20240803T090000
DTEND;TZID=America/New_York:20240803T150000
DTSTAMP:20260424T121820
CREATED:20240107T062101Z
LAST-MODIFIED:20240107T062101Z
UID:60771-1722675600-1722697200@www.sportscardinvestor.com
SUMMARY:Morris County Card Show
DESCRIPTION:
URL:https://www.sportscardinvestor.com/event/morris-county-card-show-7/2024-08-03/
LOCATION:PAL Parsippany\, 33 Baldwin Rd\, Parsippany\, NJ\, 07054\, United States
CATEGORIES:Card Shows
GEO:40.8617499;-74.3978813
X-APPLE-STRUCTURED-LOCATION;VALUE=URI;X-ADDRESS=PAL Parsippany 33 Baldwin Rd Parsippany NJ 07054 United States;X-APPLE-RADIUS=500;X-TITLE=33 Baldwin Rd:geo:-74.3978813,40.8617499
END:VEVENT
BEGIN:VEVENT
DTSTART;TZID=America/New_York:20240706T090000
DTEND;TZID=America/New_York:20240706T150000
DTSTAMP:20260424T121820
CREATED:20240107T062101Z
LAST-MODIFIED:20240107T062101Z
UID:60770-1720256400-1720278000@www.sportscardinvestor.com
SUMMARY:Morris County Card Show
DESCRIPTION:
URL:https://www.sportscardinvestor.com/event/morris-county-card-show-7/2024-07-06/
LOCATION:PAL Parsippany\, 33 Baldwin Rd\, Parsippany\, NJ\, 07054\, United States
CATEGORIES:Card Shows
GEO:40.8617499;-74.3978813
X-APPLE-STRUCTURED-LOCATION;VALUE=URI;X-ADDRESS=PAL Parsippany 33 Baldwin Rd Parsippany NJ 07054 United States;X-APPLE-RADIUS=500;X-TITLE=33 Baldwin Rd:geo:-74.3978813,40.8617499
END:VEVENT
BEGIN:VEVENT
DTSTART;TZID=America/New_York:20240601T090000
DTEND;TZID=America/New_York:20240601T150000
DTSTAMP:20260424T121820
CREATED:20240107T062101Z
LAST-MODIFIED:20240107T062101Z
UID:60769-1717232400-1717254000@www.sportscardinvestor.com
SUMMARY:Morris County Card Show
DESCRIPTION:
URL:https://www.sportscardinvestor.com/event/morris-county-card-show-7/2024-06-01/
LOCATION:PAL Parsippany\, 33 Baldwin Rd\, Parsippany\, NJ\, 07054\, United States
CATEGORIES:Card Shows
GEO:40.8617499;-74.3978813
X-APPLE-STRUCTURED-LOCATION;VALUE=URI;X-ADDRESS=PAL Parsippany 33 Baldwin Rd Parsippany NJ 07054 United States;X-APPLE-RADIUS=500;X-TITLE=33 Baldwin Rd:geo:-74.3978813,40.8617499
END:VEVENT
BEGIN:VEVENT
DTSTART;TZID=America/New_York:20240504T090000
DTEND;TZID=America/New_York:20240504T150000
DTSTAMP:20260424T121820
CREATED:20240107T062101Z
LAST-MODIFIED:20240107T062101Z
UID:60768-1714813200-1714834800@www.sportscardinvestor.com
SUMMARY:Morris County Card Show
DESCRIPTION:
URL:https://www.sportscardinvestor.com/event/morris-county-card-show-7/2024-05-04/
LOCATION:PAL Parsippany\, 33 Baldwin Rd\, Parsippany\, NJ\, 07054\, United States
CATEGORIES:Card Shows
GEO:40.8617499;-74.3978813
X-APPLE-STRUCTURED-LOCATION;VALUE=URI;X-ADDRESS=PAL Parsippany 33 Baldwin Rd Parsippany NJ 07054 United States;X-APPLE-RADIUS=500;X-TITLE=33 Baldwin Rd:geo:-74.3978813,40.8617499
END:VEVENT
BEGIN:VEVENT
DTSTART;TZID=America/New_York:20240114T090000
DTEND;TZID=America/New_York:20240114T150000
DTSTAMP:20260424T121820
CREATED:20240107T062101Z
LAST-MODIFIED:20240107T062101Z
UID:60763-1705222800-1705244400@www.sportscardinvestor.com
SUMMARY:Morris County Card Show
DESCRIPTION:
URL:https://www.sportscardinvestor.com/event/morris-county-card-show-7/
LOCATION:PAL Parsippany\, 33 Baldwin Rd\, Parsippany\, NJ\, 07054\, United States
CATEGORIES:Card Shows
GEO:40.8617499;-74.3978813
X-APPLE-STRUCTURED-LOCATION;VALUE=URI;X-ADDRESS=PAL Parsippany 33 Baldwin Rd Parsippany NJ 07054 United States;X-APPLE-RADIUS=500;X-TITLE=33 Baldwin Rd:geo:-74.3978813,40.8617499
END:VEVENT
BEGIN:VEVENT
DTSTART;VALUE=DATE:20231125
DTEND;VALUE=DATE:20231126
DTSTAMP:20260424T121820
CREATED:20231013T144325Z
LAST-MODIFIED:20231013T144325Z
UID:59071-1700870400-1700956799@www.sportscardinvestor.com
SUMMARY:Morris County Card Show
DESCRIPTION:
URL:https://www.sportscardinvestor.com/event/morris-county-card-show-6/
LOCATION:PAL Parsippany\, 33 Baldwin Rd\, Parsippany\, NJ\, 07054\, United States
CATEGORIES:Card Shows
GEO:40.8617499;-74.3978813
X-APPLE-STRUCTURED-LOCATION;VALUE=URI;X-ADDRESS=PAL Parsippany 33 Baldwin Rd Parsippany NJ 07054 United States;X-APPLE-RADIUS=500;X-TITLE=33 Baldwin Rd:geo:-74.3978813,40.8617499
END:VEVENT
END:VCALENDAR