BEGIN:VCALENDAR
VERSION:2.0
PRODID:-//Sports Card Investor - ECPv6.15.20//NONSGML v1.0//EN
CALSCALE:GREGORIAN
METHOD:PUBLISH
X-WR-CALNAME:Sports Card Investor
X-ORIGINAL-URL:https://www.sportscardinvestor.com
X-WR-CALDESC:Events for Sports Card Investor
REFRESH-INTERVAL;VALUE=DURATION:PT1H
X-Robots-Tag:noindex
X-PUBLISHED-TTL:PT1H
BEGIN:VTIMEZONE
TZID:America/New_York
BEGIN:DAYLIGHT
TZOFFSETFROM:-0500
TZOFFSETTO:-0400
TZNAME:EDT
DTSTART:20210314T070000
END:DAYLIGHT
BEGIN:STANDARD
TZOFFSETFROM:-0400
TZOFFSETTO:-0500
TZNAME:EST
DTSTART:20211107T060000
END:STANDARD
BEGIN:DAYLIGHT
TZOFFSETFROM:-0500
TZOFFSETTO:-0400
TZNAME:EDT
DTSTART:20220313T070000
END:DAYLIGHT
BEGIN:STANDARD
TZOFFSETFROM:-0400
TZOFFSETTO:-0500
TZNAME:EST
DTSTART:20221106T060000
END:STANDARD
BEGIN:DAYLIGHT
TZOFFSETFROM:-0500
TZOFFSETTO:-0400
TZNAME:EDT
DTSTART:20230312T070000
END:DAYLIGHT
BEGIN:STANDARD
TZOFFSETFROM:-0400
TZOFFSETTO:-0500
TZNAME:EST
DTSTART:20231105T060000
END:STANDARD
BEGIN:DAYLIGHT
TZOFFSETFROM:-0500
TZOFFSETTO:-0400
TZNAME:EDT
DTSTART:20240310T070000
END:DAYLIGHT
BEGIN:STANDARD
TZOFFSETFROM:-0400
TZOFFSETTO:-0500
TZNAME:EST
DTSTART:20241103T060000
END:STANDARD
END:VTIMEZONE
BEGIN:VEVENT
DTSTART;VALUE=DATE:20231013
DTEND;VALUE=DATE:20231015
DTSTAMP:20260422T040936
CREATED:20230928T170325Z
LAST-MODIFIED:20230928T170325Z
UID:58740-1697155200-1697327999@www.sportscardinvestor.com
SUMMARY:Petoskey Card Show
DESCRIPTION:Show hours: \nOct 13: 6-8 \nOct 14: 10-4:30
URL:https://www.sportscardinvestor.com/event/petoskey-card-show/
LOCATION:Odawa Casino\, 1760 Lears Rd\, Petoskey\, MI\, 49770\, United States
CATEGORIES:Card Shows
GEO:45.3529317;-84.9792873
X-APPLE-STRUCTURED-LOCATION;VALUE=URI;X-ADDRESS=Odawa Casino 1760 Lears Rd Petoskey MI 49770 United States;X-APPLE-RADIUS=500;X-TITLE=1760 Lears Rd:geo:-84.9792873,45.3529317
END:VEVENT
BEGIN:VEVENT
DTSTART;VALUE=DATE:20230407
DTEND;VALUE=DATE:20230409
DTSTAMP:20260422T040936
CREATED:20230303T173153Z
LAST-MODIFIED:20230303T173153Z
UID:51805-1680825600-1680998399@www.sportscardinvestor.com
SUMMARY:Petoskey Sports Card Show
DESCRIPTION:Show hours: \nFriday\, April 7: 6-8 \nSaturday\, April 8: 10-4:30
URL:https://www.sportscardinvestor.com/event/petoskey-sports-card-show/
LOCATION:Odawa Casino\, 1760 Lears Rd\, Petoskey\, MI\, 49770\, United States
CATEGORIES:Card Shows
GEO:45.3529317;-84.9792873
X-APPLE-STRUCTURED-LOCATION;VALUE=URI;X-ADDRESS=Odawa Casino 1760 Lears Rd Petoskey MI 49770 United States;X-APPLE-RADIUS=500;X-TITLE=1760 Lears Rd:geo:-84.9792873,45.3529317
END:VEVENT
BEGIN:VEVENT
DTSTART;VALUE=DATE:20221015
DTEND;VALUE=DATE:20221016
DTSTAMP:20260422T040936
CREATED:20220622T204050Z
LAST-MODIFIED:20220622T204050Z
UID:42880-1665792000-1665878399@www.sportscardinvestor.com
SUMMARY:Twin Sports Cards Petoskey Card Show
DESCRIPTION:
URL:https://www.sportscardinvestor.com/event/twin-sports-cards-petoskey-card-show/
LOCATION:Odawa Casino\, 1760 Lears Rd\, Petoskey\, MI\, 49770\, United States
CATEGORIES:Card Shows
GEO:45.3529317;-84.9792873
X-APPLE-STRUCTURED-LOCATION;VALUE=URI;X-ADDRESS=Odawa Casino 1760 Lears Rd Petoskey MI 49770 United States;X-APPLE-RADIUS=500;X-TITLE=1760 Lears Rd:geo:-84.9792873,45.3529317
END:VEVENT
END:VCALENDAR