BEGIN:VCALENDAR
VERSION:2.0
PRODID:-//Sports Card Investor - ECPv6.15.20//NONSGML v1.0//EN
CALSCALE:GREGORIAN
METHOD:PUBLISH
X-WR-CALNAME:Sports Card Investor
X-ORIGINAL-URL:https://www.sportscardinvestor.com
X-WR-CALDESC:Events for Sports Card Investor
REFRESH-INTERVAL;VALUE=DURATION:PT1H
X-Robots-Tag:noindex
X-PUBLISHED-TTL:PT1H
BEGIN:VTIMEZONE
TZID:America/New_York
BEGIN:DAYLIGHT
TZOFFSETFROM:-0500
TZOFFSETTO:-0400
TZNAME:EDT
DTSTART:20240310T070000
END:DAYLIGHT
BEGIN:STANDARD
TZOFFSETFROM:-0400
TZOFFSETTO:-0500
TZNAME:EST
DTSTART:20241103T060000
END:STANDARD
BEGIN:DAYLIGHT
TZOFFSETFROM:-0500
TZOFFSETTO:-0400
TZNAME:EDT
DTSTART:20250309T070000
END:DAYLIGHT
BEGIN:STANDARD
TZOFFSETFROM:-0400
TZOFFSETTO:-0500
TZNAME:EST
DTSTART:20251102T060000
END:STANDARD
BEGIN:DAYLIGHT
TZOFFSETFROM:-0500
TZOFFSETTO:-0400
TZNAME:EDT
DTSTART:20260308T070000
END:DAYLIGHT
BEGIN:STANDARD
TZOFFSETFROM:-0400
TZOFFSETTO:-0500
TZNAME:EST
DTSTART:20261101T060000
END:STANDARD
END:VTIMEZONE
BEGIN:VEVENT
DTSTART;TZID=America/New_York:20250202T110000
DTEND;TZID=America/New_York:20250202T180000
DTSTAMP:20260421T072407
CREATED:20250114T164135Z
LAST-MODIFIED:20250117T191018Z
UID:64430-1738494000-1738519200@www.sportscardinvestor.com
SUMMARY:Escondido Cards & Collectibles Show
DESCRIPTION:100 Tables \nFree Admission
URL:https://www.sportscardinvestor.com/event/escondido-cards-collectibles-show/2025-02-02/
LOCATION:North County Mall\, East Via Rancho Parkway 272\, Escondido\, CA\, 92025\, United States
CATEGORIES:Card Shows
ORGANIZER;CN="Tito":MAILTO:titoh72@yahoo.com
GEO:33.0691666;-117.0670446
X-APPLE-STRUCTURED-LOCATION;VALUE=URI;X-ADDRESS=North County Mall East Via Rancho Parkway 272 Escondido CA 92025 United States;X-APPLE-RADIUS=500;X-TITLE=East Via Rancho Parkway 272:geo:-117.0670446,33.0691666
END:VEVENT
BEGIN:VEVENT
DTSTART;TZID=America/New_York:20250201T110000
DTEND;TZID=America/New_York:20250201T180000
DTSTAMP:20260421T072407
CREATED:20250114T164135Z
LAST-MODIFIED:20250117T191017Z
UID:64428-1738407600-1738432800@www.sportscardinvestor.com
SUMMARY:Escondido Cards & Collectibles Show
DESCRIPTION:100 Tables \nFree Admission
URL:https://www.sportscardinvestor.com/event/escondido-cards-collectibles-show/2025-02-01/
LOCATION:North County Mall\, East Via Rancho Parkway 272\, Escondido\, CA\, 92025\, United States
CATEGORIES:Card Shows
ORGANIZER;CN="Tito":MAILTO:titoh72@yahoo.com
GEO:33.0691666;-117.0670446
X-APPLE-STRUCTURED-LOCATION;VALUE=URI;X-ADDRESS=North County Mall East Via Rancho Parkway 272 Escondido CA 92025 United States;X-APPLE-RADIUS=500;X-TITLE=East Via Rancho Parkway 272:geo:-117.0670446,33.0691666
END:VEVENT
END:VCALENDAR