BEGIN:VCALENDAR
VERSION:2.0
PRODID:-//Sports Card Investor - ECPv6.15.20//NONSGML v1.0//EN
CALSCALE:GREGORIAN
METHOD:PUBLISH
X-WR-CALNAME:Sports Card Investor
X-ORIGINAL-URL:https://www.sportscardinvestor.com
X-WR-CALDESC:Events for Sports Card Investor
REFRESH-INTERVAL;VALUE=DURATION:PT1H
X-Robots-Tag:noindex
X-PUBLISHED-TTL:PT1H
BEGIN:VTIMEZONE
TZID:America/New_York
BEGIN:DAYLIGHT
TZOFFSETFROM:-0500
TZOFFSETTO:-0400
TZNAME:EDT
DTSTART:20250309T070000
END:DAYLIGHT
BEGIN:STANDARD
TZOFFSETFROM:-0400
TZOFFSETTO:-0500
TZNAME:EST
DTSTART:20251102T060000
END:STANDARD
BEGIN:DAYLIGHT
TZOFFSETFROM:-0500
TZOFFSETTO:-0400
TZNAME:EDT
DTSTART:20260308T070000
END:DAYLIGHT
BEGIN:STANDARD
TZOFFSETFROM:-0400
TZOFFSETTO:-0500
TZNAME:EST
DTSTART:20261101T060000
END:STANDARD
BEGIN:DAYLIGHT
TZOFFSETFROM:-0500
TZOFFSETTO:-0400
TZNAME:EDT
DTSTART:20270314T070000
END:DAYLIGHT
BEGIN:STANDARD
TZOFFSETFROM:-0400
TZOFFSETTO:-0500
TZNAME:EST
DTSTART:20271107T060000
END:STANDARD
END:VTIMEZONE
BEGIN:VEVENT
DTSTART;TZID=America/New_York:20260620T100000
DTEND;TZID=America/New_York:20260620T180000
DTSTAMP:20260423T215312
CREATED:20260413T214024Z
LAST-MODIFIED:20260413T214024Z
UID:65872-1781949600-1781978400@www.sportscardinvestor.com
SUMMARY:East Coast Collectibles Convention
DESCRIPTION:
URL:https://www.sportscardinvestor.com/event/east-coast-collectibles-convention-3/2026-06-20/
LOCATION:Mohegan Sun\, Earth EXPO CENTER\, 1 Mohegan Sun Blvd\, Uncasville\, CT\, 06382\, United States
CATEGORIES:Card Shows
ORGANIZER;CN="Scott DeMay":MAILTO:admin@ec3con.com
END:VEVENT
BEGIN:VEVENT
DTSTART;TZID=America/New_York:20260621T100000
DTEND;TZID=America/New_York:20260621T160000
DTSTAMP:20260423T215312
CREATED:20260413T214024Z
LAST-MODIFIED:20260413T214024Z
UID:65874-1782036000-1782057600@www.sportscardinvestor.com
SUMMARY:East Coast Collectibles Convention
DESCRIPTION:
URL:https://www.sportscardinvestor.com/event/east-coast-collectibles-convention-3/2026-06-21/
LOCATION:Mohegan Sun\, Earth EXPO CENTER\, 1 Mohegan Sun Blvd\, Uncasville\, CT\, 06382\, United States
CATEGORIES:Card Shows
ORGANIZER;CN="Scott DeMay":MAILTO:admin@ec3con.com
END:VEVENT
BEGIN:VEVENT
DTSTART;TZID=America/New_York:20260905T100000
DTEND;TZID=America/New_York:20260905T180000
DTSTAMP:20260423T215312
CREATED:20260413T214024Z
LAST-MODIFIED:20260413T214024Z
UID:65875-1788602400-1788631200@www.sportscardinvestor.com
SUMMARY:East Coast Collectibles Convention
DESCRIPTION:
URL:https://www.sportscardinvestor.com/event/east-coast-collectibles-convention-3/2026-09-05/
LOCATION:Mohegan Sun\, Earth EXPO CENTER\, 1 Mohegan Sun Blvd\, Uncasville\, CT\, 06382\, United States
CATEGORIES:Card Shows
ORGANIZER;CN="Scott DeMay":MAILTO:admin@ec3con.com
END:VEVENT
BEGIN:VEVENT
DTSTART;TZID=America/New_York:20260906T100000
DTEND;TZID=America/New_York:20260906T160000
DTSTAMP:20260423T215312
CREATED:20260413T214024Z
LAST-MODIFIED:20260413T214024Z
UID:65876-1788688800-1788710400@www.sportscardinvestor.com
SUMMARY:East Coast Collectibles Convention
DESCRIPTION:
URL:https://www.sportscardinvestor.com/event/east-coast-collectibles-convention-3/2026-09-06/
LOCATION:Mohegan Sun\, Earth EXPO CENTER\, 1 Mohegan Sun Blvd\, Uncasville\, CT\, 06382\, United States
CATEGORIES:Card Shows
ORGANIZER;CN="Scott DeMay":MAILTO:admin@ec3con.com
END:VEVENT
BEGIN:VEVENT
DTSTART;TZID=America/New_York:20261128T100000
DTEND;TZID=America/New_York:20261128T180000
DTSTAMP:20260423T215312
CREATED:20260413T214024Z
LAST-MODIFIED:20260413T214024Z
UID:65877-1795860000-1795888800@www.sportscardinvestor.com
SUMMARY:East Coast Collectibles Convention
DESCRIPTION:
URL:https://www.sportscardinvestor.com/event/east-coast-collectibles-convention-3/2026-11-28/
LOCATION:Mohegan Sun\, Earth EXPO CENTER\, 1 Mohegan Sun Blvd\, Uncasville\, CT\, 06382\, United States
CATEGORIES:Card Shows
ORGANIZER;CN="Scott DeMay":MAILTO:admin@ec3con.com
END:VEVENT
BEGIN:VEVENT
DTSTART;TZID=America/New_York:20261129T100000
DTEND;TZID=America/New_York:20261129T160000
DTSTAMP:20260423T215312
CREATED:20260413T214024Z
LAST-MODIFIED:20260413T214024Z
UID:65878-1795946400-1795968000@www.sportscardinvestor.com
SUMMARY:East Coast Collectibles Convention
DESCRIPTION:
URL:https://www.sportscardinvestor.com/event/east-coast-collectibles-convention-3/2026-11-29/
LOCATION:Mohegan Sun\, Earth EXPO CENTER\, 1 Mohegan Sun Blvd\, Uncasville\, CT\, 06382\, United States
CATEGORIES:Card Shows
ORGANIZER;CN="Scott DeMay":MAILTO:admin@ec3con.com
END:VEVENT
END:VCALENDAR