BEGIN:VCALENDAR
VERSION:2.0
PRODID:-//Sports Card Investor - ECPv6.15.20//NONSGML v1.0//EN
CALSCALE:GREGORIAN
METHOD:PUBLISH
X-WR-CALNAME:Sports Card Investor
X-ORIGINAL-URL:https://www.sportscardinvestor.com
X-WR-CALDESC:Events for Sports Card Investor
REFRESH-INTERVAL;VALUE=DURATION:PT1H
X-Robots-Tag:noindex
X-PUBLISHED-TTL:PT1H
BEGIN:VTIMEZONE
TZID:America/New_York
BEGIN:DAYLIGHT
TZOFFSETFROM:-0500
TZOFFSETTO:-0400
TZNAME:EDT
DTSTART:20210314T070000
END:DAYLIGHT
BEGIN:STANDARD
TZOFFSETFROM:-0400
TZOFFSETTO:-0500
TZNAME:EST
DTSTART:20211107T060000
END:STANDARD
BEGIN:DAYLIGHT
TZOFFSETFROM:-0500
TZOFFSETTO:-0400
TZNAME:EDT
DTSTART:20220313T070000
END:DAYLIGHT
BEGIN:STANDARD
TZOFFSETFROM:-0400
TZOFFSETTO:-0500
TZNAME:EST
DTSTART:20221106T060000
END:STANDARD
BEGIN:DAYLIGHT
TZOFFSETFROM:-0500
TZOFFSETTO:-0400
TZNAME:EDT
DTSTART:20230312T070000
END:DAYLIGHT
BEGIN:STANDARD
TZOFFSETFROM:-0400
TZOFFSETTO:-0500
TZNAME:EST
DTSTART:20231105T060000
END:STANDARD
BEGIN:DAYLIGHT
TZOFFSETFROM:-0500
TZOFFSETTO:-0400
TZNAME:EDT
DTSTART:20240310T070000
END:DAYLIGHT
BEGIN:STANDARD
TZOFFSETFROM:-0400
TZOFFSETTO:-0500
TZNAME:EST
DTSTART:20241103T060000
END:STANDARD
END:VTIMEZONE
BEGIN:VEVENT
DTSTART;VALUE=DATE:20230225
DTEND;VALUE=DATE:20230227
DTSTAMP:20260424T203248
CREATED:20230118T210348Z
LAST-MODIFIED:20230118T210348Z
UID:50855-1677283200-1677455999@www.sportscardinvestor.com
SUMMARY:East Coast Collectibles Convention
DESCRIPTION:Show hours: \nSaturday\, Feb 25: 10-5 \nSunday\, Feb 26: 10-4
URL:https://www.sportscardinvestor.com/event/east-coast-collectibles-convention/
LOCATION:Mohegan Sun Casino\, 1 Mohegan Sun Blvd\, Uncasville\, CT\, 06382\, United States
CATEGORIES:Card Shows
GEO:41.4917972;-72.0903866
X-APPLE-STRUCTURED-LOCATION;VALUE=URI;X-ADDRESS=Mohegan Sun Casino 1 Mohegan Sun Blvd Uncasville CT 06382 United States;X-APPLE-RADIUS=500;X-TITLE=1 Mohegan Sun Blvd:geo:-72.0903866,41.4917972
END:VEVENT
BEGIN:VEVENT
DTSTART;VALUE=DATE:20221119
DTEND;VALUE=DATE:20221121
DTSTAMP:20260424T203248
CREATED:20220818T141845Z
LAST-MODIFIED:20220818T141845Z
UID:46006-1668816000-1668988799@www.sportscardinvestor.com
SUMMARY:East Coast Card & Autograph Expo
DESCRIPTION:
URL:https://www.sportscardinvestor.com/event/east-coast-card-autograph-expo-2/
LOCATION:Mohegan Sun Casino\, 1 Mohegan Sun Blvd\, Uncasville\, CT\, 06382\, United States
CATEGORIES:Card Shows
GEO:41.4917972;-72.0903866
X-APPLE-STRUCTURED-LOCATION;VALUE=URI;X-ADDRESS=Mohegan Sun Casino 1 Mohegan Sun Blvd Uncasville CT 06382 United States;X-APPLE-RADIUS=500;X-TITLE=1 Mohegan Sun Blvd:geo:-72.0903866,41.4917972
END:VEVENT
BEGIN:VEVENT
DTSTART;TZID=America/New_York:20220611T090000
DTEND;TZID=America/New_York:20220612T160000
DTSTAMP:20260424T203248
CREATED:20220601T145202Z
LAST-MODIFIED:20220601T145202Z
UID:42028-1654938000-1655049600@www.sportscardinvestor.com
SUMMARY:East Coast Card & Autograph Expo
DESCRIPTION:
URL:https://www.sportscardinvestor.com/event/east-coast-card-autograph-expo/
LOCATION:Mohegan Sun Casino\, 1 Mohegan Sun Blvd\, Uncasville\, CT\, 06382\, United States
CATEGORIES:Card Shows
GEO:41.4917972;-72.0903866
X-APPLE-STRUCTURED-LOCATION;VALUE=URI;X-ADDRESS=Mohegan Sun Casino 1 Mohegan Sun Blvd Uncasville CT 06382 United States;X-APPLE-RADIUS=500;X-TITLE=1 Mohegan Sun Blvd:geo:-72.0903866,41.4917972
END:VEVENT
END:VCALENDAR