BEGIN:VCALENDAR
VERSION:2.0
PRODID:-//Sports Card Investor - ECPv6.15.20//NONSGML v1.0//EN
CALSCALE:GREGORIAN
METHOD:PUBLISH
X-ORIGINAL-URL:https://www.sportscardinvestor.com
X-WR-CALDESC:Events for Sports Card Investor
REFRESH-INTERVAL;VALUE=DURATION:PT1H
X-Robots-Tag:noindex
X-PUBLISHED-TTL:PT1H
BEGIN:VTIMEZONE
TZID:America/New_York
BEGIN:DAYLIGHT
TZOFFSETFROM:-0500
TZOFFSETTO:-0400
TZNAME:EDT
DTSTART:20210314T070000
END:DAYLIGHT
BEGIN:STANDARD
TZOFFSETFROM:-0400
TZOFFSETTO:-0500
TZNAME:EST
DTSTART:20211107T060000
END:STANDARD
BEGIN:DAYLIGHT
TZOFFSETFROM:-0500
TZOFFSETTO:-0400
TZNAME:EDT
DTSTART:20220313T070000
END:DAYLIGHT
BEGIN:STANDARD
TZOFFSETFROM:-0400
TZOFFSETTO:-0500
TZNAME:EST
DTSTART:20221106T060000
END:STANDARD
BEGIN:DAYLIGHT
TZOFFSETFROM:-0500
TZOFFSETTO:-0400
TZNAME:EDT
DTSTART:20230312T070000
END:DAYLIGHT
BEGIN:STANDARD
TZOFFSETFROM:-0400
TZOFFSETTO:-0500
TZNAME:EST
DTSTART:20231105T060000
END:STANDARD
END:VTIMEZONE
BEGIN:VEVENT
DTSTART;VALUE=DATE:20220424
DTEND;VALUE=DATE:20220425
DTSTAMP:20260422T173709
CREATED:20220420T150645Z
LAST-MODIFIED:20220421T163114Z
UID:39299-1650758400-1650844799@www.sportscardinvestor.com
SUMMARY:Sports Card & Collectible Show
DESCRIPTION:
URL:https://www.sportscardinvestor.com/event/sports-card-collectible-show/2022-04-24/
LOCATION:Millcreek Fire Hall\, 3900 Kirkwood Highway\, Wilmington\, DE\, 19808\, United States
CATEGORIES:Card Shows
GEO:39.730337;-75.6446194
X-APPLE-STRUCTURED-LOCATION;VALUE=URI;X-ADDRESS=Millcreek Fire Hall 3900 Kirkwood Highway Wilmington DE 19808 United States;X-APPLE-RADIUS=500;X-TITLE=3900 Kirkwood Highway:geo:-75.6446194,39.730337
END:VEVENT
END:VCALENDAR