BEGIN:VCALENDAR
VERSION:2.0
PRODID:-//Sports Card Investor - ECPv6.15.20//NONSGML v1.0//EN
CALSCALE:GREGORIAN
METHOD:PUBLISH
X-ORIGINAL-URL:https://www.sportscardinvestor.com
X-WR-CALDESC:Events for Sports Card Investor
REFRESH-INTERVAL;VALUE=DURATION:PT1H
X-Robots-Tag:noindex
X-PUBLISHED-TTL:PT1H
BEGIN:VTIMEZONE
TZID:America/New_York
BEGIN:DAYLIGHT
TZOFFSETFROM:-0500
TZOFFSETTO:-0400
TZNAME:EDT
DTSTART:20230312T070000
END:DAYLIGHT
BEGIN:STANDARD
TZOFFSETFROM:-0400
TZOFFSETTO:-0500
TZNAME:EST
DTSTART:20231105T060000
END:STANDARD
BEGIN:DAYLIGHT
TZOFFSETFROM:-0500
TZOFFSETTO:-0400
TZNAME:EDT
DTSTART:20240310T070000
END:DAYLIGHT
BEGIN:STANDARD
TZOFFSETFROM:-0400
TZOFFSETTO:-0500
TZNAME:EST
DTSTART:20241103T060000
END:STANDARD
BEGIN:DAYLIGHT
TZOFFSETFROM:-0500
TZOFFSETTO:-0400
TZNAME:EDT
DTSTART:20250309T070000
END:DAYLIGHT
BEGIN:STANDARD
TZOFFSETFROM:-0400
TZOFFSETTO:-0500
TZNAME:EST
DTSTART:20251102T060000
END:STANDARD
END:VTIMEZONE
BEGIN:VEVENT
DTSTART;TZID=America/New_York:20241227T090000
DTEND;TZID=America/New_York:20241227T150000
DTSTAMP:20260423T185500
CREATED:20230909T095721Z
LAST-MODIFIED:20230909T095721Z
UID:62688-1735290000-1735311600@www.sportscardinvestor.com
SUMMARY:Emu Cards Collectible Show
DESCRIPTION:
URL:https://www.sportscardinvestor.com/event/emu-cards-collectible-show/2024-12-27/
LOCATION:Middlesex Elks Lodge\, 545 Bound Brook Rd\, Middlesex\, NJ\, 08846\, United States
CATEGORIES:Card Shows
GEO:40.5830963;-74.4875933
X-APPLE-STRUCTURED-LOCATION;VALUE=URI;X-ADDRESS=Middlesex Elks Lodge 545 Bound Brook Rd Middlesex NJ 08846 United States;X-APPLE-RADIUS=500;X-TITLE=545 Bound Brook Rd:geo:-74.4875933,40.5830963
END:VEVENT
BEGIN:VEVENT
DTSTART;TZID=America/New_York:20241019T090000
DTEND;TZID=America/New_York:20241019T150000
DTSTAMP:20260423T185500
CREATED:20230909T095721Z
LAST-MODIFIED:20230909T095721Z
UID:62687-1729328400-1729350000@www.sportscardinvestor.com
SUMMARY:Emu Cards Collectible Show
DESCRIPTION:
URL:https://www.sportscardinvestor.com/event/emu-cards-collectible-show/2024-10-19/
LOCATION:Middlesex Elks Lodge\, 545 Bound Brook Rd\, Middlesex\, NJ\, 08846\, United States
CATEGORIES:Card Shows
GEO:40.5830963;-74.4875933
X-APPLE-STRUCTURED-LOCATION;VALUE=URI;X-ADDRESS=Middlesex Elks Lodge 545 Bound Brook Rd Middlesex NJ 08846 United States;X-APPLE-RADIUS=500;X-TITLE=545 Bound Brook Rd:geo:-74.4875933,40.5830963
END:VEVENT
BEGIN:VEVENT
DTSTART;TZID=America/New_York:20240831T090000
DTEND;TZID=America/New_York:20240831T150000
DTSTAMP:20260423T185500
CREATED:20230909T095721Z
LAST-MODIFIED:20230909T095721Z
UID:62686-1725094800-1725116400@www.sportscardinvestor.com
SUMMARY:Emu Cards Collectible Show
DESCRIPTION:
URL:https://www.sportscardinvestor.com/event/emu-cards-collectible-show/2024-08-31/
LOCATION:Middlesex Elks Lodge\, 545 Bound Brook Rd\, Middlesex\, NJ\, 08846\, United States
CATEGORIES:Card Shows
GEO:40.5830963;-74.4875933
X-APPLE-STRUCTURED-LOCATION;VALUE=URI;X-ADDRESS=Middlesex Elks Lodge 545 Bound Brook Rd Middlesex NJ 08846 United States;X-APPLE-RADIUS=500;X-TITLE=545 Bound Brook Rd:geo:-74.4875933,40.5830963
END:VEVENT
BEGIN:VEVENT
DTSTART;TZID=America/New_York:20240629T090000
DTEND;TZID=America/New_York:20240629T150000
DTSTAMP:20260423T185500
CREATED:20230909T095721Z
LAST-MODIFIED:20230909T095721Z
UID:62685-1719651600-1719673200@www.sportscardinvestor.com
SUMMARY:Emu Cards Collectible Show
DESCRIPTION:
URL:https://www.sportscardinvestor.com/event/emu-cards-collectible-show/2024-06-29/
LOCATION:Middlesex Elks Lodge\, 545 Bound Brook Rd\, Middlesex\, NJ\, 08846\, United States
CATEGORIES:Card Shows
GEO:40.5830963;-74.4875933
X-APPLE-STRUCTURED-LOCATION;VALUE=URI;X-ADDRESS=Middlesex Elks Lodge 545 Bound Brook Rd Middlesex NJ 08846 United States;X-APPLE-RADIUS=500;X-TITLE=545 Bound Brook Rd:geo:-74.4875933,40.5830963
END:VEVENT
BEGIN:VEVENT
DTSTART;TZID=America/New_York:20240427T090000
DTEND;TZID=America/New_York:20240427T150000
DTSTAMP:20260423T185500
CREATED:20230909T095721Z
LAST-MODIFIED:20240406T003613Z
UID:58014-1714208400-1714230000@www.sportscardinvestor.com
SUMMARY:Emu Cards Collectible Show
DESCRIPTION:
URL:https://www.sportscardinvestor.com/event/emu-cards-collectible-show/2024-04-27/
LOCATION:Middlesex Elks Lodge\, 545 Bound Brook Rd\, Middlesex\, NJ\, 08846\, United States
CATEGORIES:Card Shows
GEO:40.5830963;-74.4875933
X-APPLE-STRUCTURED-LOCATION;VALUE=URI;X-ADDRESS=Middlesex Elks Lodge 545 Bound Brook Rd Middlesex NJ 08846 United States;X-APPLE-RADIUS=500;X-TITLE=545 Bound Brook Rd:geo:-74.4875933,40.5830963
END:VEVENT
BEGIN:VEVENT
DTSTART;TZID=America/New_York:20240330T090000
DTEND;TZID=America/New_York:20240330T150000
DTSTAMP:20260423T185500
CREATED:20240131T053713Z
LAST-MODIFIED:20240131T053713Z
UID:61663-1711789200-1711810800@www.sportscardinvestor.com
SUMMARY:Cards Collectible Show
DESCRIPTION:
URL:https://www.sportscardinvestor.com/event/cards-collectible-show/
LOCATION:Middlesex Elks Lodge\, 545 Bound Brook Rd\, Middlesex\, NJ\, 08846\, United States
CATEGORIES:Card Shows
GEO:40.5830963;-74.4875933
X-APPLE-STRUCTURED-LOCATION;VALUE=URI;X-ADDRESS=Middlesex Elks Lodge 545 Bound Brook Rd Middlesex NJ 08846 United States;X-APPLE-RADIUS=500;X-TITLE=545 Bound Brook Rd:geo:-74.4875933,40.5830963
END:VEVENT
END:VCALENDAR