BEGIN:VCALENDAR
VERSION:2.0
PRODID:-//Sports Card Investor - ECPv6.15.20//NONSGML v1.0//EN
CALSCALE:GREGORIAN
METHOD:PUBLISH
X-ORIGINAL-URL:https://www.sportscardinvestor.com
X-WR-CALDESC:Events for Sports Card Investor
REFRESH-INTERVAL;VALUE=DURATION:PT1H
X-Robots-Tag:noindex
X-PUBLISHED-TTL:PT1H
BEGIN:VTIMEZONE
TZID:America/New_York
BEGIN:DAYLIGHT
TZOFFSETFROM:-0500
TZOFFSETTO:-0400
TZNAME:EDT
DTSTART:20220313T070000
END:DAYLIGHT
BEGIN:STANDARD
TZOFFSETFROM:-0400
TZOFFSETTO:-0500
TZNAME:EST
DTSTART:20221106T060000
END:STANDARD
BEGIN:DAYLIGHT
TZOFFSETFROM:-0500
TZOFFSETTO:-0400
TZNAME:EDT
DTSTART:20230312T070000
END:DAYLIGHT
BEGIN:STANDARD
TZOFFSETFROM:-0400
TZOFFSETTO:-0500
TZNAME:EST
DTSTART:20231105T060000
END:STANDARD
BEGIN:DAYLIGHT
TZOFFSETFROM:-0500
TZOFFSETTO:-0400
TZNAME:EDT
DTSTART:20240310T070000
END:DAYLIGHT
BEGIN:STANDARD
TZOFFSETFROM:-0400
TZOFFSETTO:-0500
TZNAME:EST
DTSTART:20241103T060000
END:STANDARD
END:VTIMEZONE
BEGIN:VEVENT
DTSTART;VALUE=DATE:20230330
DTEND;VALUE=DATE:20230403
DTSTAMP:20260423T021742
CREATED:20220927T133736Z
LAST-MODIFIED:20220927T133736Z
UID:47242-1680134400-1680479999@www.sportscardinvestor.com
SUMMARY:The Mint Collective
DESCRIPTION:
URL:https://www.sportscardinvestor.com/event/the-mint-collective/
LOCATION:MGM Grand\, 3799 S Las Vegas Blvd\, Las Vegas\, NV\, 89109\, United States
CATEGORIES:Card Shows
GEO:36.1019132;-115.1688204
X-APPLE-STRUCTURED-LOCATION;VALUE=URI;X-ADDRESS=MGM Grand 3799 S Las Vegas Blvd Las Vegas NV 89109 United States;X-APPLE-RADIUS=500;X-TITLE=3799 S Las Vegas Blvd:geo:-115.1688204,36.1019132
END:VEVENT
END:VCALENDAR