BEGIN:VCALENDAR
VERSION:2.0
PRODID:-//Sports Card Investor - ECPv6.15.20//NONSGML v1.0//EN
CALSCALE:GREGORIAN
METHOD:PUBLISH
X-ORIGINAL-URL:https://www.sportscardinvestor.com
X-WR-CALDESC:Events for Sports Card Investor
REFRESH-INTERVAL;VALUE=DURATION:PT1H
X-Robots-Tag:noindex
X-PUBLISHED-TTL:PT1H
BEGIN:VTIMEZONE
TZID:America/New_York
BEGIN:DAYLIGHT
TZOFFSETFROM:-0500
TZOFFSETTO:-0400
TZNAME:EDT
DTSTART:20250309T070000
END:DAYLIGHT
BEGIN:STANDARD
TZOFFSETFROM:-0400
TZOFFSETTO:-0500
TZNAME:EST
DTSTART:20251102T060000
END:STANDARD
BEGIN:DAYLIGHT
TZOFFSETFROM:-0500
TZOFFSETTO:-0400
TZNAME:EDT
DTSTART:20260308T070000
END:DAYLIGHT
BEGIN:STANDARD
TZOFFSETFROM:-0400
TZOFFSETTO:-0500
TZNAME:EST
DTSTART:20261101T060000
END:STANDARD
BEGIN:DAYLIGHT
TZOFFSETFROM:-0500
TZOFFSETTO:-0400
TZNAME:EDT
DTSTART:20270314T070000
END:DAYLIGHT
BEGIN:STANDARD
TZOFFSETFROM:-0400
TZOFFSETTO:-0500
TZNAME:EST
DTSTART:20271107T060000
END:STANDARD
END:VTIMEZONE
BEGIN:VEVENT
DTSTART;TZID=America/New_York:20260215T110000
DTEND;TZID=America/New_York:20260215T150000
DTSTAMP:20260423T021725
CREATED:20260113T220047Z
LAST-MODIFIED:20260113T220047Z
UID:65436-1771153200-1771167600@www.sportscardinvestor.com
SUMMARY:Sports Fanz & The Pittsburgh Card Show Present: The Sports Cards & Collectibles\, Pokemon\, One Piece & TCG SHOW
DESCRIPTION:
URL:https://www.sportscardinvestor.com/event/sports-fanz-the-pittsburgh-card-show-present-the-sports-cards-collectibles-pokemon-one-piece-tcg-show/2026-02-15/
LOCATION:Meadowbrook Mall\, 2399 Meadowbrook Mall Rd\, Bridgeport\, WV\, 26330\, United States
CATEGORIES:Card Shows
ORGANIZER;CN="Bryce":MAILTO:PittsburghCardShow@gmail.com
END:VEVENT
BEGIN:VEVENT
DTSTART;TZID=America/New_York:20260214T100000
DTEND;TZID=America/New_York:20260214T190000
DTSTAMP:20260423T021725
CREATED:20260113T220047Z
LAST-MODIFIED:20260113T220047Z
UID:65435-1771063200-1771095600@www.sportscardinvestor.com
SUMMARY:Sports Fanz & The Pittsburgh Card Show Present: The Sports Cards & Collectibles\, Pokemon\, One Piece & TCG SHOW
DESCRIPTION:
URL:https://www.sportscardinvestor.com/event/sports-fanz-the-pittsburgh-card-show-present-the-sports-cards-collectibles-pokemon-one-piece-tcg-show/2026-02-14/
LOCATION:Meadowbrook Mall\, 2399 Meadowbrook Mall Rd\, Bridgeport\, WV\, 26330\, United States
CATEGORIES:Card Shows
ORGANIZER;CN="Bryce":MAILTO:PittsburghCardShow@gmail.com
END:VEVENT
BEGIN:VEVENT
DTSTART;TZID=America/New_York:20260213T110000
DTEND;TZID=America/New_York:20260213T190000
DTSTAMP:20260423T021725
CREATED:20260113T220047Z
LAST-MODIFIED:20260113T220047Z
UID:65433-1770980400-1771009200@www.sportscardinvestor.com
SUMMARY:Sports Fanz & The Pittsburgh Card Show Present: The Sports Cards & Collectibles\, Pokemon\, One Piece & TCG SHOW
DESCRIPTION:
URL:https://www.sportscardinvestor.com/event/sports-fanz-the-pittsburgh-card-show-present-the-sports-cards-collectibles-pokemon-one-piece-tcg-show/2026-02-13/
LOCATION:Meadowbrook Mall\, 2399 Meadowbrook Mall Rd\, Bridgeport\, WV\, 26330\, United States
CATEGORIES:Card Shows
ORGANIZER;CN="Bryce":MAILTO:PittsburghCardShow@gmail.com
END:VEVENT
END:VCALENDAR