BEGIN:VCALENDAR
VERSION:2.0
PRODID:-//Sports Card Investor - ECPv6.15.20//NONSGML v1.0//EN
CALSCALE:GREGORIAN
METHOD:PUBLISH
X-WR-CALNAME:Sports Card Investor
X-ORIGINAL-URL:https://www.sportscardinvestor.com
X-WR-CALDESC:Events for Sports Card Investor
REFRESH-INTERVAL;VALUE=DURATION:PT1H
X-Robots-Tag:noindex
X-PUBLISHED-TTL:PT1H
BEGIN:VTIMEZONE
TZID:America/New_York
BEGIN:DAYLIGHT
TZOFFSETFROM:-0500
TZOFFSETTO:-0400
TZNAME:EDT
DTSTART:20230312T070000
END:DAYLIGHT
BEGIN:STANDARD
TZOFFSETFROM:-0400
TZOFFSETTO:-0500
TZNAME:EST
DTSTART:20231105T060000
END:STANDARD
BEGIN:DAYLIGHT
TZOFFSETFROM:-0500
TZOFFSETTO:-0400
TZNAME:EDT
DTSTART:20240310T070000
END:DAYLIGHT
BEGIN:STANDARD
TZOFFSETFROM:-0400
TZOFFSETTO:-0500
TZNAME:EST
DTSTART:20241103T060000
END:STANDARD
BEGIN:DAYLIGHT
TZOFFSETFROM:-0500
TZOFFSETTO:-0400
TZNAME:EDT
DTSTART:20250309T070000
END:DAYLIGHT
BEGIN:STANDARD
TZOFFSETFROM:-0400
TZOFFSETTO:-0500
TZNAME:EST
DTSTART:20251102T060000
END:STANDARD
BEGIN:DAYLIGHT
TZOFFSETFROM:-0500
TZOFFSETTO:-0400
TZNAME:EDT
DTSTART:20260308T070000
END:DAYLIGHT
BEGIN:STANDARD
TZOFFSETFROM:-0400
TZOFFSETTO:-0500
TZNAME:EST
DTSTART:20261101T060000
END:STANDARD
BEGIN:DAYLIGHT
TZOFFSETFROM:-0500
TZOFFSETTO:-0400
TZNAME:EDT
DTSTART:20270314T070000
END:DAYLIGHT
BEGIN:STANDARD
TZOFFSETFROM:-0400
TZOFFSETTO:-0500
TZNAME:EST
DTSTART:20271107T060000
END:STANDARD
END:VTIMEZONE
BEGIN:VEVENT
DTSTART;TZID=America/New_York:20260314T090000
DTEND;TZID=America/New_York:20260314T140000
DTSTAMP:20260420T043120
CREATED:20251216T214047Z
LAST-MODIFIED:20251216T214047Z
UID:65303-1773478800-1773496800@www.sportscardinvestor.com
SUMMARY:Landers Rips Card Show
DESCRIPTION:
URL:https://www.sportscardinvestor.com/event/landers-rips-card-show-3/
LOCATION:Marley Station Mall\, 7900 Ritchie Hwy\, Glen Burnie\, MD\, 21061\, United States
CATEGORIES:Card Shows
ORGANIZER;CN="Tyler Cherry":MAILTO:landersrips22@gmail.com
GEO:39.1386697;-76.6060397
X-APPLE-STRUCTURED-LOCATION;VALUE=URI;X-ADDRESS=Marley Station Mall 7900 Ritchie Hwy Glen Burnie MD 21061 United States;X-APPLE-RADIUS=500;X-TITLE=7900 Ritchie Hwy:geo:-76.6060397,39.1386697
END:VEVENT
BEGIN:VEVENT
DTSTART;TZID=America/New_York:20240928T090000
DTEND;TZID=America/New_York:20240928T140000
DTSTAMP:20260420T043120
CREATED:20240702T143519Z
LAST-MODIFIED:20240702T143519Z
UID:63485-1727514000-1727532000@www.sportscardinvestor.com
SUMMARY:Landers Rips Card Show
DESCRIPTION:
URL:https://www.sportscardinvestor.com/event/landers-rips-card-show-2/
LOCATION:Marley Station Mall\, 7900 Ritchie Hwy\, Glen Burnie\, MD\, 21061\, United States
CATEGORIES:Card Shows
GEO:39.1386697;-76.6060397
X-APPLE-STRUCTURED-LOCATION;VALUE=URI;X-ADDRESS=Marley Station Mall 7900 Ritchie Hwy Glen Burnie MD 21061 United States;X-APPLE-RADIUS=500;X-TITLE=7900 Ritchie Hwy:geo:-76.6060397,39.1386697
END:VEVENT
BEGIN:VEVENT
DTSTART;TZID=America/New_York:20240504T090000
DTEND;TZID=America/New_York:20240504T140000
DTSTAMP:20260420T043120
CREATED:20240503T220235Z
LAST-MODIFIED:20240503T220235Z
UID:62896-1714813200-1714831200@www.sportscardinvestor.com
SUMMARY:Landers Rips's Sports Card\, Pokémon & Collectibles Show
DESCRIPTION:
URL:https://www.sportscardinvestor.com/event/landers-ripss-sports-card-pokemon-collectibles-show/
LOCATION:Marley Station Mall\, 7900 Ritchie Hwy\, Glen Burnie\, MD\, 21061\, United States
CATEGORIES:Card Shows
GEO:39.1386697;-76.6060397
X-APPLE-STRUCTURED-LOCATION;VALUE=URI;X-ADDRESS=Marley Station Mall 7900 Ritchie Hwy Glen Burnie MD 21061 United States;X-APPLE-RADIUS=500;X-TITLE=7900 Ritchie Hwy:geo:-76.6060397,39.1386697
END:VEVENT
BEGIN:VEVENT
DTSTART;TZID=America/New_York:20240504T090000
DTEND;TZID=America/New_York:20240504T140000
DTSTAMP:20260420T043120
CREATED:20240323T023722Z
LAST-MODIFIED:20240323T023722Z
UID:62535-1714813200-1714831200@www.sportscardinvestor.com
SUMMARY:Landers Rips Card Show
DESCRIPTION:
URL:https://www.sportscardinvestor.com/event/landers-rips-card-show/
LOCATION:Marley Station Mall\, 7900 Ritchie Hwy\, Glen Burnie\, MD\, 21061\, United States
CATEGORIES:Card Shows
GEO:39.1386697;-76.6060397
X-APPLE-STRUCTURED-LOCATION;VALUE=URI;X-ADDRESS=Marley Station Mall 7900 Ritchie Hwy Glen Burnie MD 21061 United States;X-APPLE-RADIUS=500;X-TITLE=7900 Ritchie Hwy:geo:-76.6060397,39.1386697
END:VEVENT
END:VCALENDAR