BEGIN:VCALENDAR
VERSION:2.0
PRODID:-//Sports Card Investor - ECPv6.15.20//NONSGML v1.0//EN
CALSCALE:GREGORIAN
METHOD:PUBLISH
X-ORIGINAL-URL:https://www.sportscardinvestor.com
X-WR-CALDESC:Events for Sports Card Investor
REFRESH-INTERVAL;VALUE=DURATION:PT1H
X-Robots-Tag:noindex
X-PUBLISHED-TTL:PT1H
BEGIN:VTIMEZONE
TZID:America/New_York
BEGIN:DAYLIGHT
TZOFFSETFROM:-0500
TZOFFSETTO:-0400
TZNAME:EDT
DTSTART:20210314T070000
END:DAYLIGHT
BEGIN:STANDARD
TZOFFSETFROM:-0400
TZOFFSETTO:-0500
TZNAME:EST
DTSTART:20211107T060000
END:STANDARD
BEGIN:DAYLIGHT
TZOFFSETFROM:-0500
TZOFFSETTO:-0400
TZNAME:EDT
DTSTART:20220313T070000
END:DAYLIGHT
BEGIN:STANDARD
TZOFFSETFROM:-0400
TZOFFSETTO:-0500
TZNAME:EST
DTSTART:20221106T060000
END:STANDARD
BEGIN:DAYLIGHT
TZOFFSETFROM:-0500
TZOFFSETTO:-0400
TZNAME:EDT
DTSTART:20230312T070000
END:DAYLIGHT
BEGIN:STANDARD
TZOFFSETFROM:-0400
TZOFFSETTO:-0500
TZNAME:EST
DTSTART:20231105T060000
END:STANDARD
END:VTIMEZONE
BEGIN:VEVENT
DTSTART;VALUE=DATE:20220423
DTEND;VALUE=DATE:20220424
DTSTAMP:20260419T161217
CREATED:20220421T143326Z
LAST-MODIFIED:20220421T163115Z
UID:39642-1650672000-1650758399@www.sportscardinvestor.com
SUMMARY:Red Cedar Sports Show
DESCRIPTION:
URL:https://www.sportscardinvestor.com/event/red-cedar-sports-show/2022-04-23/
LOCATION:Lansing Mall\, 5330 West Saginaw Hwy\, Lansing\, MI\, 48917\, United States
CATEGORIES:Card Shows
GEO:42.7433301;-84.6290083
X-APPLE-STRUCTURED-LOCATION;VALUE=URI;X-ADDRESS=Lansing Mall 5330 West Saginaw Hwy Lansing MI 48917 United States;X-APPLE-RADIUS=500;X-TITLE=5330 West Saginaw Hwy:geo:-84.6290083,42.7433301
END:VEVENT
END:VCALENDAR