BEGIN:VCALENDAR
VERSION:2.0
PRODID:-//Sports Card Investor - ECPv6.15.20//NONSGML v1.0//EN
CALSCALE:GREGORIAN
METHOD:PUBLISH
X-WR-CALNAME:Sports Card Investor
X-ORIGINAL-URL:https://www.sportscardinvestor.com
X-WR-CALDESC:Events for Sports Card Investor
REFRESH-INTERVAL;VALUE=DURATION:PT1H
X-Robots-Tag:noindex
X-PUBLISHED-TTL:PT1H
BEGIN:VTIMEZONE
TZID:America/New_York
BEGIN:DAYLIGHT
TZOFFSETFROM:-0500
TZOFFSETTO:-0400
TZNAME:EDT
DTSTART:20210314T070000
END:DAYLIGHT
BEGIN:STANDARD
TZOFFSETFROM:-0400
TZOFFSETTO:-0500
TZNAME:EST
DTSTART:20211107T060000
END:STANDARD
BEGIN:DAYLIGHT
TZOFFSETFROM:-0500
TZOFFSETTO:-0400
TZNAME:EDT
DTSTART:20220313T070000
END:DAYLIGHT
BEGIN:STANDARD
TZOFFSETFROM:-0400
TZOFFSETTO:-0500
TZNAME:EST
DTSTART:20221106T060000
END:STANDARD
BEGIN:DAYLIGHT
TZOFFSETFROM:-0500
TZOFFSETTO:-0400
TZNAME:EDT
DTSTART:20230312T070000
END:DAYLIGHT
BEGIN:STANDARD
TZOFFSETFROM:-0400
TZOFFSETTO:-0500
TZNAME:EST
DTSTART:20231105T060000
END:STANDARD
BEGIN:DAYLIGHT
TZOFFSETFROM:-0500
TZOFFSETTO:-0400
TZNAME:EDT
DTSTART:20240310T070000
END:DAYLIGHT
BEGIN:STANDARD
TZOFFSETFROM:-0400
TZOFFSETTO:-0500
TZNAME:EST
DTSTART:20241103T060000
END:STANDARD
BEGIN:DAYLIGHT
TZOFFSETFROM:-0500
TZOFFSETTO:-0400
TZNAME:EDT
DTSTART:20250309T070000
END:DAYLIGHT
BEGIN:STANDARD
TZOFFSETFROM:-0400
TZOFFSETTO:-0500
TZNAME:EST
DTSTART:20251102T060000
END:STANDARD
END:VTIMEZONE
BEGIN:VEVENT
DTSTART;TZID=America/New_York:20240607T090000
DTEND;TZID=America/New_York:20240607T160000
DTSTAMP:20260424T013412
CREATED:20231202T153808Z
LAST-MODIFIED:20240909T180601Z
UID:60104-1717750800-1717776000@www.sportscardinvestor.com
SUMMARY:Pitch Promotions
DESCRIPTION:
URL:https://www.sportscardinvestor.com/event/pitch-promotions-4/
LOCATION:Kerr Scott Building – NC State Fairgrounds\, 1025 Blue Ridge Road\, Raleigh\, NC\, 27607\, United States
CATEGORIES:Card Shows
GEO:35.7951993;-78.7069746
X-APPLE-STRUCTURED-LOCATION;VALUE=URI;X-ADDRESS=Kerr Scott Building – NC State Fairgrounds 1025 Blue Ridge Road Raleigh NC 27607 United States;X-APPLE-RADIUS=500;X-TITLE=1025 Blue Ridge Road:geo:-78.7069746,35.7951993
END:VEVENT
BEGIN:VEVENT
DTSTART;TZID=America/New_York:20231208T130000
DTEND;TZID=America/New_York:20231208T190000
DTSTAMP:20260424T013412
CREATED:20230923T021308Z
LAST-MODIFIED:20230923T021308Z
UID:58528-1702040400-1702062000@www.sportscardinvestor.com
SUMMARY:Raleigh Sports Card\, Collectibles & Comic Book Show
DESCRIPTION:
URL:https://www.sportscardinvestor.com/event/raleigh-sports-card-collectibles-comic-book-show/2023-12-08/
LOCATION:Kerr Scott Building – NC State Fairgrounds\, 1025 Blue Ridge Road\, Raleigh\, NC\, 27607\, United States
CATEGORIES:Card Shows
GEO:35.7951993;-78.7069746
X-APPLE-STRUCTURED-LOCATION;VALUE=URI;X-ADDRESS=Kerr Scott Building – NC State Fairgrounds 1025 Blue Ridge Road Raleigh NC 27607 United States;X-APPLE-RADIUS=500;X-TITLE=1025 Blue Ridge Road:geo:-78.7069746,35.7951993
END:VEVENT
BEGIN:VEVENT
DTSTART;TZID=America/New_York:20231208T130000
DTEND;TZID=America/New_York:20231208T190000
DTSTAMP:20260424T013412
CREATED:20230923T012807Z
LAST-MODIFIED:20230923T012807Z
UID:58480-1702040400-1702062000@www.sportscardinvestor.com
SUMMARY:Raleigh Toy\, Sportscard\, Pokemon & Hot Wheels Show
DESCRIPTION:
URL:https://www.sportscardinvestor.com/event/raleigh-toy-sportscard-pokemon-hot-wheels-show/2023-12-08/
LOCATION:Kerr Scott Building – NC State Fairgrounds\, 1025 Blue Ridge Road\, Raleigh\, NC\, 27607\, United States
CATEGORIES:Card Shows
GEO:35.7951993;-78.7069746
X-APPLE-STRUCTURED-LOCATION;VALUE=URI;X-ADDRESS=Kerr Scott Building – NC State Fairgrounds 1025 Blue Ridge Road Raleigh NC 27607 United States;X-APPLE-RADIUS=500;X-TITLE=1025 Blue Ridge Road:geo:-78.7069746,35.7951993
END:VEVENT
BEGIN:VEVENT
DTSTART;VALUE=DATE:20221209
DTEND;VALUE=DATE:20221212
DTSTAMP:20260424T013412
CREATED:20221209T153731Z
LAST-MODIFIED:20221209T153731Z
UID:49821-1670544000-1670803199@www.sportscardinvestor.com
SUMMARY:Raleigh Sports Card Show
DESCRIPTION:Show hours: \nFriday\, Dec 9: 2-8 \nSaturday\, Dec 10: 9-5 \nSunday\, Dec 11: 10-4
URL:https://www.sportscardinvestor.com/event/raleigh-sports-card-show/
LOCATION:Kerr Scott Building – NC State Fairgrounds\, 1025 Blue Ridge Road\, Raleigh\, NC\, 27607\, United States
CATEGORIES:Card Shows
GEO:35.7951993;-78.7069746
X-APPLE-STRUCTURED-LOCATION;VALUE=URI;X-ADDRESS=Kerr Scott Building – NC State Fairgrounds 1025 Blue Ridge Road Raleigh NC 27607 United States;X-APPLE-RADIUS=500;X-TITLE=1025 Blue Ridge Road:geo:-78.7069746,35.7951993
END:VEVENT
END:VCALENDAR