BEGIN:VCALENDAR
VERSION:2.0
PRODID:-//Sports Card Investor - ECPv6.15.20//NONSGML v1.0//EN
CALSCALE:GREGORIAN
METHOD:PUBLISH
X-WR-CALNAME:Sports Card Investor
X-ORIGINAL-URL:https://www.sportscardinvestor.com
X-WR-CALDESC:Events for Sports Card Investor
REFRESH-INTERVAL;VALUE=DURATION:PT1H
X-Robots-Tag:noindex
X-PUBLISHED-TTL:PT1H
BEGIN:VTIMEZONE
TZID:America/New_York
BEGIN:DAYLIGHT
TZOFFSETFROM:-0500
TZOFFSETTO:-0400
TZNAME:EDT
DTSTART:20240310T070000
END:DAYLIGHT
BEGIN:STANDARD
TZOFFSETFROM:-0400
TZOFFSETTO:-0500
TZNAME:EST
DTSTART:20241103T060000
END:STANDARD
BEGIN:DAYLIGHT
TZOFFSETFROM:-0500
TZOFFSETTO:-0400
TZNAME:EDT
DTSTART:20250309T070000
END:DAYLIGHT
BEGIN:STANDARD
TZOFFSETFROM:-0400
TZOFFSETTO:-0500
TZNAME:EST
DTSTART:20251102T060000
END:STANDARD
BEGIN:DAYLIGHT
TZOFFSETFROM:-0500
TZOFFSETTO:-0400
TZNAME:EDT
DTSTART:20260308T070000
END:DAYLIGHT
BEGIN:STANDARD
TZOFFSETFROM:-0400
TZOFFSETTO:-0500
TZNAME:EST
DTSTART:20261101T060000
END:STANDARD
END:VTIMEZONE
BEGIN:VEVENT
DTSTART;TZID=America/New_York:20250405T090000
DTEND;TZID=America/New_York:20250405T170000
DTSTAMP:20260422T081659
CREATED:20250317T155543Z
LAST-MODIFIED:20250317T155543Z
UID:64712-1743843600-1743872400@www.sportscardinvestor.com
SUMMARY:Sports Wax Promotions Card Show
DESCRIPTION:Admission: $5\n250 Tables
URL:https://www.sportscardinvestor.com/event/sports-wax-promotions-card-show-3/
LOCATION:Jamil Shrine Center\, 206 Jamil Rd\, Columbia\, SC\, 29210\, United States
CATEGORIES:Card Shows
GEO:34.048518;-81.1240348
X-APPLE-STRUCTURED-LOCATION;VALUE=URI;X-ADDRESS=Jamil Shrine Center 206 Jamil Rd Columbia SC 29210 United States;X-APPLE-RADIUS=500;X-TITLE=206 Jamil Rd:geo:-81.1240348,34.048518
END:VEVENT
END:VCALENDAR