BEGIN:VCALENDAR
VERSION:2.0
PRODID:-//Sports Card Investor - ECPv6.15.20//NONSGML v1.0//EN
CALSCALE:GREGORIAN
METHOD:PUBLISH
X-WR-CALNAME:Sports Card Investor
X-ORIGINAL-URL:https://www.sportscardinvestor.com
X-WR-CALDESC:Events for Sports Card Investor
REFRESH-INTERVAL;VALUE=DURATION:PT1H
X-Robots-Tag:noindex
X-PUBLISHED-TTL:PT1H
BEGIN:VTIMEZONE
TZID:America/New_York
BEGIN:DAYLIGHT
TZOFFSETFROM:-0500
TZOFFSETTO:-0400
TZNAME:EDT
DTSTART:20210314T070000
END:DAYLIGHT
BEGIN:STANDARD
TZOFFSETFROM:-0400
TZOFFSETTO:-0500
TZNAME:EST
DTSTART:20211107T060000
END:STANDARD
BEGIN:DAYLIGHT
TZOFFSETFROM:-0500
TZOFFSETTO:-0400
TZNAME:EDT
DTSTART:20220313T070000
END:DAYLIGHT
BEGIN:STANDARD
TZOFFSETFROM:-0400
TZOFFSETTO:-0500
TZNAME:EST
DTSTART:20221106T060000
END:STANDARD
BEGIN:DAYLIGHT
TZOFFSETFROM:-0500
TZOFFSETTO:-0400
TZNAME:EDT
DTSTART:20230312T070000
END:DAYLIGHT
BEGIN:STANDARD
TZOFFSETFROM:-0400
TZOFFSETTO:-0500
TZNAME:EST
DTSTART:20231105T060000
END:STANDARD
BEGIN:DAYLIGHT
TZOFFSETFROM:-0500
TZOFFSETTO:-0400
TZNAME:EDT
DTSTART:20240310T070000
END:DAYLIGHT
BEGIN:STANDARD
TZOFFSETFROM:-0400
TZOFFSETTO:-0500
TZNAME:EST
DTSTART:20241103T060000
END:STANDARD
END:VTIMEZONE
BEGIN:VEVENT
DTSTART;TZID=America/New_York:20230527T090000
DTEND;TZID=America/New_York:20230527T150000
DTSTAMP:20260423T130300
CREATED:20230417T192915Z
LAST-MODIFIED:20230417T192915Z
UID:52657-1685178000-1685199600@www.sportscardinvestor.com
SUMMARY:Jefferson Card Show
DESCRIPTION:9am-3pm
URL:https://www.sportscardinvestor.com/event/jefferson-card-show/
LOCATION:Jackson County Agricultural Facility\, 1869 County Farm Rd\, Jefferson\, GA\, 30549\, United States
CATEGORIES:Card Shows
GEO:34.1473617;-83.5572128
X-APPLE-STRUCTURED-LOCATION;VALUE=URI;X-ADDRESS=Jackson County Agricultural Facility 1869 County Farm Rd Jefferson GA 30549 United States;X-APPLE-RADIUS=500;X-TITLE=1869 County Farm Rd:geo:-83.5572128,34.1473617
END:VEVENT
BEGIN:VEVENT
DTSTART;VALUE=DATE:20230526
DTEND;VALUE=DATE:20230528
DTSTAMP:20260423T130300
CREATED:20230512T161021Z
LAST-MODIFIED:20230512T161149Z
UID:55241-1685059200-1685231999@www.sportscardinvestor.com
SUMMARY:Jefferson Card Show
DESCRIPTION:Show hours: \nMay 26: 4-9 \nMay 27: 9-3
URL:https://www.sportscardinvestor.com/event/jefferson-card-show-2/
LOCATION:Jackson County Agricultural Facility\, 1869 County Farm Rd\, Jefferson\, GA\, 30549\, United States
CATEGORIES:Card Shows
GEO:34.1473617;-83.5572128
X-APPLE-STRUCTURED-LOCATION;VALUE=URI;X-ADDRESS=Jackson County Agricultural Facility 1869 County Farm Rd Jefferson GA 30549 United States;X-APPLE-RADIUS=500;X-TITLE=1869 County Farm Rd:geo:-83.5572128,34.1473617
END:VEVENT
BEGIN:VEVENT
DTSTART;VALUE=DATE:20221112
DTEND;VALUE=DATE:20221113
DTSTAMP:20260423T130300
CREATED:20221111T160050Z
LAST-MODIFIED:20221111T160050Z
UID:49162-1668211200-1668297599@www.sportscardinvestor.com
SUMMARY:Commerce Card Show
DESCRIPTION:Show hours: \nSaturday\, Nov. 12: 9-3
URL:https://www.sportscardinvestor.com/event/commerce-card-show/
LOCATION:Jackson County Agricultural Facility\, 1869 County Farm Rd\, Jefferson\, GA\, 30549\, United States
CATEGORIES:Card Shows
GEO:34.1473617;-83.5572128
X-APPLE-STRUCTURED-LOCATION;VALUE=URI;X-ADDRESS=Jackson County Agricultural Facility 1869 County Farm Rd Jefferson GA 30549 United States;X-APPLE-RADIUS=500;X-TITLE=1869 County Farm Rd:geo:-83.5572128,34.1473617
END:VEVENT
END:VCALENDAR