BEGIN:VCALENDAR
VERSION:2.0
PRODID:-//Sports Card Investor - ECPv6.15.20//NONSGML v1.0//EN
CALSCALE:GREGORIAN
METHOD:PUBLISH
X-ORIGINAL-URL:https://www.sportscardinvestor.com
X-WR-CALDESC:Events for Sports Card Investor
REFRESH-INTERVAL;VALUE=DURATION:PT1H
X-Robots-Tag:noindex
X-PUBLISHED-TTL:PT1H
BEGIN:VTIMEZONE
TZID:America/New_York
BEGIN:DAYLIGHT
TZOFFSETFROM:-0500
TZOFFSETTO:-0400
TZNAME:EDT
DTSTART:20210314T070000
END:DAYLIGHT
BEGIN:STANDARD
TZOFFSETFROM:-0400
TZOFFSETTO:-0500
TZNAME:EST
DTSTART:20211107T060000
END:STANDARD
BEGIN:DAYLIGHT
TZOFFSETFROM:-0500
TZOFFSETTO:-0400
TZNAME:EDT
DTSTART:20220313T070000
END:DAYLIGHT
BEGIN:STANDARD
TZOFFSETFROM:-0400
TZOFFSETTO:-0500
TZNAME:EST
DTSTART:20221106T060000
END:STANDARD
BEGIN:DAYLIGHT
TZOFFSETFROM:-0500
TZOFFSETTO:-0400
TZNAME:EDT
DTSTART:20230312T070000
END:DAYLIGHT
BEGIN:STANDARD
TZOFFSETFROM:-0400
TZOFFSETTO:-0500
TZNAME:EST
DTSTART:20231105T060000
END:STANDARD
END:VTIMEZONE
BEGIN:VEVENT
DTSTART;VALUE=DATE:20220423
DTEND;VALUE=DATE:20220425
DTSTAMP:20260423T070231
CREATED:20220422T171739Z
LAST-MODIFIED:20220422T171739Z
UID:40266-1650672000-1650844799@www.sportscardinvestor.com
SUMMARY:Long Island National Show
DESCRIPTION:
URL:https://www.sportscardinvestor.com/event/long-island-national-show/
LOCATION:Hofstra University\, 245 Hofstra Northern Blvd\, Hempstead\, NY\, 11549\, United States
CATEGORIES:Card Shows
GEO:40.7190736;-73.6009792
X-APPLE-STRUCTURED-LOCATION;VALUE=URI;X-ADDRESS=Hofstra University 245 Hofstra Northern Blvd Hempstead NY 11549 United States;X-APPLE-RADIUS=500;X-TITLE=245 Hofstra Northern Blvd:geo:-73.6009792,40.7190736
END:VEVENT
END:VCALENDAR