BEGIN:VCALENDAR
VERSION:2.0
PRODID:-//Sports Card Investor - ECPv6.15.20//NONSGML v1.0//EN
CALSCALE:GREGORIAN
METHOD:PUBLISH
X-WR-CALNAME:Sports Card Investor
X-ORIGINAL-URL:https://www.sportscardinvestor.com
X-WR-CALDESC:Events for Sports Card Investor
REFRESH-INTERVAL;VALUE=DURATION:PT1H
X-Robots-Tag:noindex
X-PUBLISHED-TTL:PT1H
BEGIN:VTIMEZONE
TZID:America/New_York
BEGIN:DAYLIGHT
TZOFFSETFROM:-0500
TZOFFSETTO:-0400
TZNAME:EDT
DTSTART:20210314T070000
END:DAYLIGHT
BEGIN:STANDARD
TZOFFSETFROM:-0400
TZOFFSETTO:-0500
TZNAME:EST
DTSTART:20211107T060000
END:STANDARD
BEGIN:DAYLIGHT
TZOFFSETFROM:-0500
TZOFFSETTO:-0400
TZNAME:EDT
DTSTART:20220313T070000
END:DAYLIGHT
BEGIN:STANDARD
TZOFFSETFROM:-0400
TZOFFSETTO:-0500
TZNAME:EST
DTSTART:20221106T060000
END:STANDARD
BEGIN:DAYLIGHT
TZOFFSETFROM:-0500
TZOFFSETTO:-0400
TZNAME:EDT
DTSTART:20230312T070000
END:DAYLIGHT
BEGIN:STANDARD
TZOFFSETFROM:-0400
TZOFFSETTO:-0500
TZNAME:EST
DTSTART:20231105T060000
END:STANDARD
BEGIN:DAYLIGHT
TZOFFSETFROM:-0500
TZOFFSETTO:-0400
TZNAME:EDT
DTSTART:20240310T070000
END:DAYLIGHT
BEGIN:STANDARD
TZOFFSETFROM:-0400
TZOFFSETTO:-0500
TZNAME:EST
DTSTART:20241103T060000
END:STANDARD
END:VTIMEZONE
BEGIN:VEVENT
DTSTART;VALUE=DATE:20230408
DTEND;VALUE=DATE:20230409
DTSTAMP:20260425T105513
CREATED:20230130T143957Z
LAST-MODIFIED:20230303T172708Z
UID:51016-1680912000-1680998399@www.sportscardinvestor.com
SUMMARY:Garden State Trading Card Show
DESCRIPTION:Show hours: \nAll dates: 9-4
URL:https://www.sportscardinvestor.com/event/garden-state-trading-card-show-5/
LOCATION:Hilton Hasbrouck Heights/Meadowlands\, 650 Terrace Ave\, Hasbrouck Heights\, NJ\, 07604\, United States
CATEGORIES:Card Shows
GEO:40.8713806;-74.0618655
X-APPLE-STRUCTURED-LOCATION;VALUE=URI;X-ADDRESS=Hilton Hasbrouck Heights/Meadowlands 650 Terrace Ave Hasbrouck Heights NJ 07604 United States;X-APPLE-RADIUS=500;X-TITLE=650 Terrace Ave:geo:-74.0618655,40.8713806
END:VEVENT
BEGIN:VEVENT
DTSTART;VALUE=DATE:20221210
DTEND;VALUE=DATE:20221211
DTSTAMP:20260425T105513
CREATED:20221009T200909Z
LAST-MODIFIED:20221009T200909Z
UID:47738-1670630400-1670716799@www.sportscardinvestor.com
SUMMARY:Garden State Trading Card Show
DESCRIPTION:
URL:https://www.sportscardinvestor.com/event/garden-state-trading-card-show-3/
LOCATION:Hilton Hasbrouck Heights/Meadowlands\, 650 Terrace Ave\, Hasbrouck Heights\, NJ\, 07604\, United States
CATEGORIES:Card Shows
GEO:40.8713806;-74.0618655
X-APPLE-STRUCTURED-LOCATION;VALUE=URI;X-ADDRESS=Hilton Hasbrouck Heights/Meadowlands 650 Terrace Ave Hasbrouck Heights NJ 07604 United States;X-APPLE-RADIUS=500;X-TITLE=650 Terrace Ave:geo:-74.0618655,40.8713806
END:VEVENT
END:VCALENDAR