BEGIN:VCALENDAR
VERSION:2.0
PRODID:-//Sports Card Investor - ECPv6.15.20//NONSGML v1.0//EN
CALSCALE:GREGORIAN
METHOD:PUBLISH
X-WR-CALNAME:Sports Card Investor
X-ORIGINAL-URL:https://www.sportscardinvestor.com
X-WR-CALDESC:Events for Sports Card Investor
REFRESH-INTERVAL;VALUE=DURATION:PT1H
X-Robots-Tag:noindex
X-PUBLISHED-TTL:PT1H
BEGIN:VTIMEZONE
TZID:America/New_York
BEGIN:DAYLIGHT
TZOFFSETFROM:-0500
TZOFFSETTO:-0400
TZNAME:EDT
DTSTART:20210314T070000
END:DAYLIGHT
BEGIN:STANDARD
TZOFFSETFROM:-0400
TZOFFSETTO:-0500
TZNAME:EST
DTSTART:20211107T060000
END:STANDARD
BEGIN:DAYLIGHT
TZOFFSETFROM:-0500
TZOFFSETTO:-0400
TZNAME:EDT
DTSTART:20220313T070000
END:DAYLIGHT
BEGIN:STANDARD
TZOFFSETFROM:-0400
TZOFFSETTO:-0500
TZNAME:EST
DTSTART:20221106T060000
END:STANDARD
BEGIN:DAYLIGHT
TZOFFSETFROM:-0500
TZOFFSETTO:-0400
TZNAME:EDT
DTSTART:20230312T070000
END:DAYLIGHT
BEGIN:STANDARD
TZOFFSETFROM:-0400
TZOFFSETTO:-0500
TZNAME:EST
DTSTART:20231105T060000
END:STANDARD
END:VTIMEZONE
BEGIN:VEVENT
DTSTART;VALUE=DATE:20220710
DTEND;VALUE=DATE:20220711
DTSTAMP:20260422T224056
CREATED:20220623T135546Z
LAST-MODIFIED:20220623T135546Z
UID:42897-1657411200-1657497599@www.sportscardinvestor.com
SUMMARY:JB’s Trading Card Show
DESCRIPTION:
URL:https://www.sportscardinvestor.com/event/jbs-trading-card-show/
LOCATION:Garden Spot Fire Hall\, 339 E Main St\, New Holland\, PA\, 17557\, United States
CATEGORIES:Card Shows
GEO:40.1044725;-76.0818842
X-APPLE-STRUCTURED-LOCATION;VALUE=URI;X-ADDRESS=Garden Spot Fire Hall 339 E Main St New Holland PA 17557 United States;X-APPLE-RADIUS=500;X-TITLE=339 E Main St:geo:-76.0818842,40.1044725
END:VEVENT
END:VCALENDAR