BEGIN:VCALENDAR
VERSION:2.0
PRODID:-//Sports Card Investor - ECPv6.15.20//NONSGML v1.0//EN
CALSCALE:GREGORIAN
METHOD:PUBLISH
X-ORIGINAL-URL:https://www.sportscardinvestor.com
X-WR-CALDESC:Events for Sports Card Investor
REFRESH-INTERVAL;VALUE=DURATION:PT1H
X-Robots-Tag:noindex
X-PUBLISHED-TTL:PT1H
BEGIN:VTIMEZONE
TZID:America/New_York
BEGIN:DAYLIGHT
TZOFFSETFROM:-0500
TZOFFSETTO:-0400
TZNAME:EDT
DTSTART:20230312T070000
END:DAYLIGHT
BEGIN:STANDARD
TZOFFSETFROM:-0400
TZOFFSETTO:-0500
TZNAME:EST
DTSTART:20231105T060000
END:STANDARD
BEGIN:DAYLIGHT
TZOFFSETFROM:-0500
TZOFFSETTO:-0400
TZNAME:EDT
DTSTART:20240310T070000
END:DAYLIGHT
BEGIN:STANDARD
TZOFFSETFROM:-0400
TZOFFSETTO:-0500
TZNAME:EST
DTSTART:20241103T060000
END:STANDARD
BEGIN:DAYLIGHT
TZOFFSETFROM:-0500
TZOFFSETTO:-0400
TZNAME:EDT
DTSTART:20250309T070000
END:DAYLIGHT
BEGIN:STANDARD
TZOFFSETFROM:-0400
TZOFFSETTO:-0500
TZNAME:EST
DTSTART:20251102T060000
END:STANDARD
END:VTIMEZONE
BEGIN:VEVENT
DTSTART;TZID=America/New_York:20240601T090000
DTEND;TZID=America/New_York:20240601T170000
DTSTAMP:20260425T174013
CREATED:20240401T184813Z
LAST-MODIFIED:20240401T184813Z
UID:62611-1717232400-1717261200@www.sportscardinvestor.com
SUMMARY:Frederick Sports Card Show 2.0
DESCRIPTION:
URL:https://www.sportscardinvestor.com/event/frederick-sports-card-show-2-0/
LOCATION:Francis Scott Key Mall\, 5500 Buckeystown Pike\, Frederick\, MD\, 21703
CATEGORIES:Card Shows
GEO:39.3828579;-77.4060038
X-APPLE-STRUCTURED-LOCATION;VALUE=URI;X-ADDRESS=Francis Scott Key Mall 5500 Buckeystown Pike Frederick MD 21703;X-APPLE-RADIUS=500;X-TITLE=5500 Buckeystown Pike:geo:-77.4060038,39.3828579
END:VEVENT
END:VCALENDAR