BEGIN:VCALENDAR
VERSION:2.0
PRODID:-//Sports Card Investor - ECPv6.15.20//NONSGML v1.0//EN
CALSCALE:GREGORIAN
METHOD:PUBLISH
X-WR-CALNAME:Sports Card Investor
X-ORIGINAL-URL:https://www.sportscardinvestor.com
X-WR-CALDESC:Events for Sports Card Investor
REFRESH-INTERVAL;VALUE=DURATION:PT1H
X-Robots-Tag:noindex
X-PUBLISHED-TTL:PT1H
BEGIN:VTIMEZONE
TZID:America/New_York
BEGIN:DAYLIGHT
TZOFFSETFROM:-0500
TZOFFSETTO:-0400
TZNAME:EDT
DTSTART:20210314T070000
END:DAYLIGHT
BEGIN:STANDARD
TZOFFSETFROM:-0400
TZOFFSETTO:-0500
TZNAME:EST
DTSTART:20211107T060000
END:STANDARD
BEGIN:DAYLIGHT
TZOFFSETFROM:-0500
TZOFFSETTO:-0400
TZNAME:EDT
DTSTART:20220313T070000
END:DAYLIGHT
BEGIN:STANDARD
TZOFFSETFROM:-0400
TZOFFSETTO:-0500
TZNAME:EST
DTSTART:20221106T060000
END:STANDARD
BEGIN:DAYLIGHT
TZOFFSETFROM:-0500
TZOFFSETTO:-0400
TZNAME:EDT
DTSTART:20230312T070000
END:DAYLIGHT
BEGIN:STANDARD
TZOFFSETFROM:-0400
TZOFFSETTO:-0500
TZNAME:EST
DTSTART:20231105T060000
END:STANDARD
END:VTIMEZONE
BEGIN:VEVENT
DTSTART;VALUE=DATE:20220528
DTEND;VALUE=DATE:20220530
DTSTAMP:20260420T132759
CREATED:20220413T183943Z
LAST-MODIFIED:20220421T163034Z
UID:38885-1653696000-1653868799@www.sportscardinvestor.com
SUMMARY:Collect-A-Con
DESCRIPTION:Billed as the country’s largest trading card\, anime and pop culture conference\, Collect-A-Con is a series of events taking place in various cities around the country at different times of year. Dallas’ installment\, which includes a Vanilla Ice concert and a Teenage Mutant Ninja Turtles appearance\, will take place on May 28-29. \nCONFIRMED AUTOGRAPH GUESTS: Unlisted Leaf\, Transformers‘ Bumblebee and Pawn Stars‘ Chumlee
URL:https://www.sportscardinvestor.com/event/collect-a-con-2/
LOCATION:Fort Worth Convention Center\, 1201 Houston St\, Fort Worth\, TX\, 76102\, United States
CATEGORIES:Card Shows
GEO:32.7496989;-97.3276906
X-APPLE-STRUCTURED-LOCATION;VALUE=URI;X-ADDRESS=Fort Worth Convention Center 1201 Houston St Fort Worth TX 76102 United States;X-APPLE-RADIUS=500;X-TITLE=1201 Houston St:geo:-97.3276906,32.7496989
END:VEVENT
END:VCALENDAR