BEGIN:VCALENDAR
VERSION:2.0
PRODID:-//Sports Card Investor - ECPv6.15.20//NONSGML v1.0//EN
CALSCALE:GREGORIAN
METHOD:PUBLISH
X-ORIGINAL-URL:https://www.sportscardinvestor.com
X-WR-CALDESC:Events for Sports Card Investor
REFRESH-INTERVAL;VALUE=DURATION:PT1H
X-Robots-Tag:noindex
X-PUBLISHED-TTL:PT1H
BEGIN:VTIMEZONE
TZID:America/New_York
BEGIN:DAYLIGHT
TZOFFSETFROM:-0500
TZOFFSETTO:-0400
TZNAME:EDT
DTSTART:20210314T070000
END:DAYLIGHT
BEGIN:STANDARD
TZOFFSETFROM:-0400
TZOFFSETTO:-0500
TZNAME:EST
DTSTART:20211107T060000
END:STANDARD
BEGIN:DAYLIGHT
TZOFFSETFROM:-0500
TZOFFSETTO:-0400
TZNAME:EDT
DTSTART:20220313T070000
END:DAYLIGHT
BEGIN:STANDARD
TZOFFSETFROM:-0400
TZOFFSETTO:-0500
TZNAME:EST
DTSTART:20221106T060000
END:STANDARD
BEGIN:DAYLIGHT
TZOFFSETFROM:-0500
TZOFFSETTO:-0400
TZNAME:EDT
DTSTART:20230312T070000
END:DAYLIGHT
BEGIN:STANDARD
TZOFFSETFROM:-0400
TZOFFSETTO:-0500
TZNAME:EST
DTSTART:20231105T060000
END:STANDARD
END:VTIMEZONE
BEGIN:VEVENT
DTSTART;VALUE=DATE:20221203
DTEND;VALUE=DATE:20221204
DTSTAMP:20260422T021159
CREATED:20221128T173308Z
LAST-MODIFIED:20221128T173308Z
UID:49419-1670025600-1670111999@www.sportscardinvestor.com
SUMMARY:Michael Bochar Sr Memorial Card Show
DESCRIPTION:Show hours: \nSaturday\, Dec. 3: 9-2
URL:https://www.sportscardinvestor.com/event/michael-bochar-sr-memorial-card-show/
LOCATION:Fishkill Trinity Episcopal Church\, 5 Elm St\, Fishkill\, NY\, 12524\, United States
CATEGORIES:Card Shows
GEO:41.5347211;-73.8978152
X-APPLE-STRUCTURED-LOCATION;VALUE=URI;X-ADDRESS=Fishkill Trinity Episcopal Church 5 Elm St Fishkill NY 12524 United States;X-APPLE-RADIUS=500;X-TITLE=5 Elm St:geo:-73.8978152,41.5347211
END:VEVENT
BEGIN:VEVENT
DTSTART;VALUE=DATE:20221105
DTEND;VALUE=DATE:20221106
DTSTAMP:20260422T021159
CREATED:20221104T181328Z
LAST-MODIFIED:20221104T181328Z
UID:48915-1667606400-1667692799@www.sportscardinvestor.com
SUMMARY:Fishkill Saturday Sports Card and Memorabilia Show
DESCRIPTION:Show hours: \nSaturday\, Nov 5: 9-2
URL:https://www.sportscardinvestor.com/event/fishkill-saturday-sports-card-and-memorabilia-show/
LOCATION:Fishkill Trinity Episcopal Church\, 5 Elm St\, Fishkill\, NY\, 12524\, United States
CATEGORIES:Card Shows
GEO:41.5347211;-73.8978152
X-APPLE-STRUCTURED-LOCATION;VALUE=URI;X-ADDRESS=Fishkill Trinity Episcopal Church 5 Elm St Fishkill NY 12524 United States;X-APPLE-RADIUS=500;X-TITLE=5 Elm St:geo:-73.8978152,41.5347211
END:VEVENT
END:VCALENDAR