BEGIN:VCALENDAR
VERSION:2.0
PRODID:-//Sports Card Investor - ECPv6.15.20//NONSGML v1.0//EN
CALSCALE:GREGORIAN
METHOD:PUBLISH
X-ORIGINAL-URL:https://www.sportscardinvestor.com
X-WR-CALDESC:Events for Sports Card Investor
REFRESH-INTERVAL;VALUE=DURATION:PT1H
X-Robots-Tag:noindex
X-PUBLISHED-TTL:PT1H
BEGIN:VTIMEZONE
TZID:America/New_York
BEGIN:DAYLIGHT
TZOFFSETFROM:-0500
TZOFFSETTO:-0400
TZNAME:EDT
DTSTART:20220313T070000
END:DAYLIGHT
BEGIN:STANDARD
TZOFFSETFROM:-0400
TZOFFSETTO:-0500
TZNAME:EST
DTSTART:20221106T060000
END:STANDARD
BEGIN:DAYLIGHT
TZOFFSETFROM:-0500
TZOFFSETTO:-0400
TZNAME:EDT
DTSTART:20230312T070000
END:DAYLIGHT
BEGIN:STANDARD
TZOFFSETFROM:-0400
TZOFFSETTO:-0500
TZNAME:EST
DTSTART:20231105T060000
END:STANDARD
BEGIN:DAYLIGHT
TZOFFSETFROM:-0500
TZOFFSETTO:-0400
TZNAME:EDT
DTSTART:20240310T070000
END:DAYLIGHT
BEGIN:STANDARD
TZOFFSETFROM:-0400
TZOFFSETTO:-0500
TZNAME:EST
DTSTART:20241103T060000
END:STANDARD
BEGIN:DAYLIGHT
TZOFFSETFROM:-0500
TZOFFSETTO:-0400
TZNAME:EDT
DTSTART:20250309T070000
END:DAYLIGHT
BEGIN:STANDARD
TZOFFSETFROM:-0400
TZOFFSETTO:-0500
TZNAME:EST
DTSTART:20251102T060000
END:STANDARD
END:VTIMEZONE
BEGIN:VEVENT
DTSTART;TZID=America/New_York:20240308T100000
DTEND;TZID=America/New_York:20240308T170000
DTSTAMP:20260419T141455
CREATED:20231209T091259Z
LAST-MODIFIED:20231209T091259Z
UID:60158-1709892000-1709917200@www.sportscardinvestor.com
SUMMARY:The Union Marketplace Event
DESCRIPTION:
URL:https://www.sportscardinvestor.com/event/the-union-marketplace-event/
LOCATION:Del Mar Fairgrounds\, 2260 Jimmy Durante Blvd\, Del Mar\, CA\, 92014\, United States
CATEGORIES:Card Shows
GEO:32.9744876;-117.2565946
X-APPLE-STRUCTURED-LOCATION;VALUE=URI;X-ADDRESS=Del Mar Fairgrounds 2260 Jimmy Durante Blvd Del Mar CA 92014 United States;X-APPLE-RADIUS=500;X-TITLE=2260 Jimmy Durante Blvd:geo:-117.2565946,32.9744876
END:VEVENT
BEGIN:VEVENT
DTSTART;VALUE=DATE:20230324
DTEND;VALUE=DATE:20230327
DTSTAMP:20260419T141455
CREATED:20230104T214156Z
LAST-MODIFIED:20230104T214156Z
UID:50500-1679616000-1679875199@www.sportscardinvestor.com
SUMMARY:The Union Marketplace at Del Mar
DESCRIPTION:Show hours: \nFriday\, March 24: 4-9 \nSaturday\, March 25: 10-6 \nSunday\, March 26: 10-4
URL:https://www.sportscardinvestor.com/event/the-union-marketplace-at-del-mar/
LOCATION:Del Mar Fairgrounds\, 2260 Jimmy Durante Blvd\, Del Mar\, CA\, 92014\, United States
CATEGORIES:Card Shows
GEO:32.9744876;-117.2565946
X-APPLE-STRUCTURED-LOCATION;VALUE=URI;X-ADDRESS=Del Mar Fairgrounds 2260 Jimmy Durante Blvd Del Mar CA 92014 United States;X-APPLE-RADIUS=500;X-TITLE=2260 Jimmy Durante Blvd:geo:-117.2565946,32.9744876
END:VEVENT
END:VCALENDAR