BEGIN:VCALENDAR
VERSION:2.0
PRODID:-//Sports Card Investor - ECPv6.15.20//NONSGML v1.0//EN
CALSCALE:GREGORIAN
METHOD:PUBLISH
X-WR-CALNAME:Sports Card Investor
X-ORIGINAL-URL:https://www.sportscardinvestor.com
X-WR-CALDESC:Events for Sports Card Investor
REFRESH-INTERVAL;VALUE=DURATION:PT1H
X-Robots-Tag:noindex
X-PUBLISHED-TTL:PT1H
BEGIN:VTIMEZONE
TZID:America/New_York
BEGIN:DAYLIGHT
TZOFFSETFROM:-0500
TZOFFSETTO:-0400
TZNAME:EDT
DTSTART:20220313T070000
END:DAYLIGHT
BEGIN:STANDARD
TZOFFSETFROM:-0400
TZOFFSETTO:-0500
TZNAME:EST
DTSTART:20221106T060000
END:STANDARD
BEGIN:DAYLIGHT
TZOFFSETFROM:-0500
TZOFFSETTO:-0400
TZNAME:EDT
DTSTART:20230312T070000
END:DAYLIGHT
BEGIN:STANDARD
TZOFFSETFROM:-0400
TZOFFSETTO:-0500
TZNAME:EST
DTSTART:20231105T060000
END:STANDARD
BEGIN:DAYLIGHT
TZOFFSETFROM:-0500
TZOFFSETTO:-0400
TZNAME:EDT
DTSTART:20240310T070000
END:DAYLIGHT
BEGIN:STANDARD
TZOFFSETFROM:-0400
TZOFFSETTO:-0500
TZNAME:EST
DTSTART:20241103T060000
END:STANDARD
END:VTIMEZONE
BEGIN:VEVENT
DTSTART;TZID=America/New_York:20231007T090000
DTEND;TZID=America/New_York:20231007T160000
DTSTAMP:20260424T125157
CREATED:20230930T053746Z
LAST-MODIFIED:20230930T053746Z
UID:58773-1696669200-1696694400@www.sportscardinvestor.com
SUMMARY:Pow Productions Sports\, Pokémon and Funko Show
DESCRIPTION:
URL:https://www.sportscardinvestor.com/event/pow-productions-sports-pokemon-and-funko-show/
LOCATION:Dash Stadium\, 951 Ballpark Wy\, Winston Salem\, NC\, 27127\, United States
CATEGORIES:Card Shows
GEO:36.0922165;-80.2547834
X-APPLE-STRUCTURED-LOCATION;VALUE=URI;X-ADDRESS=Dash Stadium 951 Ballpark Wy Winston Salem NC 27127 United States;X-APPLE-RADIUS=500;X-TITLE=951 Ballpark Wy:geo:-80.2547834,36.0922165
END:VEVENT
BEGIN:VEVENT
DTSTART;TZID=America/New_York:20231007T090000
DTEND;TZID=America/New_York:20231007T160000
DTSTAMP:20260424T125157
CREATED:20230923T014140Z
LAST-MODIFIED:20230923T014140Z
UID:58497-1696669200-1696694400@www.sportscardinvestor.com
SUMMARY:Pow Productions Sports
DESCRIPTION:
URL:https://www.sportscardinvestor.com/event/pow-productions-sports/
LOCATION:Dash Stadium\, 951 Ballpark Wy\, Winston Salem\, NC\, 27127\, United States
CATEGORIES:Card Shows
GEO:36.0922165;-80.2547834
X-APPLE-STRUCTURED-LOCATION;VALUE=URI;X-ADDRESS=Dash Stadium 951 Ballpark Wy Winston Salem NC 27127 United States;X-APPLE-RADIUS=500;X-TITLE=951 Ballpark Wy:geo:-80.2547834,36.0922165
END:VEVENT
END:VCALENDAR