BEGIN:VCALENDAR
VERSION:2.0
PRODID:-//Sports Card Investor - ECPv6.15.20//NONSGML v1.0//EN
CALSCALE:GREGORIAN
METHOD:PUBLISH
X-WR-CALNAME:Sports Card Investor
X-ORIGINAL-URL:https://www.sportscardinvestor.com
X-WR-CALDESC:Events for Sports Card Investor
REFRESH-INTERVAL;VALUE=DURATION:PT1H
X-Robots-Tag:noindex
X-PUBLISHED-TTL:PT1H
BEGIN:VTIMEZONE
TZID:America/New_York
BEGIN:DAYLIGHT
TZOFFSETFROM:-0500
TZOFFSETTO:-0400
TZNAME:EDT
DTSTART:20210314T070000
END:DAYLIGHT
BEGIN:STANDARD
TZOFFSETFROM:-0400
TZOFFSETTO:-0500
TZNAME:EST
DTSTART:20211107T060000
END:STANDARD
BEGIN:DAYLIGHT
TZOFFSETFROM:-0500
TZOFFSETTO:-0400
TZNAME:EDT
DTSTART:20220313T070000
END:DAYLIGHT
BEGIN:STANDARD
TZOFFSETFROM:-0400
TZOFFSETTO:-0500
TZNAME:EST
DTSTART:20221106T060000
END:STANDARD
BEGIN:DAYLIGHT
TZOFFSETFROM:-0500
TZOFFSETTO:-0400
TZNAME:EDT
DTSTART:20230312T070000
END:DAYLIGHT
BEGIN:STANDARD
TZOFFSETFROM:-0400
TZOFFSETTO:-0500
TZNAME:EST
DTSTART:20231105T060000
END:STANDARD
END:VTIMEZONE
BEGIN:VEVENT
DTSTART;VALUE=DATE:20221029
DTEND;VALUE=DATE:20221031
DTSTAMP:20260424T125250
CREATED:20221021T163453Z
LAST-MODIFIED:20221021T163453Z
UID:48532-1667001600-1667174399@www.sportscardinvestor.com
SUMMARY:The Best Weekend Card Show
DESCRIPTION:Show hours: \nSaturday\, Oct 29: 10-5 \nSunday: Oct 30: 10-5
URL:https://www.sportscardinvestor.com/event/the-best-weekend-card-show-2/
LOCATION:Crowne Plaza Boston\, 15 Middlesex Canal Park Dr\, Woburn\, MA\, 01801\, United States
CATEGORIES:Card Shows
GEO:42.4970892;-71.1588695
X-APPLE-STRUCTURED-LOCATION;VALUE=URI;X-ADDRESS=Crowne Plaza Boston 15 Middlesex Canal Park Dr Woburn MA 01801 United States;X-APPLE-RADIUS=500;X-TITLE=15 Middlesex Canal Park Dr:geo:-71.1588695,42.4970892
END:VEVENT
END:VCALENDAR