BEGIN:VCALENDAR
VERSION:2.0
PRODID:-//Sports Card Investor - ECPv6.15.20//NONSGML v1.0//EN
CALSCALE:GREGORIAN
METHOD:PUBLISH
X-WR-CALNAME:Sports Card Investor
X-ORIGINAL-URL:https://www.sportscardinvestor.com
X-WR-CALDESC:Events for Sports Card Investor
REFRESH-INTERVAL;VALUE=DURATION:PT1H
X-Robots-Tag:noindex
X-PUBLISHED-TTL:PT1H
BEGIN:VTIMEZONE
TZID:America/New_York
BEGIN:DAYLIGHT
TZOFFSETFROM:-0500
TZOFFSETTO:-0400
TZNAME:EDT
DTSTART:20230312T070000
END:DAYLIGHT
BEGIN:STANDARD
TZOFFSETFROM:-0400
TZOFFSETTO:-0500
TZNAME:EST
DTSTART:20231105T060000
END:STANDARD
BEGIN:DAYLIGHT
TZOFFSETFROM:-0500
TZOFFSETTO:-0400
TZNAME:EDT
DTSTART:20240310T070000
END:DAYLIGHT
BEGIN:STANDARD
TZOFFSETFROM:-0400
TZOFFSETTO:-0500
TZNAME:EST
DTSTART:20241103T060000
END:STANDARD
BEGIN:DAYLIGHT
TZOFFSETFROM:-0500
TZOFFSETTO:-0400
TZNAME:EDT
DTSTART:20250309T070000
END:DAYLIGHT
BEGIN:STANDARD
TZOFFSETFROM:-0400
TZOFFSETTO:-0500
TZNAME:EST
DTSTART:20251102T060000
END:STANDARD
END:VTIMEZONE
BEGIN:VEVENT
DTSTART;TZID=America/New_York:20240428T090000
DTEND;TZID=America/New_York:20240428T150000
DTSTAMP:20260425T065212
CREATED:20240323T022759Z
LAST-MODIFIED:20240323T022759Z
UID:62518-1714294800-1714316400@www.sportscardinvestor.com
SUMMARY:Clarkston Card Collectible Show
DESCRIPTION:
URL:https://www.sportscardinvestor.com/event/clarkston-card-collectible-show/2024-04-28/
LOCATION:Clarkston American Legion\, 4819 Mary Sue Ave\, Clarkston\, MI\, 48346\, United States
CATEGORIES:Card Shows
GEO:42.7076849;-83.3651789
X-APPLE-STRUCTURED-LOCATION;VALUE=URI;X-ADDRESS=Clarkston American Legion 4819 Mary Sue Ave Clarkston MI 48346 United States;X-APPLE-RADIUS=500;X-TITLE=4819 Mary Sue Ave:geo:-83.3651789,42.7076849
END:VEVENT
BEGIN:VEVENT
DTSTART;TZID=America/New_York:20240324T090000
DTEND;TZID=America/New_York:20240324T150000
DTSTAMP:20260425T065212
CREATED:20240323T022759Z
LAST-MODIFIED:20240323T022759Z
UID:62517-1711270800-1711292400@www.sportscardinvestor.com
SUMMARY:Clarkston Card Collectible Show
DESCRIPTION:
URL:https://www.sportscardinvestor.com/event/clarkston-card-collectible-show/
LOCATION:Clarkston American Legion\, 4819 Mary Sue Ave\, Clarkston\, MI\, 48346\, United States
CATEGORIES:Card Shows
GEO:42.7076849;-83.3651789
X-APPLE-STRUCTURED-LOCATION;VALUE=URI;X-ADDRESS=Clarkston American Legion 4819 Mary Sue Ave Clarkston MI 48346 United States;X-APPLE-RADIUS=500;X-TITLE=4819 Mary Sue Ave:geo:-83.3651789,42.7076849
END:VEVENT
END:VCALENDAR