BEGIN:VCALENDAR
VERSION:2.0
PRODID:-//Sports Card Investor - ECPv6.15.20//NONSGML v1.0//EN
CALSCALE:GREGORIAN
METHOD:PUBLISH
X-WR-CALNAME:Sports Card Investor
X-ORIGINAL-URL:https://www.sportscardinvestor.com
X-WR-CALDESC:Events for Sports Card Investor
REFRESH-INTERVAL;VALUE=DURATION:PT1H
X-Robots-Tag:noindex
X-PUBLISHED-TTL:PT1H
BEGIN:VTIMEZONE
TZID:America/New_York
BEGIN:DAYLIGHT
TZOFFSETFROM:-0500
TZOFFSETTO:-0400
TZNAME:EDT
DTSTART:20220313T070000
END:DAYLIGHT
BEGIN:STANDARD
TZOFFSETFROM:-0400
TZOFFSETTO:-0500
TZNAME:EST
DTSTART:20221106T060000
END:STANDARD
BEGIN:DAYLIGHT
TZOFFSETFROM:-0500
TZOFFSETTO:-0400
TZNAME:EDT
DTSTART:20230312T070000
END:DAYLIGHT
BEGIN:STANDARD
TZOFFSETFROM:-0400
TZOFFSETTO:-0500
TZNAME:EST
DTSTART:20231105T060000
END:STANDARD
BEGIN:DAYLIGHT
TZOFFSETFROM:-0500
TZOFFSETTO:-0400
TZNAME:EDT
DTSTART:20240310T070000
END:DAYLIGHT
BEGIN:STANDARD
TZOFFSETFROM:-0400
TZOFFSETTO:-0500
TZNAME:EST
DTSTART:20241103T060000
END:STANDARD
END:VTIMEZONE
BEGIN:VEVENT
DTSTART;TZID=America/New_York:20230909T090000
DTEND;TZID=America/New_York:20230909T150000
DTSTAMP:20260425T215825
CREATED:20230819T110703Z
LAST-MODIFIED:20230819T110703Z
UID:57433-1694250000-1694271600@www.sportscardinvestor.com
SUMMARY:SEMO Sportscards Show
DESCRIPTION:
URL:https://www.sportscardinvestor.com/event/semo-sportscards-show/
LOCATION:Cape Eagles Club\, 321 N. Spring Street\, Cape Girardeau\, MO\, 63701\, United States
CATEGORIES:Card Shows
GEO:37.310808;-89.5499842
X-APPLE-STRUCTURED-LOCATION;VALUE=URI;X-ADDRESS=Cape Eagles Club 321 N. Spring Street Cape Girardeau MO 63701 United States;X-APPLE-RADIUS=500;X-TITLE=321 N. Spring Street:geo:-89.5499842,37.310808
END:VEVENT
END:VCALENDAR