BEGIN:VCALENDAR
VERSION:2.0
PRODID:-//Sports Card Investor - ECPv6.15.20//NONSGML v1.0//EN
CALSCALE:GREGORIAN
METHOD:PUBLISH
X-WR-CALNAME:Sports Card Investor
X-ORIGINAL-URL:https://www.sportscardinvestor.com
X-WR-CALDESC:Events for Sports Card Investor
REFRESH-INTERVAL;VALUE=DURATION:PT1H
X-Robots-Tag:noindex
X-PUBLISHED-TTL:PT1H
BEGIN:VTIMEZONE
TZID:America/New_York
BEGIN:DAYLIGHT
TZOFFSETFROM:-0500
TZOFFSETTO:-0400
TZNAME:EDT
DTSTART:20220313T070000
END:DAYLIGHT
BEGIN:STANDARD
TZOFFSETFROM:-0400
TZOFFSETTO:-0500
TZNAME:EST
DTSTART:20221106T060000
END:STANDARD
BEGIN:DAYLIGHT
TZOFFSETFROM:-0500
TZOFFSETTO:-0400
TZNAME:EDT
DTSTART:20230312T070000
END:DAYLIGHT
BEGIN:STANDARD
TZOFFSETFROM:-0400
TZOFFSETTO:-0500
TZNAME:EST
DTSTART:20231105T060000
END:STANDARD
BEGIN:DAYLIGHT
TZOFFSETFROM:-0500
TZOFFSETTO:-0400
TZNAME:EDT
DTSTART:20240310T070000
END:DAYLIGHT
BEGIN:STANDARD
TZOFFSETFROM:-0400
TZOFFSETTO:-0500
TZNAME:EST
DTSTART:20241103T060000
END:STANDARD
END:VTIMEZONE
BEGIN:VEVENT
DTSTART;VALUE=DATE:20230527
DTEND;VALUE=DATE:20230528
DTSTAMP:20260420T215338
CREATED:20230512T174320Z
LAST-MODIFIED:20230512T174320Z
UID:55245-1685145600-1685231999@www.sportscardinvestor.com
SUMMARY:Big League Dreams Sports Card Show
DESCRIPTION:Show hours: \nMay 27: 11-6
URL:https://www.sportscardinvestor.com/event/big-league-dreams-sports-card-show/
LOCATION:Big League Dreams\, 500 Heritage Parkway South\, Mansfield\, TX\, 76063\, United States
CATEGORIES:Card Shows
GEO:32.5546643;-97.0829021
X-APPLE-STRUCTURED-LOCATION;VALUE=URI;X-ADDRESS=Big League Dreams 500 Heritage Parkway South Mansfield TX 76063 United States;X-APPLE-RADIUS=500;X-TITLE=500 Heritage Parkway South:geo:-97.0829021,32.5546643
END:VEVENT
END:VCALENDAR