BEGIN:VCALENDAR
VERSION:2.0
PRODID:-//Sports Card Investor - ECPv6.15.20//NONSGML v1.0//EN
CALSCALE:GREGORIAN
METHOD:PUBLISH
X-WR-CALNAME:Sports Card Investor
X-ORIGINAL-URL:https://www.sportscardinvestor.com
X-WR-CALDESC:Events for Sports Card Investor
REFRESH-INTERVAL;VALUE=DURATION:PT1H
X-Robots-Tag:noindex
X-PUBLISHED-TTL:PT1H
BEGIN:VTIMEZONE
TZID:America/New_York
BEGIN:DAYLIGHT
TZOFFSETFROM:-0500
TZOFFSETTO:-0400
TZNAME:EDT
DTSTART:20230312T070000
END:DAYLIGHT
BEGIN:STANDARD
TZOFFSETFROM:-0400
TZOFFSETTO:-0500
TZNAME:EST
DTSTART:20231105T060000
END:STANDARD
BEGIN:DAYLIGHT
TZOFFSETFROM:-0500
TZOFFSETTO:-0400
TZNAME:EDT
DTSTART:20240310T070000
END:DAYLIGHT
BEGIN:STANDARD
TZOFFSETFROM:-0400
TZOFFSETTO:-0500
TZNAME:EST
DTSTART:20241103T060000
END:STANDARD
BEGIN:DAYLIGHT
TZOFFSETFROM:-0500
TZOFFSETTO:-0400
TZNAME:EDT
DTSTART:20250309T070000
END:DAYLIGHT
BEGIN:STANDARD
TZOFFSETFROM:-0400
TZOFFSETTO:-0500
TZNAME:EST
DTSTART:20251102T060000
END:STANDARD
END:VTIMEZONE
BEGIN:VEVENT
DTSTART;TZID=America/New_York:20240608T100000
DTEND;TZID=America/New_York:20240608T180000
DTSTAMP:20260423T234518
CREATED:20240508T155353Z
LAST-MODIFIED:20240508T155353Z
UID:63196-1717840800-1717869600@www.sportscardinvestor.com
SUMMARY:The Midwest Monster – Fishers\, IN
DESCRIPTION:
URL:https://www.sportscardinvestor.com/event/the-midwest-monster-fishers-in/2024-06-08/
LOCATION:Best Choice Field House\, 11825 technology drive fishers\, Indy\, IN\, 46038\, United States
CATEGORIES:Card Shows
GEO:39.9628132;-86.0049957
X-APPLE-STRUCTURED-LOCATION;VALUE=URI;X-ADDRESS=Best Choice Field House 11825 technology drive fishers Indy IN 46038 United States;X-APPLE-RADIUS=500;X-TITLE=11825 technology drive fishers:geo:-86.0049957,39.9628132
END:VEVENT
BEGIN:VEVENT
DTSTART;TZID=America/New_York:20240607T120000
DTEND;TZID=America/New_York:20240607T203000
DTSTAMP:20260423T234518
CREATED:20240508T155353Z
LAST-MODIFIED:20240508T155353Z
UID:63193-1717761600-1717792200@www.sportscardinvestor.com
SUMMARY:The Midwest Monster – Fishers\, IN
DESCRIPTION:
URL:https://www.sportscardinvestor.com/event/the-midwest-monster-fishers-in/
LOCATION:Best Choice Field House\, 11825 technology drive fishers\, Indy\, IN\, 46038\, United States
CATEGORIES:Card Shows
GEO:39.9628132;-86.0049957
X-APPLE-STRUCTURED-LOCATION;VALUE=URI;X-ADDRESS=Best Choice Field House 11825 technology drive fishers Indy IN 46038 United States;X-APPLE-RADIUS=500;X-TITLE=11825 technology drive fishers:geo:-86.0049957,39.9628132
END:VEVENT
END:VCALENDAR