BEGIN:VCALENDAR
VERSION:2.0
PRODID:-//Sports Card Investor - ECPv6.15.20//NONSGML v1.0//EN
CALSCALE:GREGORIAN
METHOD:PUBLISH
X-WR-CALNAME:Sports Card Investor
X-ORIGINAL-URL:https://www.sportscardinvestor.com
X-WR-CALDESC:Events for Sports Card Investor
REFRESH-INTERVAL;VALUE=DURATION:PT1H
X-Robots-Tag:noindex
X-PUBLISHED-TTL:PT1H
BEGIN:VTIMEZONE
TZID:America/New_York
BEGIN:DAYLIGHT
TZOFFSETFROM:-0500
TZOFFSETTO:-0400
TZNAME:EDT
DTSTART:20220313T070000
END:DAYLIGHT
BEGIN:STANDARD
TZOFFSETFROM:-0400
TZOFFSETTO:-0500
TZNAME:EST
DTSTART:20221106T060000
END:STANDARD
BEGIN:DAYLIGHT
TZOFFSETFROM:-0500
TZOFFSETTO:-0400
TZNAME:EDT
DTSTART:20230312T070000
END:DAYLIGHT
BEGIN:STANDARD
TZOFFSETFROM:-0400
TZOFFSETTO:-0500
TZNAME:EST
DTSTART:20231105T060000
END:STANDARD
BEGIN:DAYLIGHT
TZOFFSETFROM:-0500
TZOFFSETTO:-0400
TZNAME:EDT
DTSTART:20240310T070000
END:DAYLIGHT
BEGIN:STANDARD
TZOFFSETFROM:-0400
TZOFFSETTO:-0500
TZNAME:EST
DTSTART:20241103T060000
END:STANDARD
BEGIN:DAYLIGHT
TZOFFSETFROM:-0500
TZOFFSETTO:-0400
TZNAME:EDT
DTSTART:20250309T070000
END:DAYLIGHT
BEGIN:STANDARD
TZOFFSETFROM:-0400
TZOFFSETTO:-0500
TZNAME:EST
DTSTART:20251102T060000
END:STANDARD
END:VTIMEZONE
BEGIN:VEVENT
DTSTART;TZID=America/New_York:20240323T100000
DTEND;TZID=America/New_York:20240323T140000
DTSTAMP:20260424T012642
CREATED:20240314T063701Z
LAST-MODIFIED:20240314T063701Z
UID:62429-1711188000-1711202400@www.sportscardinvestor.com
SUMMARY:Ocean County Card Show
DESCRIPTION:
URL:https://www.sportscardinvestor.com/event/ocean-county-card-show-3/
LOCATION:Beach Haven Moose Lodge 1575\, 120 NJ-72\, Manahawkin\, NJ\, 08050\, United States
CATEGORIES:Card Shows
GEO:39.6919152;-74.2563099
X-APPLE-STRUCTURED-LOCATION;VALUE=URI;X-ADDRESS=Beach Haven Moose Lodge 1575 120 NJ-72 Manahawkin NJ 08050 United States;X-APPLE-RADIUS=500;X-TITLE=120 NJ-72:geo:-74.2563099,39.6919152
END:VEVENT
BEGIN:VEVENT
DTSTART;VALUE=DATE:20231021
DTEND;VALUE=DATE:20231022
DTSTAMP:20260424T012642
CREATED:20231004T164555Z
LAST-MODIFIED:20231004T164555Z
UID:58865-1697846400-1697932799@www.sportscardinvestor.com
SUMMARY:Ocean County Card Show
DESCRIPTION:
URL:https://www.sportscardinvestor.com/event/ocean-county-card-show/
LOCATION:Beach Haven Moose Lodge 1575\, 120 NJ-72\, Manahawkin\, NJ\, 08050\, United States
CATEGORIES:Card Shows
GEO:39.6919152;-74.2563099
X-APPLE-STRUCTURED-LOCATION;VALUE=URI;X-ADDRESS=Beach Haven Moose Lodge 1575 120 NJ-72 Manahawkin NJ 08050 United States;X-APPLE-RADIUS=500;X-TITLE=120 NJ-72:geo:-74.2563099,39.6919152
END:VEVENT
BEGIN:VEVENT
DTSTART;TZID=America/New_York:20230909T090000
DTEND;TZID=America/New_York:20230909T140000
DTSTAMP:20260424T012642
CREATED:20230825T215005Z
LAST-MODIFIED:20230825T215005Z
UID:57813-1694250000-1694268000@www.sportscardinvestor.com
SUMMARY:Ocean County Card and Collectible Show
DESCRIPTION:
URL:https://www.sportscardinvestor.com/event/ocean-county-card-and-collectible-show/
LOCATION:Beach Haven Moose Lodge 1575\, 120 NJ-72\, Manahawkin\, NJ\, 08050\, United States
CATEGORIES:Card Shows
GEO:39.6919152;-74.2563099
X-APPLE-STRUCTURED-LOCATION;VALUE=URI;X-ADDRESS=Beach Haven Moose Lodge 1575 120 NJ-72 Manahawkin NJ 08050 United States;X-APPLE-RADIUS=500;X-TITLE=120 NJ-72:geo:-74.2563099,39.6919152
END:VEVENT
BEGIN:VEVENT
DTSTART;VALUE=DATE:20230617
DTEND;VALUE=DATE:20230618
DTSTAMP:20260424T012642
CREATED:20230616T140422Z
LAST-MODIFIED:20230616T140422Z
UID:55539-1686960000-1687046399@www.sportscardinvestor.com
SUMMARY:Orange County Sports Card & Collectible Show
DESCRIPTION:Show hours: \nJune 17: 10-12
URL:https://www.sportscardinvestor.com/event/orange-county-sports-card-collectible-show/
LOCATION:Beach Haven Moose Lodge 1575\, 120 NJ-72\, Manahawkin\, NJ\, 08050\, United States
CATEGORIES:Card Shows
GEO:39.6919152;-74.2563099
X-APPLE-STRUCTURED-LOCATION;VALUE=URI;X-ADDRESS=Beach Haven Moose Lodge 1575 120 NJ-72 Manahawkin NJ 08050 United States;X-APPLE-RADIUS=500;X-TITLE=120 NJ-72:geo:-74.2563099,39.6919152
END:VEVENT
END:VCALENDAR