BEGIN:VCALENDAR
VERSION:2.0
PRODID:-//Sports Card Investor - ECPv6.15.20//NONSGML v1.0//EN
CALSCALE:GREGORIAN
METHOD:PUBLISH
X-ORIGINAL-URL:https://www.sportscardinvestor.com
X-WR-CALDESC:Events for Sports Card Investor
REFRESH-INTERVAL;VALUE=DURATION:PT1H
X-Robots-Tag:noindex
X-PUBLISHED-TTL:PT1H
BEGIN:VTIMEZONE
TZID:America/New_York
BEGIN:DAYLIGHT
TZOFFSETFROM:-0500
TZOFFSETTO:-0400
TZNAME:EDT
DTSTART:20210314T070000
END:DAYLIGHT
BEGIN:STANDARD
TZOFFSETFROM:-0400
TZOFFSETTO:-0500
TZNAME:EST
DTSTART:20211107T060000
END:STANDARD
BEGIN:DAYLIGHT
TZOFFSETFROM:-0500
TZOFFSETTO:-0400
TZNAME:EDT
DTSTART:20220313T070000
END:DAYLIGHT
BEGIN:STANDARD
TZOFFSETFROM:-0400
TZOFFSETTO:-0500
TZNAME:EST
DTSTART:20221106T060000
END:STANDARD
BEGIN:DAYLIGHT
TZOFFSETFROM:-0500
TZOFFSETTO:-0400
TZNAME:EDT
DTSTART:20230312T070000
END:DAYLIGHT
BEGIN:STANDARD
TZOFFSETFROM:-0400
TZOFFSETTO:-0500
TZNAME:EST
DTSTART:20231105T060000
END:STANDARD
BEGIN:DAYLIGHT
TZOFFSETFROM:-0500
TZOFFSETTO:-0400
TZNAME:EDT
DTSTART:20240310T070000
END:DAYLIGHT
BEGIN:STANDARD
TZOFFSETFROM:-0400
TZOFFSETTO:-0500
TZNAME:EST
DTSTART:20241103T060000
END:STANDARD
BEGIN:DAYLIGHT
TZOFFSETFROM:-0500
TZOFFSETTO:-0400
TZNAME:EDT
DTSTART:20250309T070000
END:DAYLIGHT
BEGIN:STANDARD
TZOFFSETFROM:-0400
TZOFFSETTO:-0500
TZNAME:EST
DTSTART:20251102T060000
END:STANDARD
END:VTIMEZONE
BEGIN:VEVENT
DTSTART;TZID=America/New_York:20241109T100000
DTEND;TZID=America/New_York:20241109T160000
DTSTAMP:20260419T111413
CREATED:20231223T104515Z
LAST-MODIFIED:20240507T182951Z
UID:63072-1731146400-1731168000@www.sportscardinvestor.com
SUMMARY:Bay Area Card Show
DESCRIPTION:
URL:https://www.sportscardinvestor.com/event/bay-area-card-show-2/2024-11-09/
LOCATION:Banquet Masters\, 13355 49th St. N\, Clearwater\, FL\, 33762\, United States
CATEGORIES:Card Shows
GEO:27.8931702;-82.6987963
X-APPLE-STRUCTURED-LOCATION;VALUE=URI;X-ADDRESS=Banquet Masters 13355 49th St. N Clearwater FL 33762 United States;X-APPLE-RADIUS=500;X-TITLE=13355 49th St. N:geo:-82.6987963,27.8931702
END:VEVENT
BEGIN:VEVENT
DTSTART;TZID=America/New_York:20241108T150000
DTEND;TZID=America/New_York:20241108T210000
DTSTAMP:20260419T111413
CREATED:20231223T104515Z
LAST-MODIFIED:20240507T182951Z
UID:63071-1731078000-1731099600@www.sportscardinvestor.com
SUMMARY:Bay Area Card Show
DESCRIPTION:
URL:https://www.sportscardinvestor.com/event/bay-area-card-show-2/2024-11-08/
LOCATION:Banquet Masters\, 13355 49th St. N\, Clearwater\, FL\, 33762\, United States
CATEGORIES:Card Shows
GEO:27.8931702;-82.6987963
X-APPLE-STRUCTURED-LOCATION;VALUE=URI;X-ADDRESS=Banquet Masters 13355 49th St. N Clearwater FL 33762 United States;X-APPLE-RADIUS=500;X-TITLE=13355 49th St. N:geo:-82.6987963,27.8931702
END:VEVENT
BEGIN:VEVENT
DTSTART;TZID=America/New_York:20241012T100000
DTEND;TZID=America/New_York:20241012T160000
DTSTAMP:20260419T111413
CREATED:20231223T104515Z
LAST-MODIFIED:20240507T182950Z
UID:63070-1728727200-1728748800@www.sportscardinvestor.com
SUMMARY:Bay Area Card Show
DESCRIPTION:
URL:https://www.sportscardinvestor.com/event/bay-area-card-show-2/2024-10-12/
LOCATION:Banquet Masters\, 13355 49th St. N\, Clearwater\, FL\, 33762\, United States
CATEGORIES:Card Shows
GEO:27.8931702;-82.6987963
X-APPLE-STRUCTURED-LOCATION;VALUE=URI;X-ADDRESS=Banquet Masters 13355 49th St. N Clearwater FL 33762 United States;X-APPLE-RADIUS=500;X-TITLE=13355 49th St. N:geo:-82.6987963,27.8931702
END:VEVENT
BEGIN:VEVENT
DTSTART;TZID=America/New_York:20241011T150000
DTEND;TZID=America/New_York:20241011T210000
DTSTAMP:20260419T111413
CREATED:20231223T104515Z
LAST-MODIFIED:20240507T182949Z
UID:63069-1728658800-1728680400@www.sportscardinvestor.com
SUMMARY:Bay Area Card Show
DESCRIPTION:
URL:https://www.sportscardinvestor.com/event/bay-area-card-show-2/2024-10-11/
LOCATION:Banquet Masters\, 13355 49th St. N\, Clearwater\, FL\, 33762\, United States
CATEGORIES:Card Shows
GEO:27.8931702;-82.6987963
X-APPLE-STRUCTURED-LOCATION;VALUE=URI;X-ADDRESS=Banquet Masters 13355 49th St. N Clearwater FL 33762 United States;X-APPLE-RADIUS=500;X-TITLE=13355 49th St. N:geo:-82.6987963,27.8931702
END:VEVENT
BEGIN:VEVENT
DTSTART;TZID=America/New_York:20240914T100000
DTEND;TZID=America/New_York:20240914T160000
DTSTAMP:20260419T111413
CREATED:20231223T104515Z
LAST-MODIFIED:20240507T182948Z
UID:63068-1726308000-1726329600@www.sportscardinvestor.com
SUMMARY:Bay Area Card Show
DESCRIPTION:
URL:https://www.sportscardinvestor.com/event/bay-area-card-show-2/2024-09-14/
LOCATION:Banquet Masters\, 13355 49th St. N\, Clearwater\, FL\, 33762\, United States
CATEGORIES:Card Shows
GEO:27.8931702;-82.6987963
X-APPLE-STRUCTURED-LOCATION;VALUE=URI;X-ADDRESS=Banquet Masters 13355 49th St. N Clearwater FL 33762 United States;X-APPLE-RADIUS=500;X-TITLE=13355 49th St. N:geo:-82.6987963,27.8931702
END:VEVENT
BEGIN:VEVENT
DTSTART;TZID=America/New_York:20240913T150000
DTEND;TZID=America/New_York:20240913T210000
DTSTAMP:20260419T111413
CREATED:20231223T104515Z
LAST-MODIFIED:20240507T182948Z
UID:63067-1726239600-1726261200@www.sportscardinvestor.com
SUMMARY:Bay Area Card Show
DESCRIPTION:
URL:https://www.sportscardinvestor.com/event/bay-area-card-show-2/2024-09-13/
LOCATION:Banquet Masters\, 13355 49th St. N\, Clearwater\, FL\, 33762\, United States
CATEGORIES:Card Shows
GEO:27.8931702;-82.6987963
X-APPLE-STRUCTURED-LOCATION;VALUE=URI;X-ADDRESS=Banquet Masters 13355 49th St. N Clearwater FL 33762 United States;X-APPLE-RADIUS=500;X-TITLE=13355 49th St. N:geo:-82.6987963,27.8931702
END:VEVENT
BEGIN:VEVENT
DTSTART;TZID=America/New_York:20240810T100000
DTEND;TZID=America/New_York:20240810T160000
DTSTAMP:20260419T111413
CREATED:20231223T104515Z
LAST-MODIFIED:20240507T182947Z
UID:63066-1723284000-1723305600@www.sportscardinvestor.com
SUMMARY:Bay Area Card Show
DESCRIPTION:
URL:https://www.sportscardinvestor.com/event/bay-area-card-show-2/2024-08-10/
LOCATION:Banquet Masters\, 13355 49th St. N\, Clearwater\, FL\, 33762\, United States
CATEGORIES:Card Shows
GEO:27.8931702;-82.6987963
X-APPLE-STRUCTURED-LOCATION;VALUE=URI;X-ADDRESS=Banquet Masters 13355 49th St. N Clearwater FL 33762 United States;X-APPLE-RADIUS=500;X-TITLE=13355 49th St. N:geo:-82.6987963,27.8931702
END:VEVENT
BEGIN:VEVENT
DTSTART;TZID=America/New_York:20240809T150000
DTEND;TZID=America/New_York:20240809T210000
DTSTAMP:20260419T111413
CREATED:20231223T104515Z
LAST-MODIFIED:20240507T182947Z
UID:63065-1723215600-1723237200@www.sportscardinvestor.com
SUMMARY:Bay Area Card Show
DESCRIPTION:
URL:https://www.sportscardinvestor.com/event/bay-area-card-show-2/2024-08-09/
LOCATION:Banquet Masters\, 13355 49th St. N\, Clearwater\, FL\, 33762\, United States
CATEGORIES:Card Shows
GEO:27.8931702;-82.6987963
X-APPLE-STRUCTURED-LOCATION;VALUE=URI;X-ADDRESS=Banquet Masters 13355 49th St. N Clearwater FL 33762 United States;X-APPLE-RADIUS=500;X-TITLE=13355 49th St. N:geo:-82.6987963,27.8931702
END:VEVENT
BEGIN:VEVENT
DTSTART;TZID=America/New_York:20240713T100000
DTEND;TZID=America/New_York:20240713T160000
DTSTAMP:20260419T111413
CREATED:20231223T104515Z
LAST-MODIFIED:20240507T182946Z
UID:63064-1720864800-1720886400@www.sportscardinvestor.com
SUMMARY:Bay Area Card Show
DESCRIPTION:
URL:https://www.sportscardinvestor.com/event/bay-area-card-show-2/2024-07-13/
LOCATION:Banquet Masters\, 13355 49th St. N\, Clearwater\, FL\, 33762\, United States
CATEGORIES:Card Shows
GEO:27.8931702;-82.6987963
X-APPLE-STRUCTURED-LOCATION;VALUE=URI;X-ADDRESS=Banquet Masters 13355 49th St. N Clearwater FL 33762 United States;X-APPLE-RADIUS=500;X-TITLE=13355 49th St. N:geo:-82.6987963,27.8931702
END:VEVENT
BEGIN:VEVENT
DTSTART;TZID=America/New_York:20240712T150000
DTEND;TZID=America/New_York:20240712T210000
DTSTAMP:20260419T111413
CREATED:20231223T104515Z
LAST-MODIFIED:20240507T182946Z
UID:63063-1720796400-1720818000@www.sportscardinvestor.com
SUMMARY:Bay Area Card Show
DESCRIPTION:
URL:https://www.sportscardinvestor.com/event/bay-area-card-show-2/2024-07-12/
LOCATION:Banquet Masters\, 13355 49th St. N\, Clearwater\, FL\, 33762\, United States
CATEGORIES:Card Shows
GEO:27.8931702;-82.6987963
X-APPLE-STRUCTURED-LOCATION;VALUE=URI;X-ADDRESS=Banquet Masters 13355 49th St. N Clearwater FL 33762 United States;X-APPLE-RADIUS=500;X-TITLE=13355 49th St. N:geo:-82.6987963,27.8931702
END:VEVENT
BEGIN:VEVENT
DTSTART;TZID=America/New_York:20240608T100000
DTEND;TZID=America/New_York:20240608T160000
DTSTAMP:20260419T111413
CREATED:20231223T104515Z
LAST-MODIFIED:20240507T182945Z
UID:63062-1717840800-1717862400@www.sportscardinvestor.com
SUMMARY:Bay Area Card Show
DESCRIPTION:
URL:https://www.sportscardinvestor.com/event/bay-area-card-show-2/2024-06-08/
LOCATION:Banquet Masters\, 13355 49th St. N\, Clearwater\, FL\, 33762\, United States
CATEGORIES:Card Shows
GEO:27.8931702;-82.6987963
X-APPLE-STRUCTURED-LOCATION;VALUE=URI;X-ADDRESS=Banquet Masters 13355 49th St. N Clearwater FL 33762 United States;X-APPLE-RADIUS=500;X-TITLE=13355 49th St. N:geo:-82.6987963,27.8931702
END:VEVENT
BEGIN:VEVENT
DTSTART;TZID=America/New_York:20240607T150000
DTEND;TZID=America/New_York:20240607T210000
DTSTAMP:20260419T111413
CREATED:20231223T104515Z
LAST-MODIFIED:20240507T182945Z
UID:63061-1717772400-1717794000@www.sportscardinvestor.com
SUMMARY:Bay Area Card Show
DESCRIPTION:
URL:https://www.sportscardinvestor.com/event/bay-area-card-show-2/2024-06-07/
LOCATION:Banquet Masters\, 13355 49th St. N\, Clearwater\, FL\, 33762\, United States
CATEGORIES:Card Shows
GEO:27.8931702;-82.6987963
X-APPLE-STRUCTURED-LOCATION;VALUE=URI;X-ADDRESS=Banquet Masters 13355 49th St. N Clearwater FL 33762 United States;X-APPLE-RADIUS=500;X-TITLE=13355 49th St. N:geo:-82.6987963,27.8931702
END:VEVENT
BEGIN:VEVENT
DTSTART;TZID=America/New_York:20240511T100000
DTEND;TZID=America/New_York:20240511T160000
DTSTAMP:20260419T111413
CREATED:20231223T104515Z
LAST-MODIFIED:20240507T182944Z
UID:63060-1715421600-1715443200@www.sportscardinvestor.com
SUMMARY:Bay Area Card Show
DESCRIPTION:
URL:https://www.sportscardinvestor.com/event/bay-area-card-show-2/2024-05-11/
LOCATION:Banquet Masters\, 13355 49th St. N\, Clearwater\, FL\, 33762\, United States
CATEGORIES:Card Shows
GEO:27.8931702;-82.6987963
X-APPLE-STRUCTURED-LOCATION;VALUE=URI;X-ADDRESS=Banquet Masters 13355 49th St. N Clearwater FL 33762 United States;X-APPLE-RADIUS=500;X-TITLE=13355 49th St. N:geo:-82.6987963,27.8931702
END:VEVENT
BEGIN:VEVENT
DTSTART;TZID=America/New_York:20240510T150000
DTEND;TZID=America/New_York:20240510T210000
DTSTAMP:20260419T111413
CREATED:20231223T104515Z
LAST-MODIFIED:20240507T182941Z
UID:60291-1715353200-1715374800@www.sportscardinvestor.com
SUMMARY:Bay Area Card Show
DESCRIPTION:
URL:https://www.sportscardinvestor.com/event/bay-area-card-show-2/2024-05-10/
LOCATION:Banquet Masters\, 13355 49th St. N\, Clearwater\, FL\, 33762\, United States
CATEGORIES:Card Shows
GEO:27.8931702;-82.6987963
X-APPLE-STRUCTURED-LOCATION;VALUE=URI;X-ADDRESS=Banquet Masters 13355 49th St. N Clearwater FL 33762 United States;X-APPLE-RADIUS=500;X-TITLE=13355 49th St. N:geo:-82.6987963,27.8931702
END:VEVENT
BEGIN:VEVENT
DTSTART;VALUE=DATE:20230414
DTEND;VALUE=DATE:20230415
DTSTAMP:20260419T111413
CREATED:20230330T185159Z
LAST-MODIFIED:20230630T143826Z
UID:52255-1681430400-1681516799@www.sportscardinvestor.com
SUMMARY:Bay Area Card Show
DESCRIPTION:Fri: 3pm-9pm; Sat: 10am-4pm
URL:https://www.sportscardinvestor.com/event/bay-area-card-show/2023-04-14/
LOCATION:Banquet Masters\, 13355 49th St. N\, Clearwater\, FL\, 33762\, United States
CATEGORIES:Card Shows
GEO:27.8931702;-82.6987963
X-APPLE-STRUCTURED-LOCATION;VALUE=URI;X-ADDRESS=Banquet Masters 13355 49th St. N Clearwater FL 33762 United States;X-APPLE-RADIUS=500;X-TITLE=13355 49th St. N:geo:-82.6987963,27.8931702
END:VEVENT
BEGIN:VEVENT
DTSTART;VALUE=DATE:20220514
DTEND;VALUE=DATE:20220516
DTSTAMP:20260419T111413
CREATED:20220420T164426Z
LAST-MODIFIED:20220421T163055Z
UID:39420-1652486400-1652659199@www.sportscardinvestor.com
SUMMARY:Bay Area Sports Card Show
DESCRIPTION:
URL:https://www.sportscardinvestor.com/event/bay-area-sports-card-show/2022-05-14/
LOCATION:Banquet Masters\, 13355 49th St. N\, Clearwater\, FL\, 33762\, United States
CATEGORIES:Card Shows
GEO:27.8931702;-82.6987963
X-APPLE-STRUCTURED-LOCATION;VALUE=URI;X-ADDRESS=Banquet Masters 13355 49th St. N Clearwater FL 33762 United States;X-APPLE-RADIUS=500;X-TITLE=13355 49th St. N:geo:-82.6987963,27.8931702
END:VEVENT
END:VCALENDAR