BEGIN:VCALENDAR
VERSION:2.0
PRODID:-//Sports Card Investor - ECPv6.15.20//NONSGML v1.0//EN
CALSCALE:GREGORIAN
METHOD:PUBLISH
X-WR-CALNAME:Sports Card Investor
X-ORIGINAL-URL:https://www.sportscardinvestor.com
X-WR-CALDESC:Events for Sports Card Investor
REFRESH-INTERVAL;VALUE=DURATION:PT1H
X-Robots-Tag:noindex
X-PUBLISHED-TTL:PT1H
BEGIN:VTIMEZONE
TZID:America/New_York
BEGIN:DAYLIGHT
TZOFFSETFROM:-0500
TZOFFSETTO:-0400
TZNAME:EDT
DTSTART:20210314T070000
END:DAYLIGHT
BEGIN:STANDARD
TZOFFSETFROM:-0400
TZOFFSETTO:-0500
TZNAME:EST
DTSTART:20211107T060000
END:STANDARD
BEGIN:DAYLIGHT
TZOFFSETFROM:-0500
TZOFFSETTO:-0400
TZNAME:EDT
DTSTART:20220313T070000
END:DAYLIGHT
BEGIN:STANDARD
TZOFFSETFROM:-0400
TZOFFSETTO:-0500
TZNAME:EST
DTSTART:20221106T060000
END:STANDARD
BEGIN:DAYLIGHT
TZOFFSETFROM:-0500
TZOFFSETTO:-0400
TZNAME:EDT
DTSTART:20230312T070000
END:DAYLIGHT
BEGIN:STANDARD
TZOFFSETFROM:-0400
TZOFFSETTO:-0500
TZNAME:EST
DTSTART:20231105T060000
END:STANDARD
END:VTIMEZONE
BEGIN:VEVENT
DTSTART;VALUE=DATE:20221125
DTEND;VALUE=DATE:20221127
DTSTAMP:20260424T164631
CREATED:20221013T153144Z
LAST-MODIFIED:20221013T154328Z
UID:47949-1669334400-1669507199@www.sportscardinvestor.com
SUMMARY:Black Friday & Saturday Collector's Show
DESCRIPTION:Show hours: 11-8
URL:https://www.sportscardinvestor.com/event/black-friday-saturday-collectors-show/
LOCATION:Automotive Addiction\, 10450 South State Street\, Sandy\, UT\, 84070\, United States
CATEGORIES:Card Shows
GEO:40.5625889;-111.8947146
X-APPLE-STRUCTURED-LOCATION;VALUE=URI;X-ADDRESS=Automotive Addiction 10450 South State Street Sandy UT 84070 United States;X-APPLE-RADIUS=500;X-TITLE=10450 South State Street:geo:-111.8947146,40.5625889
END:VEVENT
END:VCALENDAR