BEGIN:VCALENDAR
VERSION:2.0
PRODID:-//Sports Card Investor - ECPv6.15.20//NONSGML v1.0//EN
CALSCALE:GREGORIAN
METHOD:PUBLISH
X-WR-CALNAME:Sports Card Investor
X-ORIGINAL-URL:https://www.sportscardinvestor.com
X-WR-CALDESC:Events for Sports Card Investor
REFRESH-INTERVAL;VALUE=DURATION:PT1H
X-Robots-Tag:noindex
X-PUBLISHED-TTL:PT1H
BEGIN:VTIMEZONE
TZID:America/New_York
BEGIN:DAYLIGHT
TZOFFSETFROM:-0500
TZOFFSETTO:-0400
TZNAME:EDT
DTSTART:20210314T070000
END:DAYLIGHT
BEGIN:STANDARD
TZOFFSETFROM:-0400
TZOFFSETTO:-0500
TZNAME:EST
DTSTART:20211107T060000
END:STANDARD
BEGIN:DAYLIGHT
TZOFFSETFROM:-0500
TZOFFSETTO:-0400
TZNAME:EDT
DTSTART:20220313T070000
END:DAYLIGHT
BEGIN:STANDARD
TZOFFSETFROM:-0400
TZOFFSETTO:-0500
TZNAME:EST
DTSTART:20221106T060000
END:STANDARD
BEGIN:DAYLIGHT
TZOFFSETFROM:-0500
TZOFFSETTO:-0400
TZNAME:EDT
DTSTART:20230312T070000
END:DAYLIGHT
BEGIN:STANDARD
TZOFFSETFROM:-0400
TZOFFSETTO:-0500
TZNAME:EST
DTSTART:20231105T060000
END:STANDARD
BEGIN:DAYLIGHT
TZOFFSETFROM:-0500
TZOFFSETTO:-0400
TZNAME:EDT
DTSTART:20240310T070000
END:DAYLIGHT
BEGIN:STANDARD
TZOFFSETFROM:-0400
TZOFFSETTO:-0500
TZNAME:EST
DTSTART:20241103T060000
END:STANDARD
END:VTIMEZONE
BEGIN:VEVENT
DTSTART;TZID=America/New_York:20230212T140000
DTEND;TZID=America/New_York:20230212T170000
DTSTAMP:20260422T073036
CREATED:20230203T214851Z
LAST-MODIFIED:20230210T220130Z
UID:51220-1676210400-1676221200@www.sportscardinvestor.com
SUMMARY:Orange\, CT Collectible Show
DESCRIPTION:9am – 2 pm
URL:https://www.sportscardinvestor.com/event/orange-ct-collectible-show/2023-02-12/
LOCATION:American Legion Post 127\, 630 Grassy Hill Road\, Orange\, CT\, 06477\, United States
CATEGORIES:Card Shows
GEO:41.2811043;-73.041404
X-APPLE-STRUCTURED-LOCATION;VALUE=URI;X-ADDRESS=American Legion Post 127 630 Grassy Hill Road Orange CT 06477 United States;X-APPLE-RADIUS=500;X-TITLE=630 Grassy Hill Road:geo:-73.041404,41.2811043
END:VEVENT
BEGIN:VEVENT
DTSTART;VALUE=DATE:20220508
DTEND;VALUE=DATE:20220509
DTSTAMP:20260422T073036
CREATED:20220420T144747Z
LAST-MODIFIED:20220421T163056Z
UID:39285-1651968000-1652054399@www.sportscardinvestor.com
SUMMARY:Orange Coin & Sports Card Show
DESCRIPTION:
URL:https://www.sportscardinvestor.com/event/orange-coin-sports-card-show/
LOCATION:American Legion Post 127\, 630 Grassy Hill Road\, Orange\, CT\, 06477\, United States
CATEGORIES:Card Shows
GEO:41.2811043;-73.041404
X-APPLE-STRUCTURED-LOCATION;VALUE=URI;X-ADDRESS=American Legion Post 127 630 Grassy Hill Road Orange CT 06477 United States;X-APPLE-RADIUS=500;X-TITLE=630 Grassy Hill Road:geo:-73.041404,41.2811043
END:VEVENT
END:VCALENDAR