BEGIN:VCALENDAR
VERSION:2.0
PRODID:-//Sports Card Investor - ECPv6.15.20//NONSGML v1.0//EN
CALSCALE:GREGORIAN
METHOD:PUBLISH
X-WR-CALNAME:Sports Card Investor
X-ORIGINAL-URL:https://www.sportscardinvestor.com
X-WR-CALDESC:Events for Sports Card Investor
REFRESH-INTERVAL;VALUE=DURATION:PT1H
X-Robots-Tag:noindex
X-PUBLISHED-TTL:PT1H
BEGIN:VTIMEZONE
TZID:America/New_York
BEGIN:DAYLIGHT
TZOFFSETFROM:-0500
TZOFFSETTO:-0400
TZNAME:EDT
DTSTART:20210314T070000
END:DAYLIGHT
BEGIN:STANDARD
TZOFFSETFROM:-0400
TZOFFSETTO:-0500
TZNAME:EST
DTSTART:20211107T060000
END:STANDARD
BEGIN:DAYLIGHT
TZOFFSETFROM:-0500
TZOFFSETTO:-0400
TZNAME:EDT
DTSTART:20220313T070000
END:DAYLIGHT
BEGIN:STANDARD
TZOFFSETFROM:-0400
TZOFFSETTO:-0500
TZNAME:EST
DTSTART:20221106T060000
END:STANDARD
BEGIN:DAYLIGHT
TZOFFSETFROM:-0500
TZOFFSETTO:-0400
TZNAME:EDT
DTSTART:20230312T070000
END:DAYLIGHT
BEGIN:STANDARD
TZOFFSETFROM:-0400
TZOFFSETTO:-0500
TZNAME:EST
DTSTART:20231105T060000
END:STANDARD
END:VTIMEZONE
BEGIN:VEVENT
DTSTART;VALUE=DATE:20220513
DTEND;VALUE=DATE:20220516
DTSTAMP:20260420T043118
CREATED:20220426T184802Z
LAST-MODIFIED:20220426T184802Z
UID:40459-1652400000-1652659199@www.sportscardinvestor.com
SUMMARY:AUTOGRAPHFEST
DESCRIPTION:This event will include over 300 dealer tables for those from all over to come and set up their best cards and memorabilia. You won’t want to miss this opportunity to showcase some of your best stuff and meet some huge athletes and celebrities such as Mike Tyson\, Mariano Rivera\, Roger Clemens\, Allen Iverson\, Goldberg\, and many more! \nThe event will span over 3 different levels of the mall so we can utilize the space appropriately\, but don’t worry\, all dealer tables will be in the same area. Some athletes will be signing on these different levels and there will be events being held on each level to incorporate each one in their own way to make this experience unforgettable.
URL:https://www.sportscardinvestor.com/event/autographfest/
LOCATION:American Dream Mall\, 1 American Dream Wy\, East Rutherford\, NJ\, 07073\, United States
CATEGORIES:Card Shows
GEO:40.8094502;-74.0669268
X-APPLE-STRUCTURED-LOCATION;VALUE=URI;X-ADDRESS=American Dream Mall 1 American Dream Wy East Rutherford NJ 07073 United States;X-APPLE-RADIUS=500;X-TITLE=1 American Dream Wy:geo:-74.0669268,40.8094502
END:VEVENT
END:VCALENDAR