BEGIN:VCALENDAR
VERSION:2.0
PRODID:-//Sports Card Investor - ECPv6.15.20//NONSGML v1.0//EN
CALSCALE:GREGORIAN
METHOD:PUBLISH
X-WR-CALNAME:Sports Card Investor
X-ORIGINAL-URL:https://www.sportscardinvestor.com
X-WR-CALDESC:Events for Sports Card Investor
REFRESH-INTERVAL;VALUE=DURATION:PT1H
X-Robots-Tag:noindex
X-PUBLISHED-TTL:PT1H
BEGIN:VTIMEZONE
TZID:America/New_York
BEGIN:DAYLIGHT
TZOFFSETFROM:-0500
TZOFFSETTO:-0400
TZNAME:EDT
DTSTART:20240310T070000
END:DAYLIGHT
BEGIN:STANDARD
TZOFFSETFROM:-0400
TZOFFSETTO:-0500
TZNAME:EST
DTSTART:20241103T060000
END:STANDARD
BEGIN:DAYLIGHT
TZOFFSETFROM:-0500
TZOFFSETTO:-0400
TZNAME:EDT
DTSTART:20250309T070000
END:DAYLIGHT
BEGIN:STANDARD
TZOFFSETFROM:-0400
TZOFFSETTO:-0500
TZNAME:EST
DTSTART:20251102T060000
END:STANDARD
BEGIN:DAYLIGHT
TZOFFSETFROM:-0500
TZOFFSETTO:-0400
TZNAME:EDT
DTSTART:20260308T070000
END:DAYLIGHT
BEGIN:STANDARD
TZOFFSETFROM:-0400
TZOFFSETTO:-0500
TZNAME:EST
DTSTART:20261101T060000
END:STANDARD
END:VTIMEZONE
BEGIN:VEVENT
DTSTART;TZID=America/New_York:20251221T100000
DTEND;TZID=America/New_York:20251221T160000
DTSTAMP:20260421T213727
CREATED:20251114T172531Z
LAST-MODIFIED:20251114T172531Z
UID:65184-1766311200-1766332800@www.sportscardinvestor.com
SUMMARY:NEW JERSEY SPORTS CARD CONVENTION
DESCRIPTION:
URL:https://www.sportscardinvestor.com/event/new-jersey-sports-card-convention-2/2025-12-21/
LOCATION:The Event Center at iPA\, 104 Schanck Rd\, Freehold\, NJ\, 07728
CATEGORIES:Card Shows
ORGANIZER;CN="Savannah Beyer":MAILTO:savannahb@iplayamerica.com
GEO:40.239888;-74.2804629
X-APPLE-STRUCTURED-LOCATION;VALUE=URI;X-ADDRESS=The Event Center at iPA 104 Schanck Rd Freehold NJ 07728;X-APPLE-RADIUS=500;X-TITLE=104 Schanck Rd:geo:-74.2804629,40.239888
END:VEVENT
BEGIN:VEVENT
DTSTART;TZID=America/New_York:20251220T100000
DTEND;TZID=America/New_York:20251220T180000
DTSTAMP:20260421T213727
CREATED:20251114T172531Z
LAST-MODIFIED:20251114T172531Z
UID:65182-1766224800-1766253600@www.sportscardinvestor.com
SUMMARY:NEW JERSEY SPORTS CARD CONVENTION
DESCRIPTION:
URL:https://www.sportscardinvestor.com/event/new-jersey-sports-card-convention-2/2025-12-20/
LOCATION:The Event Center at iPA\, 104 Schanck Rd\, Freehold\, NJ\, 07728
CATEGORIES:Card Shows
ORGANIZER;CN="Savannah Beyer":MAILTO:savannahb@iplayamerica.com
GEO:40.239888;-74.2804629
X-APPLE-STRUCTURED-LOCATION;VALUE=URI;X-ADDRESS=The Event Center at iPA 104 Schanck Rd Freehold NJ 07728;X-APPLE-RADIUS=500;X-TITLE=104 Schanck Rd:geo:-74.2804629,40.239888
END:VEVENT
END:VCALENDAR