BEGIN:VCALENDAR
VERSION:2.0
PRODID:-//Sports Card Investor - ECPv6.15.20//NONSGML v1.0//EN
CALSCALE:GREGORIAN
METHOD:PUBLISH
X-ORIGINAL-URL:https://www.sportscardinvestor.com
X-WR-CALDESC:Events for Sports Card Investor
REFRESH-INTERVAL;VALUE=DURATION:PT1H
X-Robots-Tag:noindex
X-PUBLISHED-TTL:PT1H
BEGIN:VTIMEZONE
TZID:America/New_York
BEGIN:DAYLIGHT
TZOFFSETFROM:-0500
TZOFFSETTO:-0400
TZNAME:EDT
DTSTART:20220313T070000
END:DAYLIGHT
BEGIN:STANDARD
TZOFFSETFROM:-0400
TZOFFSETTO:-0500
TZNAME:EST
DTSTART:20221106T060000
END:STANDARD
BEGIN:DAYLIGHT
TZOFFSETFROM:-0500
TZOFFSETTO:-0400
TZNAME:EDT
DTSTART:20230312T070000
END:DAYLIGHT
BEGIN:STANDARD
TZOFFSETFROM:-0400
TZOFFSETTO:-0500
TZNAME:EST
DTSTART:20231105T060000
END:STANDARD
BEGIN:DAYLIGHT
TZOFFSETFROM:-0500
TZOFFSETTO:-0400
TZNAME:EDT
DTSTART:20240310T070000
END:DAYLIGHT
BEGIN:STANDARD
TZOFFSETFROM:-0400
TZOFFSETTO:-0500
TZNAME:EST
DTSTART:20241103T060000
END:STANDARD
END:VTIMEZONE
BEGIN:VEVENT
DTSTART;VALUE=DATE:20230602
DTEND;VALUE=DATE:20230605
DTSTAMP:20260419T133112
CREATED:20230130T144650Z
LAST-MODIFIED:20230130T144650Z
UID:51020-1685664000-1685923199@www.sportscardinvestor.com
SUMMARY:Columbus Sports Cards & Autograph Show
DESCRIPTION:Show hours: \nFriday\, June 2: 4-9 \nSaturday\, June 3: 10-5 \nSunday\, June 4: 10-4
URL:https://www.sportscardinvestor.com/event/columbus-sports-cards-autograph-show/
LOCATION:Ohio Expo Center & State Fair\, 717 East 17th Avenue\, Columbus\, OH\, 43211\, United States
CATEGORIES:Card Shows
ORGANIZER;CN="Mike Wilder":MAILTO:mikew@wildersideofsports.com
GEO:40.0030696;-82.9917519
X-APPLE-STRUCTURED-LOCATION;VALUE=URI;X-ADDRESS=Ohio Expo Center & State Fair 717 East 17th Avenue Columbus OH 43211 United States;X-APPLE-RADIUS=500;X-TITLE=717 East 17th Avenue:geo:-82.9917519,40.0030696
END:VEVENT
END:VCALENDAR