BEGIN:VCALENDAR
VERSION:2.0
PRODID:-//Sports Card Investor - ECPv6.15.20//NONSGML v1.0//EN
CALSCALE:GREGORIAN
METHOD:PUBLISH
X-WR-CALNAME:Sports Card Investor
X-ORIGINAL-URL:https://www.sportscardinvestor.com
X-WR-CALDESC:Events for Sports Card Investor
REFRESH-INTERVAL;VALUE=DURATION:PT1H
X-Robots-Tag:noindex
X-PUBLISHED-TTL:PT1H
BEGIN:VTIMEZONE
TZID:America/New_York
BEGIN:DAYLIGHT
TZOFFSETFROM:-0500
TZOFFSETTO:-0400
TZNAME:EDT
DTSTART:20240310T070000
END:DAYLIGHT
BEGIN:STANDARD
TZOFFSETFROM:-0400
TZOFFSETTO:-0500
TZNAME:EST
DTSTART:20241103T060000
END:STANDARD
BEGIN:DAYLIGHT
TZOFFSETFROM:-0500
TZOFFSETTO:-0400
TZNAME:EDT
DTSTART:20250309T070000
END:DAYLIGHT
BEGIN:STANDARD
TZOFFSETFROM:-0400
TZOFFSETTO:-0500
TZNAME:EST
DTSTART:20251102T060000
END:STANDARD
BEGIN:DAYLIGHT
TZOFFSETFROM:-0500
TZOFFSETTO:-0400
TZNAME:EDT
DTSTART:20260308T070000
END:DAYLIGHT
BEGIN:STANDARD
TZOFFSETFROM:-0400
TZOFFSETTO:-0500
TZNAME:EST
DTSTART:20261101T060000
END:STANDARD
END:VTIMEZONE
BEGIN:VEVENT
DTSTART;TZID=America/New_York:20250531T090000
DTEND;TZID=America/New_York:20250531T140000
DTSTAMP:20260420T141424
CREATED:20250214T163613Z
LAST-MODIFIED:20250214T163613Z
UID:64682-1748682000-1748700000@www.sportscardinvestor.com
SUMMARY:Triple Crown Promotion Card Show
DESCRIPTION:Tables: $60
URL:https://www.sportscardinvestor.com/event/triple-crown-promotion-card-show/2025-05-31/
LOCATION:American Legion Post 148\, U.S. 130 895\, East Windsor\, NJ\, 08520\, United States
CATEGORIES:Card Shows
ORGANIZER;CN="Marc Linder":MAILTO:triplecrownpromotion@gmail.com
GEO:40.2534072;-74.5562693
X-APPLE-STRUCTURED-LOCATION;VALUE=URI;X-ADDRESS=American Legion Post 148 U.S. 130 895 East Windsor NJ 08520 United States;X-APPLE-RADIUS=500;X-TITLE=U.S. 130 895:geo:-74.5562693,40.2534072
END:VEVENT
BEGIN:VEVENT
DTSTART;TZID=America/New_York:20250419T090000
DTEND;TZID=America/New_York:20250419T140000
DTSTAMP:20260420T141424
CREATED:20250214T163613Z
LAST-MODIFIED:20250214T163613Z
UID:64681-1745053200-1745071200@www.sportscardinvestor.com
SUMMARY:Triple Crown Promotion Card Show
DESCRIPTION:Tables: $60
URL:https://www.sportscardinvestor.com/event/triple-crown-promotion-card-show/2025-04-19/
LOCATION:American Legion Post 148\, U.S. 130 895\, East Windsor\, NJ\, 08520\, United States
CATEGORIES:Card Shows
ORGANIZER;CN="Marc Linder":MAILTO:triplecrownpromotion@gmail.com
GEO:40.2534072;-74.5562693
X-APPLE-STRUCTURED-LOCATION;VALUE=URI;X-ADDRESS=American Legion Post 148 U.S. 130 895 East Windsor NJ 08520 United States;X-APPLE-RADIUS=500;X-TITLE=U.S. 130 895:geo:-74.5562693,40.2534072
END:VEVENT
BEGIN:VEVENT
DTSTART;TZID=America/New_York:20250308T090000
DTEND;TZID=America/New_York:20250308T140000
DTSTAMP:20260420T141424
CREATED:20250214T163613Z
LAST-MODIFIED:20250214T163613Z
UID:64680-1741424400-1741442400@www.sportscardinvestor.com
SUMMARY:Triple Crown Promotion Card Show
DESCRIPTION:Tables: $60
URL:https://www.sportscardinvestor.com/event/triple-crown-promotion-card-show/2025-03-08/
LOCATION:American Legion Post 148\, U.S. 130 895\, East Windsor\, NJ\, 08520\, United States
CATEGORIES:Card Shows
ORGANIZER;CN="Marc Linder":MAILTO:triplecrownpromotion@gmail.com
GEO:40.2534072;-74.5562693
X-APPLE-STRUCTURED-LOCATION;VALUE=URI;X-ADDRESS=American Legion Post 148 U.S. 130 895 East Windsor NJ 08520 United States;X-APPLE-RADIUS=500;X-TITLE=U.S. 130 895:geo:-74.5562693,40.2534072
END:VEVENT
BEGIN:VEVENT
DTSTART;TZID=America/New_York:20250301T090000
DTEND;TZID=America/New_York:20250301T140000
DTSTAMP:20260420T141424
CREATED:20250211T160834Z
LAST-MODIFIED:20250211T160834Z
UID:64670-1740819600-1740837600@www.sportscardinvestor.com
SUMMARY:Triple Crown Promotion Sports Card Show
DESCRIPTION:
URL:https://www.sportscardinvestor.com/event/triple-crown-promotion-sports-card-show-2/
LOCATION:Philo Lodge\, 120 Old Bridge Turnpike\, South River\, NJ\, 08882\, United States
CATEGORIES:Card Shows
ORGANIZER;CN="Marc Linder":MAILTO:triplecrownpromotion@gmail.com
GEO:40.4343482;-74.3837406
X-APPLE-STRUCTURED-LOCATION;VALUE=URI;X-ADDRESS=Philo Lodge 120 Old Bridge Turnpike South River NJ 08882 United States;X-APPLE-RADIUS=500;X-TITLE=120 Old Bridge Turnpike:geo:-74.3837406,40.4343482
END:VEVENT
BEGIN:VEVENT
DTSTART;TZID=America/New_York:20250222T083000
DTEND;TZID=America/New_York:20250222T130000
DTSTAMP:20260420T141424
CREATED:20250211T160713Z
LAST-MODIFIED:20250211T160713Z
UID:64668-1740213000-1740229200@www.sportscardinvestor.com
SUMMARY:Triple Crown Promotion Sports Card Show
DESCRIPTION:
URL:https://www.sportscardinvestor.com/event/triple-crown-promotion-sports-card-show/
LOCATION:American Legion Post 148\, U.S. 130 895\, East Windsor\, NJ\, 08520\, United States
CATEGORIES:Card Shows
ORGANIZER;CN="Marc Linder":MAILTO:triplecrownpromotion@gmail.com
GEO:40.2534072;-74.5562693
X-APPLE-STRUCTURED-LOCATION;VALUE=URI;X-ADDRESS=American Legion Post 148 U.S. 130 895 East Windsor NJ 08520 United States;X-APPLE-RADIUS=500;X-TITLE=U.S. 130 895:geo:-74.5562693,40.2534072
END:VEVENT
BEGIN:VEVENT
DTSTART;TZID=America/New_York:20250125T090000
DTEND;TZID=America/New_York:20250125T140000
DTSTAMP:20260420T141424
CREATED:20241217T195355Z
LAST-MODIFIED:20241217T195355Z
UID:64212-1737795600-1737813600@www.sportscardinvestor.com
SUMMARY:Triple Crown Sports Cards\, Memorabilia & Pokemon Show
DESCRIPTION:
URL:https://www.sportscardinvestor.com/event/triple-crown-sports-cards-memorabilia-pokemon-show/
LOCATION:American Legion Post 148\, U.S. 130 895\, East Windsor\, NJ\, 08520\, United States
ORGANIZER;CN="Marc Linder":MAILTO:triplecrownpromotion@gmail.com
GEO:40.2534072;-74.5562693
X-APPLE-STRUCTURED-LOCATION;VALUE=URI;X-ADDRESS=American Legion Post 148 U.S. 130 895 East Windsor NJ 08520 United States;X-APPLE-RADIUS=500;X-TITLE=U.S. 130 895:geo:-74.5562693,40.2534072
END:VEVENT
END:VCALENDAR